BEGIN:VCALENDAR
VERSION:2.0
PRODID:-//Virginia Department of Forestry - ECPv5.6.0//NONSGML v1.0//EN
CALSCALE:GREGORIAN
METHOD:PUBLISH
X-WR-CALNAME:Virginia Department of Forestry
X-ORIGINAL-URL:https://dof.virginia.gov
X-WR-CALDESC:Events for Virginia Department of Forestry
BEGIN:VTIMEZONE
TZID:America/New_York
BEGIN:DAYLIGHT
TZOFFSETFROM:-0500
TZOFFSETTO:-0400
TZNAME:EDT
DTSTART:20210314T070000
END:DAYLIGHT
BEGIN:STANDARD
TZOFFSETFROM:-0400
TZOFFSETTO:-0500
TZNAME:EST
DTSTART:20211107T060000
END:STANDARD
END:VTIMEZONE
BEGIN:VEVENT
DTSTART;TZID=America/New_York:20210712T090000
DTEND;TZID=America/New_York:20210716T123000
DTSTAMP:20210505T175726
CREATED:20210303T222431Z
LAST-MODIFIED:20210428T160616Z
UID:7106-1626080400-1626438600@dof.virginia.gov
SUMMARY:Virginia Academy of Natural Resources
DESCRIPTION:In light of Camp Woods and Wildlife cancellation to ensure the safety of campers and staff\, the Virginia Department of Forestry and the Virginia Association of Soil and Water Conservation Districts are partnering to offer teens a new experience: the Virginia Academy of Natural Resources. This hybrid learning opportunity will include virtual presentations from 9:00 AM to 12:15 PM daily\, self-guided field explorations in the afternoons\, small group work on a project\, and a mock Envirothon. \nCurrent 8th-12th graders may apply at https://forms.gle/9mRUtyoaPRvFQY2N9. Once notified of acceptance\, campers will receive a schedule and materials for completing their daily field studies. The only cost for this week of fun and learning is $25 to cover materials. \nApplications will be accepted through May 15. Questions? Please contact Ellen Powell at ellen.powell@dof.virginia.gov.
URL:https://dof.virginia.gov/event/virginia-academy-of-natural-resources/
LOCATION:Virtual
CATEGORIES:Education and Recreation
ORGANIZER;CN="Ellen%20Powell%2C%20Virginia%20Department%20of%20Forestry":MAILTO:ellen.powell@dof.virginia.gov
END:VEVENT
END:VCALENDAR