{"text_format":"3","workbook":"xlsx","n_sheets":19,"sheets":["Version","Release notes","Instructions- mgmt planning","Instructions- CREP Re-enroll","Blank Tally","Data Entry","OVERSTORY CALC","REGENERATION CALC","OTHER FACTORS CALC","Data Summaries","Quick Summaries","Species Lists","Species Codes OLD","Sp code with shrub box","Species Codes","Stocking Charts","Password","#PlotsNeeded","Weights"],"not_rendered":{"images":5,"defined_names":6,"comments":2},"read":"whole","date_system":"1900"}

{"sheet":"Version","index":0,"n_rows":0,"n_cols":0,"rows_kept":0}

{"sheet":"Release notes","index":1,"n_rows":8,"n_cols":3,"rows_kept":8,"hidden":true}
["The Stand Assessment Tool was developed from the Hardwood Assessment Tool for Forest Management Academy 2023.  "]
["It is being recommended for use by field staff to standardize data gathering and summarize data for management plans."]
["The Watershed team contributed to development of the Stand Assessment Tool primarily for summarizing data for CREP re-enrollment."]
["Updates:"]
["SAT_v1_August2023",null,"First edition of SAT.  Modified from Hardwood Assessment Tool"]
["SAT_v1_September2023",null,"Datat Entry- Fixed Tree Class data validation.  "]
[null,null,"Overstory Calc- Fixed formula for summing plots with 0 trees so overall St.Dev and CV formulas are correct."]
[null,null,"Regeneration Calc- Fixed per plot stocking formula so plots with 0 trees are not ignored."]

{"sheet":"Instructions- mgmt planning","index":2,"n_rows":50,"n_cols":14,"rows_kept":50,"merged":[[0,1,0,14],[4,2,4,14],[5,3,5,14],[6,2,6,9],[8,2,8,14],[9,3,9,14],[10,3,10,14],[11,3,11,14],[12,3,12,14],[14,2,14,14],[15,3,15,13],[16,4,16,14],[17,3,17,14],[18,3,18,14],[19,4,19,14],[22,2,22,14],[23,3,23,9],[24,4,24,13],[25,4,25,11],[26,3,26,11],[27,4,27,14],[28,4,28,14],[29,3,29,14],[30,4,30,14],[33,2,33,14],[34,4,34,14],[36,2,36,14],[38,2,38,14],[39,4,39,14],[41,2,41,14],[43,2,43,14],[45,2,45,14],[46,3,46,14],[47,3,47,14],[49,2,49,14],[51,2,51,14],[53,2,53,15]]}
[null,"Stand Assessment Tool Instructions"]
[]
[null,"NOTE: On all sheets in this workbook, cells highlighted in ",{"$nulls":6},"yellow","are user input and cells in ",null,null,"green","are outputs."]
[]
[null,1,"Sample Intensity: minimum of 5 plots per stand.  Do more plots if necessary to capture variability within the stand"]
[null,null,"→","All measurements / estimates use the same plot center."]
[null,null,"To calculate required number of plots, enter stand acreage here:",{"$nulls":8},"# Plots:",{"$f":"IF(K7<>\"\",VLOOKUP(K7,'#PlotsNeeded'!F1:G320,2),\"\")","v":""}]
[]
[null,2,"Plot Layout: use professional judgement to stratify property into stands if appropriate and sample accordingly. "]
[null,null,"→","Keep in mind the definition of stands as \"a contiguous group of trees sufficiently uniform in species "]
[{"$nulls":3},"composition, arrangement of age classes, and condition to be a distinguishable unit\"."]
[null,null,"→","Err on the side of splitting during sampling with the intention of lumping \"stands\" back together later"]
[{"$nulls":3},"if treatments will be the same."]
[]
[null,3,"Overstory: all stems over 1.5 inches in dbh.  Species incapable of reaching the main canopy (e.g. dogwood, redbud) are optional to tally, but must be tallied on BOTH Overstory and Regeneration plots, or NEITHER."]
[null,null,"→","10-factor prism is recommended. "]
[{"$nulls":3},"→","Document the prism factor on the tally sheet."]
[null,null,"→","Tally by species, using the species codes in the \"Species Codes\" spreadsheet."]
[null,null,"→","For every species tallied, record the highest level crown class (labeled TC for Tree Class) occupied by that species on the plot."]
[{"$nulls":3},"→","D =  Dominant; C = Co-dominant; I = Intermediate; S= Suppressed"]
[null,null,"→","Tally every tree as an individual that is \"in\" at dbh."]
[]
[null,4,"Regeneration: acceptable and other species / stems as described below."]
[null,null,"→","Suggest .02 (1/50) acre plot - approximate 16.6 ft radius."]
[{"$nulls":3},"→","Other plot radii:  1/20 acre - 26.3 ft, 1/100 acre - 11.8 ft, 1/1000 acre - 3.7 ft."]
[{"$nulls":3},"→","Document the plot radius on the tally sheet."]
[null,null,"→","Tally by species, using the species codes in the \"Species Codes\" spreadsheet."]
[{"$nulls":3},"→","Use the table on the tally sheet to identify what seedlings are big enough to be counted."]
[{"$nulls":3},"→","Include any stems less than 16 inches in diameter.  Note: some stems that were counted on the prism plot could be tallied a second time as regeneration (potential stump sprouts)"]
[null,null,"→","For every species tallied, record the highest level crown class (labeled TC for Tree Class) occupied by that species on the plot."]
[{"$nulls":3},"→","D =  Dominant; C = Co-dominant; I = Intermediate; S= Suppressed"]
[null,null,"→","Tally every tree with an individual stump if the site were clearcut."]
[]
[null,5,"Other Limiting Factors: Note conditions that are likely to impact achieving the desired stand conditions. "]
[{"$nulls":3},"→","Plot area is undefined but must relate only to the plot center in question (i.e. cannot overlap with other plots)."]
[]
[null,6,"Comments:  Note any additional relevant information (e.g. presence of abundant oak regeneration too small to be tallied in the regeneration plot)."]
[]
[null,7,"Tally Sheets:  Use the \"Blank Tally\" spreadsheet to print out field tally sheets for this stand."]
[{"$nulls":3},"→","TIP: If using multiple tally sheets, consider copying the species order from one sheet to the next, for both the overstory and regeneration list, to make data entry easier to complete."]
[]
[null,8,"Data Entry:  Enter the plot tallies for the prism plot, fixed radius plots, and other factors into the \"Data Entry\" spreadsheet.  Be sure to enter the number of plots, prism factor, and plot radius, as these are required in the data summary formulas (step 9 below)."]
[]
[null,9,"Data Summary:  The data will be automatically summarized on the \"Data Summaries\" spreadsheet."]
[]
[null,10,"Species Lists: The species list and ranking will be used as the basis for the criteria ratings (step 11, below)."]
[null,null,"→","Default species lists and rankings are provided for three landowner objectives.  If necessary, the user can modify the species ranking based on site conditions for this stand.  (For example, on a dry ridge site, chestnut oak may be an optimal species rather than an acceptable species.)"]
[null,null,"→","After data entry, refer to the automatically-generated \"Still Need To Classify\" species tallied on Sample Plots and add any that not already included to the appropriate ranking columns in the default list."]
[]
[null,11,"Save the final excel file for the individual stand as documentation.  Use a unique file name that includes tract # and stand id - e.g. \"SAT - BOT21001(d).xlsx\""]

{"sheet":"Instructions- CREP Re-enroll","index":3,"n_rows":45,"n_cols":14,"rows_kept":45,"merged":[[0,1,0,14],[4,2,4,14],[5,3,5,14],[6,2,6,9],[7,3,7,14],[10,2,10,14],[12,3,12,14],[15,2,15,14],[16,3,16,9],[17,4,17,13],[18,4,18,11],[19,3,19,11],[23,5,23,13],[24,3,24,13],[25,4,25,14],[27,2,27,14],[34,2,34,14],[36,2,36,14],[38,2,38,14],[40,2,40,14],[41,3,41,14],[42,3,42,14],[44,2,44,14]]}
[null,"CREP Re-enrollment Instructions"]
[]
[null,"NOTE: On all sheets in this workbook, cells highlighted in ",{"$nulls":6},"yellow","are user input and cells in ",null,null,"green","are outputs."]
[]
[null,1,"Sample Intensity: minimum of 5 plots per CREP area.  Do more plots if necessary to capture variability within the CREP area."]
[null,null,"→","All measurements / estimates use the same plot center."]
[null,null,"To calculate required number of plots, enter acreage here:",{"$nulls":8},"# Plots:",{"$f":"IF(K7<>\"\",VLOOKUP(K7,'#PlotsNeeded'!S1:T320,2),\"\")","v":""}]
[null,null,"→","If the CREP area includes multiple fields, treat the whole planting area as one for determining the number of plots."]
[null,null,"→","You can complete additional plots to more accurately capture the variability in the fields."]
[]
[null,2,"Plot Layout: use professional judgement to stratify if appropriate and sample accordingly. "]
[null,null,"→","Each numbered field should have at least one plot, but larger fields may need more."]
[]
[null,3,"Overstory: Not necessary for CREP Re-enrollment data collection.  "]
[]
[null,4,"Regeneration: acceptable and other species / stems as described below."]
[null,null,"→","Suggest 0.01 (1/100) acre plot - approximate 11.8 ft radius."]
[{"$nulls":3},"→","Other plot radii:  1/20 acre - 26.3 ft, 1/50 acre - 16.6 ft, 1/1000 acre - 3.7 ft."]
[{"$nulls":3},"→","Document the plot radius on the tally sheet."]
[null,null,"→","Tally by species, using the species codes in the \"Species Codes\" spreadsheet."]
[{"$nulls":3},"→","Tally all seedlings over 2ft in height."]
[{"$nulls":3},"→","Include both trees and shrubs"]
[{"$nulls":3},"→","Optional: denote planted trees/shrubs by adding a \"P\" after the species code for planted seedlings ."]
[{"$nulls":4},"→","This will allow you to manually calculate the percentage of planted and naturally regenerated seedlings."]
[null,null,"→","Optional: For every species tallied, record the highest level crown class (labeled TC for Tree Class) occupied by that species on the plot."]
[{"$nulls":3},"→","D =  Dominant; C = Co-dominant; I = Intermediate; S= Suppressed"]
[]
[null,5,"Other Limiting Factors: Note conditions that are likely to impact achieving the desired stand conditions. "]
[null,null,"→","Plot area is undefined but must relate only to the plot center in question (i.e. cannot overlap with other plots)."]
[null,null,"→","Use a \"1\" to indicate presence."]
[null,null,"→","For invasive species, estimate the percent cover of the plot and record as a decimal."]
[{"$nulls":3},"→","For example, 0.1 = 10%; 0.6 = 60%; 1.0 = 100%."]
[{"$nulls":3},"→","This result in the data summaries page displaying the average percent cover of invasive species."]
[]
[null,6,"Comments:  Note any additional relevant information (e.g. presence of abundant oak regeneration too small to be tallied in the regeneration plot)."]
[]
[null,7,"Data Entry:  Enter the plot tallies for the fixed radius plots and other factors into the \"Data Entry\" spreadsheet.  Be sure to enter the number of plots, plot radius, and planting density as these are required in the data summary formulas (step 8 below)."]
[]
[null,8,"Data Summary:  The data will be automatically summarized on the \"Data Summaries\" spreadsheet."]
[]
[null,9,"Species Lists: Optional "]
[null,null,"→","Default species lists and rankings are provided for three landowner objectives.  If necessary, the user can modify the species ranking based on site conditions for this CREP area.  (For example, on a dry ridge site, chestnut oak may be an optimal species rather than an acceptable species.)"]
[null,null,"→","After data entry, refer to the automatically-generated \"Still Need To Classify\" species tallied on Sample Plots and add any that not already included to the appropriate ranking columns in the default list."]
[]
[null,10,"Save the final excel file for the CREP area as documentation.  Use a unique file name that includes tract # and stand id - e.g. \"SAT - BOT21001(d).xlsx\""]

{"sheet":"Blank Tally","index":4,"n_rows":267,"n_cols":22,"rows_kept":267,"merged":[[0,0,0,1],[0,2,0,4],[0,5,0,6],[0,7,0,9],[0,10,0,12],[0,13,0,15],[0,16,0,18],[0,19,0,21],[1,0,1,1],[1,2,1,4],[1,5,1,6],[1,7,1,9],[1,10,1,12],[1,13,1,16],[1,17,1,18],[1,19,1,21],[2,0,2,1],[2,2,2,3],[2,4,2,5],[2,6,2,7],[2,8,2,9],[2,10,2,11],[2,12,2,13],[2,14,2,15],[2,16,2,17],[2,18,2,19],[2,20,2,21],[3,0,3,21],[4,0,21,0],[22,0,22,21],[23,0,40,0],[41,0,41,21],[42,0,42,1],[42,2,42,3],[42,4,42,5],[42,6,42,7],[42,8,42,9],[42,10,42,11],[42,12,42,13],[42,14,42,15],[42,16,42,17],[42,18,42,19],[42,20,42,21],[43,0,43,1],[43,2,43,3],[43,4,43,5],[43,6,43,7],[43,8,43,9],[43,10,43,11],[43,12,43,13],[43,14,43,15],[43,16,43,17],[43,18,43,19],[43,20,43,21],[44,0,44,1],[44,2,44,3],[44,4,44,5],[44,6,44,7],[44,8,44,9],[44,10,44,11],[44,12,44,13],[44,14,44,15],[44,16,44,17],[44,18,44,19],[44,20,44,21],[45,0,45,1],[45,2,45,3],[45,4,45,5],[45,6,45,7],[45,8,45,9],[45,10,45,11],[45,12,45,13],[45,14,45,15],[45,16,45,17],[45,18,45,19],[45,20,45,21],[46,0,46,1],[46,2,46,3],[46,4,46,5],[46,6,46,7],[46,8,46,9],[46,10,46,11],[46,12,46,13],[46,14,46,15],[46,16,46,17],[46,18,46,19],[46,20,46,21],[47,0,47,1],[47,2,47,3],[47,4,47,5],[47,6,47,7],[47,8,47,9],[47,10,47,11],[47,12,47,13],[47,14,47,15],[47,16,47,17],[47,18,47,19],[47,20,47,21],[48,2,48,13],[49,2,49,5],[49,6,49,9],[49,10,49,13],[49,16,49,18],[50,2,50,5],[50,6,50,9],[50,10,50,13],[51,2,51,5],[51,6,51,9],[51,10,51,13],[52,2,52,5],[52,6,52,9],[52,10,52,13],[53,2,53,5],[53,6,53,9],[53,10,53,13],[54,2,54,5],[54,6,54,9],[54,10,54,13],[55,0,55,1],[55,2,55,3],[55,4,55,5],[55,6,55,7],[55,8,55,9],[55,10,55,11],[55,12,55,13],[55,14,55,15],[55,16,55,17],[55,18,55,19],[55,20,55,21],[56,0,56,21],[57,0,74,0],[75,0,75,21],[76,0,93,0],[94,0,94,21],[95,0,95,1],[95,2,95,3],[95,4,95,5],[95,6,95,7],[95,8,95,9],[95,10,95,11],[95,12,95,13],[95,14,95,15],[95,16,95,17],[95,18,95,19],[95,20,95,21],[96,0,96,1],[96,2,96,3],[96,4,96,5],[96,6,96,7],[96,8,96,9],[96,10,96,11],[96,12,96,13],[96,14,96,15],[96,16,96,17],[96,18,96,19],[96,20,96,21],[97,0,97,1],[97,2,97,3],[97,4,97,5],[97,6,97,7],[97,8,97,9],[97,10,97,11],[97,12,97,13],[97,14,97,15],[97,16,97,17],[97,18,97,19],[97,20,97,21],[98,0,98,1],[98,2,98,3],[98,4,98,5],[98,6,98,7],[98,8,98,9],[98,10,98,11],[98,12,98,13],[98,14,98,15],[98,16,98,17],[98,18,98,19],[98,20,98,21],[99,0,99,1],[99,2,99,3],[99,4,99,5],[99,6,99,7],[99,8,99,9],[99,10,99,11],[99,12,99,13],[99,14,99,15],[99,16,99,17],[99,18,99,19],[99,20,99,21],[100,0,100,1],[100,2,100,3],[100,4,100,5],[100,6,100,7],[100,8,100,9],[100,10,100,11],[100,12,100,13],[100,14,100,15],[100,16,100,17],[100,18,100,19],[100,20,100,21],[101,2,101,13],[102,2,102,5],[102,6,102,9],[102,10,102,13],[102,16,102,18],[103,2,103,5],[103,6,103,9],[103,10,103,13],[104,2,104,5],[104,6,104,9],[104,10,104,13],[105,2,105,5],[105,6,105,9],[105,10,105,13],[106,2,106,5],[106,6,106,9],[106,10,106,13],[107,2,107,5],[107,6,107,9],[107,10,107,13],[108,0,108,1],[108,2,108,3],[108,4,108,5],[108,6,108,7],[108,8,108,9],[108,10,108,11],[108,12,108,13],[108,14,108,15],[108,16,108,17],[108,18,108,19],[108,20,108,21],[109,0,109,21],[110,0,127,0],[128,0,128,21],[129,0,146,0],[147,0,147,21],[148,0,148,1],[148,2,148,3],[148,4,148,5],[148,6,148,7],[148,8,148,9],[148,10,148,11],[148,12,148,13],[148,14,148,15],[148,16,148,17],[148,18,148,19],[148,20,148,21],[149,0,149,1],[149,2,149,3],[149,4,149,5],[149,6,149,7],[149,8,149,9],[149,10,149,11],[149,12,149,13],[149,14,149,15],[149,16,149,17],[149,18,149,19],[149,20,149,21],[150,0,150,1],[150,2,150,3],[150,4,150,5],[150,6,150,7],[150,8,150,9],[150,10,150,11],[150,12,150,13],[150,14,150,15],[150,16,150,17],[150,18,150,19],[150,20,150,21],[151,0,151,1],[151,2,151,3],[151,4,151,5],[151,6,151,7],[151,8,151,9],[151,10,151,11],[151,12,151,13],[151,14,151,15],[151,16,151,17],[151,18,151,19],[151,20,151,21],[152,0,152,1],[152,2,152,3],[152,4,152,5],[152,6,152,7],[152,8,152,9],[152,10,152,11],[152,12,152,13],[152,14,152,15],[152,16,152,17],[152,18,152,19],[152,20,152,21],[153,0,153,1],[153,2,153,3],[153,4,153,5],[153,6,153,7],[153,8,153,9],[153,10,153,11],[153,12,153,13],[153,14,153,15],[153,16,153,17],[153,18,153,19],[153,20,153,21],[154,2,154,13],[155,2,155,5],[155,6,155,9],[155,10,155,13],[155,16,155,18],[156,2,156,5],[156,6,156,9],[156,10,156,13],[157,2,157,5],[157,6,157,9],[157,10,157,13],[158,2,158,5],[158,6,158,9],[158,10,158,13],[159,2,159,5],[159,6,159,9],[159,10,159,13],[160,2,160,5],[160,6,160,9],[160,10,160,13],[161,0,161,1],[161,2,161,3],[161,4,161,5],[161,6,161,7],[161,8,161,9],[161,10,161,11],[161,12,161,13],[161,14,161,15],[161,16,161,17],[161,18,161,19],[161,20,161,21],[162,0,162,21],[163,0,180,0],[181,0,181,21],[182,0,199,0],[200,0,200,21],[201,0,201,1],[201,2,201,3],[201,4,201,5],[201,6,201,7],[201,8,201,9],[201,10,201,11],[201,12,201,13],[201,14,201,15],[201,16,201,17],[201,18,201,19],[201,20,201,21],[202,0,202,1],[202,2,202,3],[202,4,202,5],[202,6,202,7],[202,8,202,9],[202,10,202,11],[202,12,202,13],[202,14,202,15],[202,16,202,17],[202,18,202,19],[202,20,202,21],[203,0,203,1],[203,2,203,3],[203,4,203,5],[203,6,203,7],[203,8,203,9],[203,10,203,11],[203,12,203,13],[203,14,203,15],[203,16,203,17],[203,18,203,19],[203,20,203,21],[204,0,204,1],[204,2,204,3],[204,4,204,5],[204,6,204,7],[204,8,204,9],[204,10,204,11],[204,12,204,13],[204,14,204,15],[204,16,204,17],[204,18,204,19],[204,20,204,21],[205,0,205,1],[205,2,205,3],[205,4,205,5],[205,6,205,7],[205,8,205,9],[205,10,205,11],[205,12,205,13],[205,14,205,15],[205,16,205,17],[205,18,205,19],[205,20,205,21],[206,0,206,1],[206,2,206,3],[206,4,206,5],[206,6,206,7],[206,8,206,9],[206,10,206,11],[206,12,206,13],[206,14,206,15],[206,16,206,17],[206,18,206,19],[206,20,206,21],[207,2,207,13],[208,2,208,5],[208,6,208,9],[208,10,208,13],[208,16,208,18],[209,2,209,5],[209,6,209,9],[209,10,209,13],[210,2,210,5],[210,6,210,9],[210,10,210,13],[211,2,211,5],[211,6,211,9],[211,10,211,13],[212,2,212,5],[212,6,212,9],[212,10,212,13],[213,2,213,5],[213,6,213,9],[213,10,213,13],[214,0,214,1],[214,2,214,3],[214,4,214,5],[214,6,214,7],[214,8,214,9],[214,10,214,11],[214,12,214,13],[214,14,214,15],[214,16,214,17],[214,18,214,19],[214,20,214,21],[215,0,215,21],[216,0,233,0],[234,0,234,21],[235,0,252,0],[253,0,253,21],[254,0,254,1],[254,2,254,3],[254,4,254,5],[254,6,254,7],[254,8,254,9],[254,10,254,11],[254,12,254,13],[254,14,254,15],[254,16,254,17],[254,18,254,19],[254,20,254,21],[255,0,255,1],[255,2,255,3],[255,4,255,5],[255,6,255,7],[255,8,255,9],[255,10,255,11],[255,12,255,13],[255,14,255,15],[255,16,255,17],[255,18,255,19],[255,20,255,21],[256,0,256,1],[256,2,256,3],[256,4,256,5],[256,6,256,7],[256,8,256,9],[256,10,256,11],[256,12,256,13],[256,14,256,15],[256,16,256,17],[256,18,256,19],[256,20,256,21],[257,0,257,1],[257,2,257,3],[257,4,257,5],[257,6,257,7],[257,8,257,9],[257,10,257,11],[257,12,257,13],[257,14,257,15],[257,16,257,17],[257,18,257,19],[257,20,257,21],[258,0,258,1],[258,2,258,3],[258,4,258,5],[258,6,258,7],[258,8,258,9],[258,10,258,11],[258,12,258,13],[258,14,258,15],[258,16,258,17],[258,18,258,19],[258,20,258,21],[259,0,259,1],[259,2,259,3],[259,4,259,5],[259,6,259,7],[259,8,259,9],[259,10,259,11],[259,12,259,13],[259,14,259,15],[259,16,259,17],[259,18,259,19],[259,20,259,21],[260,2,260,13],[261,2,261,5],[261,6,261,9],[261,10,261,13],[261,16,261,18],[262,2,262,5],[262,6,262,9],[262,10,262,13],[263,2,263,5],[263,6,263,9],[263,10,263,13],[264,2,264,5],[264,6,264,9],[264,10,264,13],[265,2,265,5],[265,6,265,9],[265,10,265,13],[266,2,266,5],[266,6,266,9],[266,10,266,13]]}
["Tract #/Stand ID:",{"$nulls":4},"Date:",{"$nulls":4},"Prism Factor:",{"$nulls":5},"Fixed Plot Radius:"]
["Stand Age:",{"$nulls":4},"Site Index:",{"$nulls":4},"Site Index Species:",{"$nulls":6},"Est. DBH:"]
["PLOT  # ==>: ",null,1,null,2,null,3,null,4,null,5,null,6,null,7,null,8,null,9,null,10]
["Overstory (> 1.5 in dbh)"]
["Prism Plots","Species"," Tally","TC"," Tally","TC"," Tally","TC"," Tally","TC"," Tally","TC"," Tally","TC"," Tally","TC"," Tally","TC"," Tally","TC"," Tally","TC"]
{"$rows_empty":17}
["Regeneration"]
["Fixed Radius Plots","Species"," Tally","TC"," Tally","TC"," Tally","TC"," Tally","TC"," Tally","TC"," Tally","TC"," Tally","TC"," Tally","TC"," Tally","TC"," Tally","TC"]
{"$rows_empty":17}
["Other Limiting Factors"]
["Invasive Species"]
["Deer Browse"]
["Pest / Pathogen"]
["Mech. Damage"]
["Other"]
["Comment(s)"]
[null,null,"Minimum Regeneration Heights (ft) - Use 4 ft for Any Not Listed"]
[null,null,2,{"$nulls":3},4,{"$nulls":3},6,{"$nulls":5},"Fixed Plot Radii (ft)"]
[null,null,"Ash",{"$nulls":3},"American Beech",{"$nulls":3},"Hickory",{"$nulls":5},"0.001/ac","=","3.7 ft"]
[null,null,"Black Cherry",{"$nulls":3},"Bigtooth Aspen",{"$nulls":3},"Black Gum",{"$nulls":5},"0.01/ac","=","11.8 ft"]
[null,null,"Sweetgum",{"$nulls":3},"Black Locust",{"$nulls":3},"Black Walnut",{"$nulls":5},"0.02/ac","=","16.6 ft"]
[null,null,"Yellow-Poplar",{"$nulls":3},"Elm",{"$nulls":3},"Red Oaks",{"$nulls":5},"0.05/ac","=","26.3 ft"]
[null,null,"All Pines",{"$nulls":3},"Red Maple",{"$nulls":3},"White Oaks"]
["PLOT  # ==>: ",null,11,null,12,null,13,null,14,null,15,null,16,null,17,null,18,null,19,null,20]
["Overstory (> 1.5 in dbh)"]
["Prism Plots","Species"," Tally","TC"," Tally","TC"," Tally","TC"," Tally","TC"," Tally","TC"," Tally","TC"," Tally","TC"," Tally","TC"," Tally","TC"," Tally","TC"]
{"$rows_empty":17}
["Regeneration"]
["Fixed Radius Plots","Species"," Tally","TC"," Tally","TC"," Tally","TC"," Tally","TC"," Tally","TC"," Tally","TC"," Tally","TC"," Tally","TC"," Tally","TC"," Tally","TC"]
{"$rows_empty":17}
["Other Limiting Factors"]
["Invasive Species"]
["Deer Browse"]
["Pest / Pathogen"]
["Mech. Damage"]
["Other"]
["Comment(s)"]
[null,null,"Minimum Regeneration Heights (ft) - Use 4 ft for Any Not Listed"]
[null,null,2,{"$nulls":3},4,{"$nulls":3},6,{"$nulls":5},"Fixed Plot Radii (ft)"]
[null,null,"Ash",{"$nulls":3},"American Beech",{"$nulls":3},"Hickory",{"$nulls":5},"0.001/ac","=","3.7 ft"]
[null,null,"Black Cherry",{"$nulls":3},"Bigtooth Aspen",{"$nulls":3},"Black Gum",{"$nulls":5},"0.01/ac","=","11.8 ft"]
[null,null,"Sweetgum",{"$nulls":3},"Black Locust",{"$nulls":3},"Black Walnut",{"$nulls":5},"0.02/ac","=","16.6 ft"]
[null,null,"Yellow-Poplar",{"$nulls":3},"Elm",{"$nulls":3},"Red Oaks",{"$nulls":5},"0.05/ac","=","26.3 ft"]
[null,null,"All Pines",{"$nulls":3},"Red Maple",{"$nulls":3},"White Oaks"]
["PLOT  # ==>: ",null,21,null,22,null,23,null,24,null,25,null,26,null,27,null,28,null,29,null,30]
["Overstory (> 1.5 in dbh)"]
["Prism Plots","Species"," Tally","TC"," Tally","TC"," Tally","TC"," Tally","TC"," Tally","TC"," Tally","TC"," Tally","TC"," Tally","TC"," Tally","TC"," Tally","TC"]
{"$rows_empty":17}
["Regeneration"]
["Fixed Radius Plots","Species"," Tally","TC"," Tally","TC"," Tally","TC"," Tally","TC"," Tally","TC"," Tally","TC"," Tally","TC"," Tally","TC"," Tally","TC"," Tally","TC"]
{"$rows_empty":17}
["Other Limiting Factors"]
["Invasive Species"]
["Deer Browse"]
["Pest / Pathogen"]
["Mech. Damage"]
["Other"]
["Comment(s)"]
[null,null,"Minimum Regeneration Heights (ft) - Use 4 ft for Any Not Listed"]
[null,null,2,{"$nulls":3},4,{"$nulls":3},6,{"$nulls":5},"Fixed Plot Radii (ft)"]
[null,null,"Ash",{"$nulls":3},"American Beech",{"$nulls":3},"Hickory",{"$nulls":5},"0.001/ac","=","3.7 ft"]
[null,null,"Black Cherry",{"$nulls":3},"Bigtooth Aspen",{"$nulls":3},"Black Gum",{"$nulls":5},"0.01/ac","=","11.8 ft"]
[null,null,"Sweetgum",{"$nulls":3},"Black Locust",{"$nulls":3},"Black Walnut",{"$nulls":5},"0.02/ac","=","16.6 ft"]
[null,null,"Yellow-Poplar",{"$nulls":3},"Elm",{"$nulls":3},"Red Oaks",{"$nulls":5},"0.05/ac","=","26.3 ft"]
[null,null,"All Pines",{"$nulls":3},"Red Maple",{"$nulls":3},"White Oaks"]
["PLOT  # ==>: ",null,31,null,32,null,33,null,34,null,35,null,36,null,37,null,38,null,39,null,40]
["Overstory (> 1.5 in dbh)"]
["Prism Plots","Species"," Tally","TC"," Tally","TC"," Tally","TC"," Tally","TC"," Tally","TC"," Tally","TC"," Tally","TC"," Tally","TC"," Tally","TC"," Tally","TC"]
{"$rows_empty":17}
["Regeneration"]
["Fixed Radius Plots","Species"," Tally","TC"," Tally","TC"," Tally","TC"," Tally","TC"," Tally","TC"," Tally","TC"," Tally","TC"," Tally","TC"," Tally","TC"," Tally","TC"]
{"$rows_empty":17}
["Other Limiting Factors"]
["Invasive Species"]
["Deer Browse"]
["Pest / Pathogen"]
["Mech. Damage"]
["Other"]
["Comment(s)"]
[null,null,"Minimum Regeneration Heights (ft) - Use 4 ft for Any Not Listed"]
[null,null,2,{"$nulls":3},4,{"$nulls":3},6,{"$nulls":5},"Fixed Plot Radii (ft)"]
[null,null,"Ash",{"$nulls":3},"American Beech",{"$nulls":3},"Hickory",{"$nulls":5},"0.001/ac","=","3.7 ft"]
[null,null,"Black Cherry",{"$nulls":3},"Bigtooth Aspen",{"$nulls":3},"Black Gum",{"$nulls":5},"0.01/ac","=","11.8 ft"]
[null,null,"Sweetgum",{"$nulls":3},"Black Locust",{"$nulls":3},"Black Walnut",{"$nulls":5},"0.02/ac","=","16.6 ft"]
[null,null,"Yellow-Poplar",{"$nulls":3},"Elm",{"$nulls":3},"Red Oaks",{"$nulls":5},"0.05/ac","=","26.3 ft"]
[null,null,"All Pines",{"$nulls":3},"Red Maple",{"$nulls":3},"White Oaks"]
["PLOT  # ==>: ",null,41,null,42,null,43,null,44,null,45,null,46,null,47,null,48,null,49,null,50]
["Overstory (> 1.5 in dbh)"]
["Prism Plots","Species"," Tally","TC"," Tally","TC"," Tally","TC"," Tally","TC"," Tally","TC"," Tally","TC"," Tally","TC"," Tally","TC"," Tally","TC"," Tally","TC"]
{"$rows_empty":17}
["Regeneration"]
["Fixed Radius Plots","Species"," Tally","TC"," Tally","TC"," Tally","TC"," Tally","TC"," Tally","TC"," Tally","TC"," Tally","TC"," Tally","TC"," Tally","TC"," Tally","TC"]
{"$rows_empty":17}
["Other Limiting Factors"]
["Invasive Species"]
["Deer Browse"]
["Pest / Pathogen"]
["Mech. Damage"]
["Other"]
["Comment(s)"]
[null,null,"Minimum Regeneration Heights (ft) - Use 4 ft for Any Not Listed"]
[null,null,2,{"$nulls":3},4,{"$nulls":3},6,{"$nulls":5},"Fixed Plot Radii (ft)"]
[null,null,"Ash",{"$nulls":3},"American Beech",{"$nulls":3},"Hickory",{"$nulls":5},"0.001/ac","=","3.7 ft"]
[null,null,"Black Cherry",{"$nulls":3},"Bigtooth Aspen",{"$nulls":3},"Black Gum",{"$nulls":5},"0.01/ac","=","11.8 ft"]
[null,null,"Sweetgum",{"$nulls":3},"Black Locust",{"$nulls":3},"Black Walnut",{"$nulls":5},"0.02/ac","=","16.6 ft"]
[null,null,"Yellow-Poplar",{"$nulls":3},"Elm",{"$nulls":3},"Red Oaks",{"$nulls":5},"0.05/ac","=","26.3 ft"]
[null,null,"All Pines",{"$nulls":3},"Red Maple",{"$nulls":3},"White Oaks"]

{"sheet":"Data Entry","index":5,"n_rows":228,"n_cols":27,"rows_kept":228,"merged":[[0,1,0,2],[0,3,0,6],[0,7,0,8],[0,9,0,10],[0,11,0,14],[0,15,0,16],[0,17,0,20],[0,21,0,22],[0,24,5,24],[1,1,1,2],[1,3,1,4],[1,7,1,8],[1,9,1,10],[1,11,1,14],[1,15,1,16],[1,17,1,20],[1,21,1,22],[2,1,2,2],[2,3,2,4],[2,5,2,8],[2,9,2,10],[2,17,2,20],[2,21,2,22],[3,1,3,2],[3,3,3,4],[3,5,3,6],[3,7,3,8],[3,9,3,10],[3,11,3,12],[3,13,3,14],[3,15,3,16],[3,17,3,18],[3,19,3,20],[3,21,3,22],[4,1,4,22],[5,1,22,1],[8,24,19,24],[23,1,23,22],[24,1,41,1],[42,1,42,22],[43,1,43,2],[43,3,43,4],[43,5,43,6],[43,7,43,8],[43,9,43,10],[43,11,43,12],[43,13,43,14],[43,15,43,16],[43,17,43,18],[43,19,43,20],[43,21,43,22],[44,1,44,2],[44,3,44,4],[44,5,44,6],[44,7,44,8],[44,9,44,10],[44,11,44,12],[44,13,44,14],[44,15,44,16],[44,17,44,18],[44,19,44,20],[44,21,44,22],[45,1,45,2],[45,3,45,4],[45,5,45,6],[45,7,45,8],[45,9,45,10],[45,11,45,12],[45,13,45,14],[45,15,45,16],[45,17,45,18],[45,19,45,20],[45,21,45,22],[46,1,46,2],[46,3,46,4],[46,5,46,6],[46,7,46,8],[46,9,46,10],[46,11,46,12],[46,13,46,14],[46,15,46,16],[46,17,46,18],[46,19,46,20],[46,21,46,22],[47,1,47,2],[47,3,47,4],[47,5,47,6],[47,7,47,8],[47,9,47,10],[47,11,47,12],[47,13,47,14],[47,15,47,16],[47,17,47,18],[47,19,47,20],[47,21,47,22],[48,1,48,2],[48,3,48,4],[48,5,48,6],[48,7,48,8],[48,9,48,10],[48,11,48,12],[48,13,48,14],[48,15,48,16],[48,17,48,18],[48,19,48,20],[48,21,48,22],[49,1,49,22],[50,1,67,1],[68,1,68,22],[69,1,86,1],[87,1,87,22],[88,1,88,2],[88,3,88,4],[88,5,88,6],[88,7,88,8],[88,9,88,10],[88,11,88,12],[88,13,88,14],[88,15,88,16],[88,17,88,18],[88,19,88,20],[88,21,88,22],[89,1,89,2],[89,3,89,4],[89,5,89,6],[89,7,89,8],[89,9,89,10],[89,11,89,12],[89,13,89,14],[89,15,89,16],[89,17,89,18],[89,19,89,20],[89,21,89,22],[90,1,90,2],[90,3,90,4],[90,5,90,6],[90,7,90,8],[90,9,90,10],[90,11,90,12],[90,13,90,14],[90,15,90,16],[90,17,90,18],[90,19,90,20],[90,21,90,22],[91,1,91,2],[91,3,91,4],[91,5,91,6],[91,7,91,8],[91,9,91,10],[91,11,91,12],[91,13,91,14],[91,15,91,16],[91,17,91,18],[91,19,91,20],[91,21,91,22],[92,1,92,2],[92,3,92,4],[92,5,92,6],[92,7,92,8],[92,9,92,10],[92,11,92,12],[92,13,92,14],[92,15,92,16],[92,17,92,18],[92,19,92,20],[92,21,92,22],[93,1,93,2],[93,3,93,4],[93,5,93,6],[93,7,93,8],[93,9,93,10],[93,11,93,12],[93,13,93,14],[93,15,93,16],[93,17,93,18],[93,19,93,20],[93,21,93,22],[94,1,94,22],[95,1,112,1],[113,1,113,22],[114,1,131,1],[132,1,132,22],[133,1,133,2],[133,3,133,4],[133,5,133,6],[133,7,133,8],[133,9,133,10],[133,11,133,12],[133,13,133,14],[133,15,133,16],[133,17,133,18],[133,19,133,20],[133,21,133,22],[134,1,134,2],[134,3,134,4],[134,5,134,6],[134,7,134,8],[134,9,134,10],[134,11,134,12],[134,13,134,14],[134,15,134,16],[134,17,134,18],[134,19,134,20],[134,21,134,22],[135,1,135,2],[135,3,135,4],[135,5,135,6],[135,7,135,8],[135,9,135,10],[135,11,135,12],[135,13,135,14],[135,15,135,16],[135,17,135,18],[135,19,135,20],[135,21,135,22],[136,1,136,2],[136,3,136,4],[136,5,136,6],[136,7,136,8],[136,9,136,10],[136,11,136,12],[136,13,136,14],[136,15,136,16],[136,17,136,18],[136,19,136,20],[136,21,136,22],[137,1,137,2],[137,3,137,4],[137,5,137,6],[137,7,137,8],[137,9,137,10],[137,11,137,12],[137,13,137,14],[137,15,137,16],[137,17,137,18],[137,19,137,20],[137,21,137,22],[138,1,138,2],[138,3,138,4],[138,5,138,6],[138,7,138,8],[138,9,138,10],[138,11,138,12],[138,13,138,14],[138,15,138,16],[138,17,138,18],[138,19,138,20],[138,21,138,22],[139,1,139,22],[140,1,157,1],[158,1,158,22],[159,1,176,1],[177,1,177,22],[178,1,178,2],[178,3,178,4],[178,5,178,6],[178,7,178,8],[178,9,178,10],[178,11,178,12],[178,13,178,14],[178,15,178,16],[178,17,178,18],[178,19,178,20],[178,21,178,22],[179,1,179,2],[179,3,179,4],[179,5,179,6],[179,7,179,8],[179,9,179,10],[179,11,179,12],[179,13,179,14],[179,15,179,16],[179,17,179,18],[179,19,179,20],[179,21,179,22],[180,1,180,2],[180,3,180,4],[180,5,180,6],[180,7,180,8],[180,9,180,10],[180,11,180,12],[180,13,180,14],[180,15,180,16],[180,17,180,18],[180,19,180,20],[180,21,180,22],[181,1,181,2],[181,3,181,4],[181,5,181,6],[181,7,181,8],[181,9,181,10],[181,11,181,12],[181,13,181,14],[181,15,181,16],[181,17,181,18],[181,19,181,20],[181,21,181,22],[182,1,182,2],[182,3,182,4],[182,5,182,6],[182,7,182,8],[182,9,182,10],[182,11,182,12],[182,13,182,14],[182,15,182,16],[182,17,182,18],[182,19,182,20],[182,21,182,22],[183,1,183,2],[183,3,183,4],[183,5,183,6],[183,7,183,8],[183,9,183,10],[183,11,183,12],[183,13,183,14],[183,15,183,16],[183,17,183,18],[183,19,183,20],[183,21,183,22],[184,1,184,22],[185,1,202,1],[203,1,203,22],[204,1,221,1],[222,1,222,22],[223,1,223,2],[223,3,223,4],[223,5,223,6],[223,7,223,8],[223,9,223,10],[223,11,223,12],[223,13,223,14],[223,15,223,16],[223,17,223,18],[223,19,223,20],[223,21,223,22],[224,1,224,2],[224,3,224,4],[224,5,224,6],[224,7,224,8],[224,9,224,10],[224,11,224,12],[224,13,224,14],[224,15,224,16],[224,17,224,18],[224,19,224,20],[224,21,224,22],[225,1,225,2],[225,3,225,4],[225,5,225,6],[225,7,225,8],[225,9,225,10],[225,11,225,12],[225,13,225,14],[225,15,225,16],[225,17,225,18],[225,19,225,20],[225,21,225,22],[226,1,226,2],[226,3,226,4],[226,5,226,6],[226,7,226,8],[226,9,226,10],[226,11,226,12],[226,13,226,14],[226,15,226,16],[226,17,226,18],[226,19,226,20],[226,21,226,22],[227,1,227,2],[227,3,227,4],[227,5,227,6],[227,7,227,8],[227,9,227,10],[227,11,227,12],[227,13,227,14],[227,15,227,16],[227,17,227,18],[227,19,227,20],[227,21,227,22]]}
[null,"Tract # / Stand ID:",{"$nulls":5},"Date:",{"$nulls":3},"Prism Factor:",{"$nulls":5},"Fixed Plot Radius:",{"$nulls":6},"Prism factor, Plot Radius, and Number of Plots required for summary sheet to function correctly.  Planting density needed for planted stands only."]
[null,"SI Species:",{"$nulls":5},"Stand Age:",{"$nulls":3},"Site Index (base age 50):",{"$nulls":5},"Number of Plots:"]
[null,"Estimated DBH:",{"$nulls":15},"Planting Density:"]
[null,"PLOT  # ==>: ",null,1,null,2,null,3,null,4,null,5,null,6,null,7,null,8,null,9,null,10]
[null,"Overstory (> 1.5 in dbh)"]
[null,"Prism Plots","Species"," Tally","TC"," Tally","TC"," Tally","TC"," Tally","TC"," Tally","TC"," Tally","TC"," Tally","TC"," Tally","TC"," Tally","TC"," Tally","TC",{"$nulls":3},"Crown Classes"]
[]
[{"$nulls":24},"Comments:",null,"D"]
[{"$nulls":26},"C"]
[{"$nulls":26},"I"]
[{"$nulls":26},"S"]
{"$rows_empty":12}
[null,"Regeneration"]
[null,"Fixed Radius Plots","Species"," Tally","TC"," Tally","TC"," Tally","TC"," Tally","TC"," Tally","TC"," Tally","TC"," Tally","TC"," Tally","TC"," Tally","TC"," Tally","TC"]
{"$rows_empty":17}
[null,"Other Limiting Factors (1=present)"]
[null,"Invasive Species"]
[null,"Deer Browse"]
[null,"Pest / Pathogen"]
[null,"Mech. Damage"]
[null,"Other"]
[null,"PLOT  # ==>: ",null,11,null,12,null,13,null,14,null,15,null,16,null,17,null,18,null,19,null,20]
[null,"Overstory (> 1.5 in dbh)"]
[null,"Prism Plots","Species"," Tally","TC"," Tally","TC"," Tally","TC"," Tally","TC"," Tally","TC"," Tally","TC"," Tally","TC"," Tally","TC"," Tally","TC"," Tally","TC"]
[null,null,{"$f":"IF(C7<>\"\",C7,\"\")","v":""}]
[null,null,""]
[null,null,""]
[null,null,""]
[null,null,""]
[null,null,""]
[null,null,""]
[null,null,"",{"$nulls":21},"`"]
[null,null,""]
[null,null,""]
[null,null,""]
[null,null,""]
[null,null,""]
[null,null,""]
[null,null,""]
[null,null,""]
[null,null,""]
[null,"Regeneration"]
[null,"Fixed Radius Plots","Species"," Tally","TC"," Tally","TC"," Tally","TC"," Tally","TC"," Tally","TC"," Tally","TC"," Tally","TC"," Tally","TC"," Tally","TC"," Tally","TC"]
[null,null,{"$f":"IF(C26<>\"\",C26,\"\")","v":""}]
[null,null,""]
[null,null,""]
[null,null,""]
[null,null,""]
[null,null,""]
[null,null,""]
[null,null,""]
[null,null,""]
[null,null,""]
[null,null,""]
[null,null,""]
[null,null,""]
[null,null,""]
[null,null,""]
[null,null,""]
[null,null,""]
[null,"Other Limiting Factors (1=present)"]
[null,"Invasive Species"]
[null,"Deer Browse"]
[null,"Pest / Pathogen"]
[null,"Mech. Damage"]
[null,"Other"]
[null,"PLOT  # ==>: ",null,21,null,22,null,23,null,24,null,25,null,26,null,27,null,28,null,29,null,30]
[null,"Overstory (> 1.5 in dbh)"]
[null,"Prism Plots","Species"," Tally","TC"," Tally","TC"," Tally","TC"," Tally","TC"," Tally","TC"," Tally","TC"," Tally","TC"," Tally","TC"," Tally","TC"," Tally","TC"]
[null,null,{"$f":"IF(C52<>\"\",C52,\"\")","v":""}]
[null,null,""]
[null,null,""]
[null,null,""]
[null,null,""]
[null,null,""]
[null,null,""]
[null,null,"",{"$nulls":21},"`"]
[null,null,""]
[null,null,""]
[null,null,""]
[null,null,""]
[null,null,""]
[null,null,""]
[null,null,""]
[null,null,""]
[null,null,""]
[null,"Regeneration"]
[null,"Fixed Radius Plots","Species"," Tally","TC"," Tally","TC"," Tally","TC"," Tally","TC"," Tally","TC"," Tally","TC"," Tally","TC"," Tally","TC"," Tally","TC"," Tally","TC"]
[null,null,{"$f":"IF(C71<>\"\",C71,\"\")","v":""}]
[null,null,""]
[null,null,""]
[null,null,""]
[null,null,""]
[null,null,""]
[null,null,""]
[null,null,""]
[null,null,""]
[null,null,""]
[null,null,""]
[null,null,""]
[null,null,""]
[null,null,""]
[null,null,""]
[null,null,""]
[null,null,""]
[null,"Other Limiting Factors (1=present)"]
[null,"Invasive Species"]
[null,"Deer Browse"]
[null,"Pest / Pathogen"]
[null,"Mech. Damage"]
[null,"Other"]
[null,"PLOT  # ==>: ",null,31,null,32,null,33,null,34,null,35,null,36,null,37,null,38,null,39,null,40]
[null,"Overstory (> 1.5 in dbh)"]
[null,"Prism Plots","Species"," Tally","TC"," Tally","TC"," Tally","TC"," Tally","TC"," Tally","TC"," Tally","TC"," Tally","TC"," Tally","TC"," Tally","TC"," Tally","TC"]
[null,null,{"$f":"IF(C97<>\"\",C97,\"\")","v":""}]
[null,null,""]
[null,null,""]
[null,null,""]
[null,null,""]
[null,null,""]
[null,null,""]
[null,null,"",{"$nulls":21},"`"]
[null,null,""]
[null,null,""]
[null,null,""]
[null,null,""]
[null,null,""]
[null,null,""]
[null,null,""]
[null,null,""]
[null,null,""]
[null,"Regeneration"]
[null,"Fixed Radius Plots","Species"," Tally","TC"," Tally","TC"," Tally","TC"," Tally","TC"," Tally","TC"," Tally","TC"," Tally","TC"," Tally","TC"," Tally","TC"," Tally","TC"]
[null,null,{"$f":"IF(C116<>\"\",C116,\"\")","v":""}]
[null,null,""]
[null,null,""]
[null,null,""]
[null,null,""]
[null,null,""]
[null,null,""]
[null,null,""]
[null,null,""]
[null,null,""]
[null,null,""]
[null,null,""]
[null,null,""]
[null,null,""]
[null,null,""]
[null,null,""]
[null,null,""]
[null,"Other Limiting Factors (1=present)"]
[null,"Invasive Species"]
[null,"Deer Browse"]
[null,"Pest / Pathogen"]
[null,"Mech. Damage"]
[null,"Other"]
[null,"PLOT  # ==>: ",null,41,null,42,null,43,null,44,null,45,null,46,null,47,null,48,null,49,null,50]
[null,"Overstory (> 1.5 in dbh)"]
[null,"Prism Plots","Species"," Tally","TC"," Tally","TC"," Tally","TC"," Tally","TC"," Tally","TC"," Tally","TC"," Tally","TC"," Tally","TC"," Tally","TC"," Tally","TC"]
[null,null,{"$f":"IF(C142<>\"\",C142,\"\")","v":""}]
[null,null,""]
[null,null,""]
[null,null,""]
[null,null,""]
[null,null,""]
[null,null,""]
[null,null,"",{"$nulls":21},"`"]
[null,null,""]
[null,null,""]
[null,null,""]
[null,null,""]
[null,null,""]
[null,null,""]
[null,null,""]
[null,null,""]
[null,null,""]
[null,"Regeneration"]
[null,"Fixed Radius Plots","Species"," Tally","TC"," Tally","TC"," Tally","TC"," Tally","TC"," Tally","TC"," Tally","TC"," Tally","TC"," Tally","TC"," Tally","TC"," Tally","TC"]
[null,null,{"$f":"IF(C161<>\"\",C161,\"\")","v":""}]
[null,null,""]
[null,null,""]
[null,null,""]
[null,null,""]
[null,null,""]
[null,null,""]
[null,null,""]
[null,null,""]
[null,null,""]
[null,null,""]
[null,null,""]
[null,null,{"$f":"IF(C173<>\"\",C173,\"\")","v":""}]
[null,null,""]
[null,null,""]
[null,null,""]
[null,null,""]
[null,"Other Limiting Factors (1=present)"]
[null,"Invasive Species"]
[null,"Deer Browse"]
[null,"Pest / Pathogen"]
[null,"Mech. Damage"]
[null,"Other"]

{"sheet":"OVERSTORY CALC","index":6,"n_rows":47,"n_cols":63,"rows_kept":47,"hidden":true,"merged":[[0,1,0,2],[0,3,0,6],[0,7,0,8],[0,9,0,10],[0,11,0,14],[0,15,0,16],[0,17,0,20],[0,21,0,22],[1,1,1,2],[1,3,1,4],[1,7,1,8],[1,9,1,10],[1,11,1,14],[1,15,1,16],[1,17,1,20],[1,21,1,22],[2,1,2,2],[2,3,2,4],[2,5,2,8],[2,9,2,10],[2,17,2,20],[2,21,2,22],[4,1,4,61],[5,1,23,1],[27,2,27,62],[28,2,46,2]]}
[null,"Tract # / Stand ID:",null,{"$f":"'Data Entry'!$D$1","v":0},{"$nulls":3},"Date:",null,{"$f":"'Data Entry'!$J$1","v":"00:00:00"},null,"Prism Factor:",{"$nulls":3},{"$f":"'Data Entry'!$P$1","v":0},null,"Fixed Plot Radius:",{"$nulls":3},{"$f":"'Data Entry'!$V$1","v":0}]
[null,"SI Species:",null,{"$f":"'Data Entry'!D2","v":0},{"$nulls":3},"Stand Age:",null,{"$f":"'Data Entry'!$J$2","v":0},null,"Site Index (base age 50):",{"$nulls":3},{"$f":"'Data Entry'!$P$2","v":0},null,"Number of Plots:",{"$nulls":3},{"$f":"'Data Entry'!$V$2","v":0}]
[null,"Estimated DBH:",null,{"$f":"'Data Entry'!D3","v":0},{"$nulls":13},"Planting Density:",{"$nulls":3},{"$f":"'Data Entry'!$V$3","v":0}]
[]
[null,"Basal Area"]
[null,"Overstory","Species","SUM*BAF","BA/Acre","% of Total",null,"Minimum","Maximum","SD1",null,"CV2",1,2,3,4,5,6,7,8,9,10,11,12,13,14,15,16,17,18,19,20,21,22,23,24,25,26,27,28,29,30,31,32,33,34,35,36,37,38,39,40,41,42,43,44,45,46,47,48,49,50]
[null,null,{"$f":"IF('Data Entry'!C7<>\"\",'Data Entry'!C7,\"\")","v":""},{"$f":"SUM(M7:BJ7)*$P$1","v":0},{"$f":"IF(D7<>0,AVERAGE(M7:BJ7)*$P$1,\"\")","v":""},{"$f":"IF(D7<>0,E7/$E$24,\"\")","v":""},null,{"$f":"IF(D7<>0,MIN(M7:BJ7),\"\")","v":""},{"$f":"IF(D7<>0,MAX(M7:BJ7),\"\")","v":""},{"$f":"IF(D7<>0,_xlfn.STDEV.S(M7:BJ7)*$P$1,\"\")","v":""},null,{"$f":"IF(J7<>\"\",J7/E7,\"\")","v":""},{"$f":"IF('Data Entry'!D7 > 0,'Data Entry'!D7, IF(M$6<=$V$2,0,\"\"))","v":""},{"$f":"IF('Data Entry'!F7 > 0,'Data Entry'!F7, IF(N$6<=$V$2,0,\"\"))","v":""},{"$f":"IF('Data Entry'!H7 > 0,'Data Entry'!H7, IF(O$6<=$V$2,0,\"\"))","v":""},{"$f":"IF('Data Entry'!J7 > 0,'Data Entry'!J7, IF(P$6<=$V$2,0,\"\"))","v":""},{"$f":"IF('Data Entry'!L7 > 0,'Data Entry'!L7, IF(Q$6<=$V$2,0,\"\"))","v":""},{"$f":"IF('Data Entry'!N7 > 0,'Data Entry'!N7, IF(R$6<=$V$2,0,\"\"))","v":""},{"$f":"IF('Data Entry'!P7 > 0,'Data Entry'!P7, IF(S$6<=$V$2,0,\"\"))","v":""},{"$f":"IF('Data Entry'!R7 > 0,'Data Entry'!R7, IF(T$6<=$V$2,0,\"\"))","v":""},{"$f":"IF('Data Entry'!T7 > 0,'Data Entry'!T7, IF(U$6<=$V$2,0,\"\"))","v":""},{"$f":"IF('Data Entry'!V7 > 0,'Data Entry'!V7, IF(V$6<=$V$2,0,\"\"))","v":""},{"$f":"IF('Data Entry'!D52 > 0,'Data Entry'!D52, IF(W$6<=$V$2,0,\"\"))","v":""},{"$f":"IF('Data Entry'!F52 > 0,'Data Entry'!F52, IF(X$6<=$V$2,0,\"\"))","v":""},{"$f":"IF('Data Entry'!H52 > 0,'Data Entry'!H52, IF(Y$6<=$V$2,0,\"\"))","v":""},{"$f":"IF('Data Entry'!J52 > 0,'Data Entry'!J52, IF(Z$6<=$V$2,0,\"\"))","v":""},{"$f":"IF('Data Entry'!L52 > 0,'Data Entry'!L52, IF(AA$6<=$V$2,0,\"\"))","v":""},{"$f":"IF('Data Entry'!N52 > 0,'Data Entry'!N52, IF(AB$6<=$V$2,0,\"\"))","v":""},{"$f":"IF('Data Entry'!P52 > 0,'Data Entry'!P52, IF(AC$6<=$V$2,0,\"\"))","v":""},{"$f":"IF('Data Entry'!R52 > 0,'Data Entry'!R52, IF(AD$6<=$V$2,0,\"\"))","v":""},{"$f":"IF('Data Entry'!T52 > 0,'Data Entry'!T52, IF(AE$6<=$V$2,0,\"\"))","v":""},{"$f":"IF('Data Entry'!V52 > 0,'Data Entry'!V52, IF(AF$6<=$V$2,0,\"\"))","v":""},{"$f":"IF('Data Entry'!D97 > 0,'Data Entry'!D97, IF(AG$6<=$V$2,0,\"\"))","v":""},{"$f":"IF('Data Entry'!F97 > 0,'Data Entry'!F97, IF(AH$6<=$V$2,0,\"\"))","v":""},{"$f":"IF('Data Entry'!H97 > 0,'Data Entry'!H97, IF(AI$6<=$V$2,0,\"\"))","v":""},{"$f":"IF('Data Entry'!J97 > 0,'Data Entry'!J97, IF(AJ$6<=$V$2,0,\"\"))","v":""},{"$f":"IF('Data Entry'!L97 > 0,'Data Entry'!L97, IF(AK$6<=$V$2,0,\"\"))","v":""},{"$f":"IF('Data Entry'!N97 > 0,'Data Entry'!N97, IF(AL$6<=$V$2,0,\"\"))","v":""},{"$f":"IF('Data Entry'!P97 > 0,'Data Entry'!P97, IF(AM$6<=$V$2,0,\"\"))","v":""},{"$f":"IF('Data Entry'!R97 > 0,'Data Entry'!R97, IF(AN$6<=$V$2,0,\"\"))","v":""},{"$f":"IF('Data Entry'!T97 > 0,'Data Entry'!T97, IF(AO$6<=$V$2,0,\"\"))","v":""},{"$f":"IF('Data Entry'!V97 > 0,'Data Entry'!V97, IF(AP$6<=$V$2,0,\"\"))","v":""},{"$f":"IF('Data Entry'!D142 > 0,'Data Entry'!D142, IF(AQ$6<=$V$2,0,\"\"))","v":""},{"$f":"IF('Data Entry'!F142 > 0,'Data Entry'!F142, IF(AR$6<=$V$2,0,\"\"))","v":""},{"$f":"IF('Data Entry'!H142 > 0,'Data Entry'!H142, IF(AS$6<=$V$2,0,\"\"))","v":""},{"$f":"IF('Data Entry'!J142 > 0,'Data Entry'!J142, IF(AT$6<=$V$2,0,\"\"))","v":""},{"$f":"IF('Data Entry'!L142 > 0,'Data Entry'!L142, IF(AU$6<=$V$2,0,\"\"))","v":""},{"$f":"IF('Data Entry'!N142 > 0,'Data Entry'!N142, IF(AV$6<=$V$2,0,\"\"))","v":""},{"$f":"IF('Data Entry'!P142 > 0,'Data Entry'!P142, IF(AW$6<=$V$2,0,\"\"))","v":""},{"$f":"IF('Data Entry'!R142 > 0,'Data Entry'!R142, IF(AX$6<=$V$2,0,\"\"))","v":""},{"$f":"IF('Data Entry'!T142 > 0,'Data Entry'!T142, IF(AY$6<=$V$2,0,\"\"))","v":""},{"$f":"IF('Data Entry'!V142 > 0,'Data Entry'!V142, IF(AZ$6<=$V$2,0,\"\"))","v":""},{"$f":"IF('Data Entry'!D187 > 0,'Data Entry'!D187, IF(BA$6<=$V$2,0,\"\"))","v":""},{"$f":"IF('Data Entry'!F187 > 0,'Data Entry'!F187, IF(BB$6<=$V$2,0,\"\"))","v":""},{"$f":"IF('Data Entry'!H187 > 0,'Data Entry'!H187, IF(BC$6<=$V$2,0,\"\"))","v":""},{"$f":"IF('Data Entry'!J187 > 0,'Data Entry'!J187, IF(BD$6<=$V$2,0,\"\"))","v":""},{"$f":"IF('Data Entry'!L187 > 0,'Data Entry'!L187, IF(BE$6<=$V$2,0,\"\"))","v":""},{"$f":"IF('Data Entry'!N187 > 0,'Data Entry'!N187, IF(BF$6<=$V$2,0,\"\"))","v":""},{"$f":"IF('Data Entry'!P187 > 0,'Data Entry'!P187, IF(BG$6<=$V$2,0,\"\"))","v":""},{"$f":"IF('Data Entry'!R187 > 0,'Data Entry'!R187, IF(BH$6<=$V$2,0,\"\"))","v":""},{"$f":"IF('Data Entry'!T187 > 0,'Data Entry'!T187, IF(BI$6<=$V$2,0,\"\"))","v":""},{"$f":"IF('Data Entry'!V187 > 0,'Data Entry'!V187, IF(BJ$6<=$V$2,0,\"\"))","v":""}]
[null,null,{"$f":"IF('Data Entry'!C8<>\"\",'Data Entry'!C8,\"\")","v":""},{"$f":"SUM(M8:BJ8)*$P$1","v":0},{"$f":"IF(D8<>0,AVERAGE(M8:BJ8)*$P$1,\"\")","v":""},"",null,"","",{"$f":"IF(D8<>0,_xlfn.STDEV.S(M8:BJ8)*$P$1,\"\")","v":""},null,"",{"$f":"IF('Data Entry'!D8 > 0,'Data Entry'!D8, IF(M$6<=$V$2,0,\"\"))","v":""},{"$f":"IF('Data Entry'!F8 > 0,'Data Entry'!F8, IF(N$6<=$V$2,0,\"\"))","v":""},{"$f":"IF('Data Entry'!H8 > 0,'Data Entry'!H8, IF(O$6<=$V$2,0,\"\"))","v":""},{"$f":"IF('Data Entry'!J8 > 0,'Data Entry'!J8, IF(P$6<=$V$2,0,\"\"))","v":""},{"$f":"IF('Data Entry'!L8 > 0,'Data Entry'!L8, IF(Q$6<=$V$2,0,\"\"))","v":""},{"$f":"IF('Data Entry'!N8 > 0,'Data Entry'!N8, IF(R$6<=$V$2,0,\"\"))","v":""},{"$f":"IF('Data Entry'!P8 > 0,'Data Entry'!P8, IF(S$6<=$V$2,0,\"\"))","v":""},{"$f":"IF('Data Entry'!R8 > 0,'Data Entry'!R8, IF(T$6<=$V$2,0,\"\"))","v":""},{"$f":"IF('Data Entry'!T8 > 0,'Data Entry'!T8, IF(U$6<=$V$2,0,\"\"))","v":""},{"$f":"IF('Data Entry'!V8 > 0,'Data Entry'!V8, IF(V$6<=$V$2,0,\"\"))","v":""},{"$f":"IF('Data Entry'!D53 > 0,'Data Entry'!D53, IF(W$6<=$V$2,0,\"\"))","v":""},{"$f":"IF('Data Entry'!F53 > 0,'Data Entry'!F53, IF(X$6<=$V$2,0,\"\"))","v":""},{"$f":"IF('Data Entry'!H53 > 0,'Data Entry'!H53, IF(Y$6<=$V$2,0,\"\"))","v":""},{"$f":"IF('Data Entry'!J53 > 0,'Data Entry'!J53, IF(Z$6<=$V$2,0,\"\"))","v":""},{"$f":"IF('Data Entry'!L53 > 0,'Data Entry'!L53, IF(AA$6<=$V$2,0,\"\"))","v":""},{"$f":"IF('Data Entry'!N53 > 0,'Data Entry'!N53, IF(AB$6<=$V$2,0,\"\"))","v":""},{"$f":"IF('Data Entry'!P53 > 0,'Data Entry'!P53, IF(AC$6<='Data Entry'!$Y$6,0,\"\"))","v":""},{"$f":"IF('Data Entry'!R53 > 0,'Data Entry'!R53, IF(AD$6<=$V$2,0,\"\"))","v":""},{"$f":"IF('Data Entry'!T53 > 0,'Data Entry'!T53, IF(AE$6<=$V$2,0,\"\"))","v":""},{"$f":"IF('Data Entry'!V53 > 0,'Data Entry'!V53, IF(AF$6<=$V$2,0,\"\"))","v":""},{"$f":"IF('Data Entry'!D98 > 0,'Data Entry'!D98, IF(AG$6<=$V$2,0,\"\"))","v":""},{"$f":"IF('Data Entry'!F98 > 0,'Data Entry'!F98, IF(AH$6<=$V$2,0,\"\"))","v":""},{"$f":"IF('Data Entry'!H98 > 0,'Data Entry'!H98, IF(AI$6<=$V$2,0,\"\"))","v":""},{"$f":"IF('Data Entry'!J98 > 0,'Data Entry'!J98, IF(AJ$6<=$V$2,0,\"\"))","v":""},{"$f":"IF('Data Entry'!L98 > 0,'Data Entry'!L98, IF(AK$6<=$V$2,0,\"\"))","v":""},{"$f":"IF('Data Entry'!N98 > 0,'Data Entry'!N98, IF(AL$6<=$V$2,0,\"\"))","v":""},{"$f":"IF('Data Entry'!P98 > 0,'Data Entry'!P98, IF(AM$6<=$V$2,0,\"\"))","v":""},{"$f":"IF('Data Entry'!R98 > 0,'Data Entry'!R98, IF(AN$6<=$V$2,0,\"\"))","v":""},{"$f":"IF('Data Entry'!T98 > 0,'Data Entry'!T98, IF(AO$6<=$V$2,0,\"\"))","v":""},{"$f":"IF('Data Entry'!V98 > 0,'Data Entry'!V98, IF(AP$6<=$V$2,0,\"\"))","v":""},{"$f":"IF('Data Entry'!D143 > 0,'Data Entry'!D143, IF(AQ$6<='Data Entry'!$Y$6,0,\"\"))","v":""},{"$f":"IF('Data Entry'!F143 > 0,'Data Entry'!F143, IF(AR$6<=$V$2,0,\"\"))","v":""},{"$f":"IF('Data Entry'!H143 > 0,'Data Entry'!H143, IF(AS$6<=$V$2,0,\"\"))","v":""},{"$f":"IF('Data Entry'!J143 > 0,'Data Entry'!J143, IF(AT$6<=$V$2,0,\"\"))","v":""},{"$f":"IF('Data Entry'!L143 > 0,'Data Entry'!L143, IF(AU$6<=$V$2,0,\"\"))","v":""},{"$f":"IF('Data Entry'!N143 > 0,'Data Entry'!N143, IF(AV$6<=$V$2,0,\"\"))","v":""},{"$f":"IF('Data Entry'!P143 > 0,'Data Entry'!P143, IF(AW$6<=$V$2,0,\"\"))","v":""},{"$f":"IF('Data Entry'!R143 > 0,'Data Entry'!R143, IF(AX$6<=$V$2,0,\"\"))","v":""},{"$f":"IF('Data Entry'!T143 > 0,'Data Entry'!T143, IF(AY$6<=$V$2,0,\"\"))","v":""},{"$f":"IF('Data Entry'!V143 > 0,'Data Entry'!V143, IF(AZ$6<=$V$2,0,\"\"))","v":""},{"$f":"IF('Data Entry'!D188 > 0,'Data Entry'!D188, IF(BA$6<=$V$2,0,\"\"))","v":""},{"$f":"IF('Data Entry'!F188 > 0,'Data Entry'!F188, IF(BB$6<=$V$2,0,\"\"))","v":""},{"$f":"IF('Data Entry'!H188 > 0,'Data Entry'!H188, IF(BC$6<=$V$2,0,\"\"))","v":""},{"$f":"IF('Data Entry'!J188 > 0,'Data Entry'!J188, IF(BD$6<=$V$2,0,\"\"))","v":""},{"$f":"IF('Data Entry'!L188 > 0,'Data Entry'!L188, IF(BE$6<=$V$2,0,\"\"))","v":""},{"$f":"IF('Data Entry'!N188 > 0,'Data Entry'!N188, IF(BF$6<=$V$2,0,\"\"))","v":""},{"$f":"IF('Data Entry'!P188 > 0,'Data Entry'!P188, IF(BG$6<=$V$2,0,\"\"))","v":""},{"$f":"IF('Data Entry'!R188 > 0,'Data Entry'!R188, IF(BH$6<=$V$2,0,\"\"))","v":""},{"$f":"IF('Data Entry'!T188 > 0,'Data Entry'!T188, IF(BI$6<=$V$2,0,\"\"))","v":""},{"$f":"IF('Data Entry'!V188 > 0,'Data Entry'!V188, IF(BJ$6<=$V$2,0,\"\"))","v":""}]
[null,null,{"$f":"IF('Data Entry'!C9<>\"\",'Data Entry'!C9,\"\")","v":""},{"$f":"SUM(M9:BJ9)*$P$1","v":0},"","",null,"","","",null,"",{"$f":"IF('Data Entry'!D9 > 0,'Data Entry'!D9, IF(M$6<=$V$2,0,\"\"))","v":""},{"$f":"IF('Data Entry'!F9 > 0,'Data Entry'!F9, IF(N$6<=$V$2,0,\"\"))","v":""},{"$f":"IF('Data Entry'!H9 > 0,'Data Entry'!H9, IF(O$6<=$V$2,0,\"\"))","v":""},{"$f":"IF('Data Entry'!J9 > 0,'Data Entry'!J9, IF(P$6<=$V$2,0,\"\"))","v":""},{"$f":"IF('Data Entry'!L9 > 0,'Data Entry'!L9, IF(Q$6<=$V$2,0,\"\"))","v":""},{"$f":"IF('Data Entry'!N9 > 0,'Data Entry'!N9, IF(R$6<=$V$2,0,\"\"))","v":""},{"$f":"IF('Data Entry'!P9 > 0,'Data Entry'!P9, IF(S$6<=$V$2,0,\"\"))","v":""},{"$f":"IF('Data Entry'!R9 > 0,'Data Entry'!R9, IF(T$6<=$V$2,0,\"\"))","v":""},{"$f":"IF('Data Entry'!T9 > 0,'Data Entry'!T9, IF(U$6<=$V$2,0,\"\"))","v":""},{"$f":"IF('Data Entry'!V9 > 0,'Data Entry'!V9, IF(V$6<=$V$2,0,\"\"))","v":""},{"$f":"IF('Data Entry'!D54 > 0,'Data Entry'!D54, IF(W$6<=$V$2,0,\"\"))","v":""},{"$f":"IF('Data Entry'!F54 > 0,'Data Entry'!F54, IF(X$6<=$V$2,0,\"\"))","v":""},{"$f":"IF('Data Entry'!H54 > 0,'Data Entry'!H54, IF(Y$6<=$V$2,0,\"\"))","v":""},{"$f":"IF('Data Entry'!J54 > 0,'Data Entry'!J54, IF(Z$6<=$V$2,0,\"\"))","v":""},{"$f":"IF('Data Entry'!L54 > 0,'Data Entry'!L54, IF(AA$6<=$V$2,0,\"\"))","v":""},{"$f":"IF('Data Entry'!N54 > 0,'Data Entry'!N54, IF(AB$6<=$V$2,0,\"\"))","v":""},{"$f":"IF('Data Entry'!P54 > 0,'Data Entry'!P54, IF(AC$6<='Data Entry'!$Y$6,0,\"\"))","v":""},{"$f":"IF('Data Entry'!R54 > 0,'Data Entry'!R54, IF(AD$6<=$V$2,0,\"\"))","v":""},{"$f":"IF('Data Entry'!T54 > 0,'Data Entry'!T54, IF(AE$6<=$V$2,0,\"\"))","v":""},{"$f":"IF('Data Entry'!V54 > 0,'Data Entry'!V54, IF(AF$6<=$V$2,0,\"\"))","v":""},{"$f":"IF('Data Entry'!D99 > 0,'Data Entry'!D99, IF(AG$6<=$V$2,0,\"\"))","v":""},{"$f":"IF('Data Entry'!F99 > 0,'Data Entry'!F99, IF(AH$6<=$V$2,0,\"\"))","v":""},{"$f":"IF('Data Entry'!H99 > 0,'Data Entry'!H99, IF(AI$6<=$V$2,0,\"\"))","v":""},{"$f":"IF('Data Entry'!J99 > 0,'Data Entry'!J99, IF(AJ$6<=$V$2,0,\"\"))","v":""},{"$f":"IF('Data Entry'!L99 > 0,'Data Entry'!L99, IF(AK$6<=$V$2,0,\"\"))","v":""},{"$f":"IF('Data Entry'!N99 > 0,'Data Entry'!N99, IF(AL$6<=$V$2,0,\"\"))","v":""},{"$f":"IF('Data Entry'!P99 > 0,'Data Entry'!P99, IF(AM$6<=$V$2,0,\"\"))","v":""},{"$f":"IF('Data Entry'!R99 > 0,'Data Entry'!R99, IF(AN$6<=$V$2,0,\"\"))","v":""},{"$f":"IF('Data Entry'!T99 > 0,'Data Entry'!T99, IF(AO$6<=$V$2,0,\"\"))","v":""},{"$f":"IF('Data Entry'!V99 > 0,'Data Entry'!V99, IF(AP$6<=$V$2,0,\"\"))","v":""},{"$f":"IF('Data Entry'!D144 > 0,'Data Entry'!D144, IF(AQ$6<='Data Entry'!$Y$6,0,\"\"))","v":""},{"$f":"IF('Data Entry'!F144 > 0,'Data Entry'!F144, IF(AR$6<=$V$2,0,\"\"))","v":""},{"$f":"IF('Data Entry'!H144 > 0,'Data Entry'!H144, IF(AS$6<=$V$2,0,\"\"))","v":""},{"$f":"IF('Data Entry'!J144 > 0,'Data Entry'!J144, IF(AT$6<=$V$2,0,\"\"))","v":""},{"$f":"IF('Data Entry'!L144 > 0,'Data Entry'!L144, IF(AU$6<=$V$2,0,\"\"))","v":""},{"$f":"IF('Data Entry'!N144 > 0,'Data Entry'!N144, IF(AV$6<=$V$2,0,\"\"))","v":""},{"$f":"IF('Data Entry'!P144 > 0,'Data Entry'!P144, IF(AW$6<=$V$2,0,\"\"))","v":""},{"$f":"IF('Data Entry'!R144 > 0,'Data Entry'!R144, IF(AX$6<=$V$2,0,\"\"))","v":""},{"$f":"IF('Data Entry'!T144 > 0,'Data Entry'!T144, IF(AY$6<=$V$2,0,\"\"))","v":""},{"$f":"IF('Data Entry'!V144 > 0,'Data Entry'!V144, IF(AZ$6<=$V$2,0,\"\"))","v":""},{"$f":"IF('Data Entry'!D189 > 0,'Data Entry'!D189, IF(BA$6<=$V$2,0,\"\"))","v":""},{"$f":"IF('Data Entry'!F189 > 0,'Data Entry'!F189, IF(BB$6<=$V$2,0,\"\"))","v":""},{"$f":"IF('Data Entry'!H189 > 0,'Data Entry'!H189, IF(BC$6<=$V$2,0,\"\"))","v":""},{"$f":"IF('Data Entry'!J189 > 0,'Data Entry'!J189, IF(BD$6<=$V$2,0,\"\"))","v":""},{"$f":"IF('Data Entry'!L189 > 0,'Data Entry'!L189, IF(BE$6<=$V$2,0,\"\"))","v":""},{"$f":"IF('Data Entry'!N189 > 0,'Data Entry'!N189, IF(BF$6<=$V$2,0,\"\"))","v":""},{"$f":"IF('Data Entry'!P189 > 0,'Data Entry'!P189, IF(BG$6<=$V$2,0,\"\"))","v":""},{"$f":"IF('Data Entry'!R189 > 0,'Data Entry'!R189, IF(BH$6<=$V$2,0,\"\"))","v":""},{"$f":"IF('Data Entry'!T189 > 0,'Data Entry'!T189, IF(BI$6<=$V$2,0,\"\"))","v":""},{"$f":"IF('Data Entry'!V189 > 0,'Data Entry'!V189, IF(BJ$6<=$V$2,0,\"\"))","v":""}]
[null,null,{"$f":"IF('Data Entry'!C10<>\"\",'Data Entry'!C10,\"\")","v":""},0,"","",null,"","","",null,"",{"$f":"IF('Data Entry'!D10 > 0,'Data Entry'!D10, IF(M$6<=$V$2,0,\"\"))","v":""},{"$f":"IF('Data Entry'!F10 > 0,'Data Entry'!F10, IF(N$6<=$V$2,0,\"\"))","v":""},{"$f":"IF('Data Entry'!H10 > 0,'Data Entry'!H10, IF(O$6<=$V$2,0,\"\"))","v":""},{"$f":"IF('Data Entry'!J10 > 0,'Data Entry'!J10, IF(P$6<=$V$2,0,\"\"))","v":""},{"$f":"IF('Data Entry'!L10 > 0,'Data Entry'!L10, IF(Q$6<=$V$2,0,\"\"))","v":""},{"$f":"IF('Data Entry'!N10 > 0,'Data Entry'!N10, IF(R$6<=$V$2,0,\"\"))","v":""},{"$f":"IF('Data Entry'!P10 > 0,'Data Entry'!P10, IF(S$6<=$V$2,0,\"\"))","v":""},{"$f":"IF('Data Entry'!R10 > 0,'Data Entry'!R10, IF(T$6<=$V$2,0,\"\"))","v":""},{"$f":"IF('Data Entry'!T10 > 0,'Data Entry'!T10, IF(U$6<=$V$2,0,\"\"))","v":""},{"$f":"IF('Data Entry'!V10 > 0,'Data Entry'!V10, IF(V$6<=$V$2,0,\"\"))","v":""},{"$f":"IF('Data Entry'!D55 > 0,'Data Entry'!D55, IF(W$6<=$V$2,0,\"\"))","v":""},{"$f":"IF('Data Entry'!F55 > 0,'Data Entry'!F55, IF(X$6<=$V$2,0,\"\"))","v":""},{"$f":"IF('Data Entry'!H55 > 0,'Data Entry'!H55, IF(Y$6<=$V$2,0,\"\"))","v":""},{"$f":"IF('Data Entry'!J55 > 0,'Data Entry'!J55, IF(Z$6<=$V$2,0,\"\"))","v":""},{"$f":"IF('Data Entry'!L55 > 0,'Data Entry'!L55, IF(AA$6<=$V$2,0,\"\"))","v":""},{"$f":"IF('Data Entry'!N55 > 0,'Data Entry'!N55, IF(AB$6<=$V$2,0,\"\"))","v":""},{"$f":"IF('Data Entry'!P55 > 0,'Data Entry'!P55, IF(AC$6<='Data Entry'!$Y$6,0,\"\"))","v":""},{"$f":"IF('Data Entry'!R55 > 0,'Data Entry'!R55, IF(AD$6<=$V$2,0,\"\"))","v":""},{"$f":"IF('Data Entry'!T55 > 0,'Data Entry'!T55, IF(AE$6<=$V$2,0,\"\"))","v":""},{"$f":"IF('Data Entry'!V55 > 0,'Data Entry'!V55, IF(AF$6<=$V$2,0,\"\"))","v":""},{"$f":"IF('Data Entry'!D100 > 0,'Data Entry'!D100, IF(AG$6<=$V$2,0,\"\"))","v":""},{"$f":"IF('Data Entry'!F100 > 0,'Data Entry'!F100, IF(AH$6<=$V$2,0,\"\"))","v":""},{"$f":"IF('Data Entry'!H100 > 0,'Data Entry'!H100, IF(AI$6<=$V$2,0,\"\"))","v":""},{"$f":"IF('Data Entry'!J100 > 0,'Data Entry'!J100, IF(AJ$6<=$V$2,0,\"\"))","v":""},{"$f":"IF('Data Entry'!L100 > 0,'Data Entry'!L100, IF(AK$6<=$V$2,0,\"\"))","v":""},{"$f":"IF('Data Entry'!N100 > 0,'Data Entry'!N100, IF(AL$6<=$V$2,0,\"\"))","v":""},{"$f":"IF('Data Entry'!P100 > 0,'Data Entry'!P100, IF(AM$6<=$V$2,0,\"\"))","v":""},{"$f":"IF('Data Entry'!R100 > 0,'Data Entry'!R100, IF(AN$6<=$V$2,0,\"\"))","v":""},{"$f":"IF('Data Entry'!T100 > 0,'Data Entry'!T100, IF(AO$6<=$V$2,0,\"\"))","v":""},{"$f":"IF('Data Entry'!V100 > 0,'Data Entry'!V100, IF(AP$6<=$V$2,0,\"\"))","v":""},{"$f":"IF('Data Entry'!D145 > 0,'Data Entry'!D145, IF(AQ$6<='Data Entry'!$Y$6,0,\"\"))","v":""},{"$f":"IF('Data Entry'!F145 > 0,'Data Entry'!F145, IF(AR$6<=$V$2,0,\"\"))","v":""},{"$f":"IF('Data Entry'!H145 > 0,'Data Entry'!H145, IF(AS$6<=$V$2,0,\"\"))","v":""},{"$f":"IF('Data Entry'!J145 > 0,'Data Entry'!J145, IF(AT$6<=$V$2,0,\"\"))","v":""},{"$f":"IF('Data Entry'!L145 > 0,'Data Entry'!L145, IF(AU$6<=$V$2,0,\"\"))","v":""},{"$f":"IF('Data Entry'!N145 > 0,'Data Entry'!N145, IF(AV$6<=$V$2,0,\"\"))","v":""},{"$f":"IF('Data Entry'!P145 > 0,'Data Entry'!P145, IF(AW$6<=$V$2,0,\"\"))","v":""},{"$f":"IF('Data Entry'!R145 > 0,'Data Entry'!R145, IF(AX$6<=$V$2,0,\"\"))","v":""},{"$f":"IF('Data Entry'!T145 > 0,'Data Entry'!T145, IF(AY$6<=$V$2,0,\"\"))","v":""},{"$f":"IF('Data Entry'!V145 > 0,'Data Entry'!V145, IF(AZ$6<=$V$2,0,\"\"))","v":""},{"$f":"IF('Data Entry'!D190 > 0,'Data Entry'!D190, IF(BA$6<=$V$2,0,\"\"))","v":""},{"$f":"IF('Data Entry'!F190 > 0,'Data Entry'!F190, IF(BB$6<=$V$2,0,\"\"))","v":""},{"$f":"IF('Data Entry'!H190 > 0,'Data Entry'!H190, IF(BC$6<=$V$2,0,\"\"))","v":""},{"$f":"IF('Data Entry'!J190 > 0,'Data Entry'!J190, IF(BD$6<=$V$2,0,\"\"))","v":""},{"$f":"IF('Data Entry'!L190 > 0,'Data Entry'!L190, IF(BE$6<=$V$2,0,\"\"))","v":""},{"$f":"IF('Data Entry'!N190 > 0,'Data Entry'!N190, IF(BF$6<=$V$2,0,\"\"))","v":""},{"$f":"IF('Data Entry'!P190 > 0,'Data Entry'!P190, IF(BG$6<=$V$2,0,\"\"))","v":""},{"$f":"IF('Data Entry'!R190 > 0,'Data Entry'!R190, IF(BH$6<=$V$2,0,\"\"))","v":""},{"$f":"IF('Data Entry'!T190 > 0,'Data Entry'!T190, IF(BI$6<=$V$2,0,\"\"))","v":""},{"$f":"IF('Data Entry'!V190 > 0,'Data Entry'!V190, IF(BJ$6<=$V$2,0,\"\"))","v":""}]
[null,null,{"$f":"IF('Data Entry'!C11<>\"\",'Data Entry'!C11,\"\")","v":""},0,"","",null,"","","",null,"",{"$f":"IF('Data Entry'!D11 > 0,'Data Entry'!D11, IF(M$6<=$V$2,0,\"\"))","v":""},{"$f":"IF('Data Entry'!F11 > 0,'Data Entry'!F11, IF(N$6<=$V$2,0,\"\"))","v":""},{"$f":"IF('Data Entry'!H11 > 0,'Data Entry'!H11, IF(O$6<=$V$2,0,\"\"))","v":""},{"$f":"IF('Data Entry'!J11 > 0,'Data Entry'!J11, IF(P$6<=$V$2,0,\"\"))","v":""},{"$f":"IF('Data Entry'!L11 > 0,'Data Entry'!L11, IF(Q$6<=$V$2,0,\"\"))","v":""},{"$f":"IF('Data Entry'!N11 > 0,'Data Entry'!N11, IF(R$6<=$V$2,0,\"\"))","v":""},{"$f":"IF('Data Entry'!P11 > 0,'Data Entry'!P11, IF(S$6<=$V$2,0,\"\"))","v":""},{"$f":"IF('Data Entry'!R11 > 0,'Data Entry'!R11, IF(T$6<=$V$2,0,\"\"))","v":""},{"$f":"IF('Data Entry'!T11 > 0,'Data Entry'!T11, IF(U$6<=$V$2,0,\"\"))","v":""},{"$f":"IF('Data Entry'!V11 > 0,'Data Entry'!V11, IF(V$6<=$V$2,0,\"\"))","v":""},{"$f":"IF('Data Entry'!D56 > 0,'Data Entry'!D56, IF(W$6<=$V$2,0,\"\"))","v":""},{"$f":"IF('Data Entry'!F56 > 0,'Data Entry'!F56, IF(X$6<=$V$2,0,\"\"))","v":""},{"$f":"IF('Data Entry'!H56 > 0,'Data Entry'!H56, IF(Y$6<=$V$2,0,\"\"))","v":""},{"$f":"IF('Data Entry'!J56 > 0,'Data Entry'!J56, IF(Z$6<=$V$2,0,\"\"))","v":""},{"$f":"IF('Data Entry'!L56 > 0,'Data Entry'!L56, IF(AA$6<=$V$2,0,\"\"))","v":""},{"$f":"IF('Data Entry'!N56 > 0,'Data Entry'!N56, IF(AB$6<=$V$2,0,\"\"))","v":""},{"$f":"IF('Data Entry'!P56 > 0,'Data Entry'!P56, IF(AC$6<='Data Entry'!$Y$6,0,\"\"))","v":""},{"$f":"IF('Data Entry'!R56 > 0,'Data Entry'!R56, IF(AD$6<=$V$2,0,\"\"))","v":""},{"$f":"IF('Data Entry'!T56 > 0,'Data Entry'!T56, IF(AE$6<=$V$2,0,\"\"))","v":""},{"$f":"IF('Data Entry'!V56 > 0,'Data Entry'!V56, IF(AF$6<=$V$2,0,\"\"))","v":""},{"$f":"IF('Data Entry'!D101 > 0,'Data Entry'!D101, IF(AG$6<=$V$2,0,\"\"))","v":""},{"$f":"IF('Data Entry'!F101 > 0,'Data Entry'!F101, IF(AH$6<=$V$2,0,\"\"))","v":""},{"$f":"IF('Data Entry'!H101 > 0,'Data Entry'!H101, IF(AI$6<=$V$2,0,\"\"))","v":""},{"$f":"IF('Data Entry'!J101 > 0,'Data Entry'!J101, IF(AJ$6<=$V$2,0,\"\"))","v":""},{"$f":"IF('Data Entry'!L101 > 0,'Data Entry'!L101, IF(AK$6<=$V$2,0,\"\"))","v":""},{"$f":"IF('Data Entry'!N101 > 0,'Data Entry'!N101, IF(AL$6<=$V$2,0,\"\"))","v":""},{"$f":"IF('Data Entry'!P101 > 0,'Data Entry'!P101, IF(AM$6<=$V$2,0,\"\"))","v":""},{"$f":"IF('Data Entry'!R101 > 0,'Data Entry'!R101, IF(AN$6<=$V$2,0,\"\"))","v":""},{"$f":"IF('Data Entry'!T101 > 0,'Data Entry'!T101, IF(AO$6<=$V$2,0,\"\"))","v":""},{"$f":"IF('Data Entry'!V101 > 0,'Data Entry'!V101, IF(AP$6<=$V$2,0,\"\"))","v":""},{"$f":"IF('Data Entry'!D146 > 0,'Data Entry'!D146, IF(AQ$6<='Data Entry'!$Y$6,0,\"\"))","v":""},{"$f":"IF('Data Entry'!F146 > 0,'Data Entry'!F146, IF(AR$6<=$V$2,0,\"\"))","v":""},{"$f":"IF('Data Entry'!H146 > 0,'Data Entry'!H146, IF(AS$6<=$V$2,0,\"\"))","v":""},{"$f":"IF('Data Entry'!J146 > 0,'Data Entry'!J146, IF(AT$6<=$V$2,0,\"\"))","v":""},{"$f":"IF('Data Entry'!L146 > 0,'Data Entry'!L146, IF(AU$6<=$V$2,0,\"\"))","v":""},{"$f":"IF('Data Entry'!N146 > 0,'Data Entry'!N146, IF(AV$6<=$V$2,0,\"\"))","v":""},{"$f":"IF('Data Entry'!P146 > 0,'Data Entry'!P146, IF(AW$6<=$V$2,0,\"\"))","v":""},{"$f":"IF('Data Entry'!R146 > 0,'Data Entry'!R146, IF(AX$6<=$V$2,0,\"\"))","v":""},{"$f":"IF('Data Entry'!T146 > 0,'Data Entry'!T146, IF(AY$6<=$V$2,0,\"\"))","v":""},{"$f":"IF('Data Entry'!V146 > 0,'Data Entry'!V146, IF(AZ$6<=$V$2,0,\"\"))","v":""},{"$f":"IF('Data Entry'!D191 > 0,'Data Entry'!D191, IF(BA$6<=$V$2,0,\"\"))","v":""},{"$f":"IF('Data Entry'!F191 > 0,'Data Entry'!F191, IF(BB$6<=$V$2,0,\"\"))","v":""},{"$f":"IF('Data Entry'!H191 > 0,'Data Entry'!H191, IF(BC$6<=$V$2,0,\"\"))","v":""},{"$f":"IF('Data Entry'!J191 > 0,'Data Entry'!J191, IF(BD$6<=$V$2,0,\"\"))","v":""},{"$f":"IF('Data Entry'!L191 > 0,'Data Entry'!L191, IF(BE$6<=$V$2,0,\"\"))","v":""},{"$f":"IF('Data Entry'!N191 > 0,'Data Entry'!N191, IF(BF$6<=$V$2,0,\"\"))","v":""},{"$f":"IF('Data Entry'!P191 > 0,'Data Entry'!P191, IF(BG$6<=$V$2,0,\"\"))","v":""},{"$f":"IF('Data Entry'!R191 > 0,'Data Entry'!R191, IF(BH$6<=$V$2,0,\"\"))","v":""},{"$f":"IF('Data Entry'!T191 > 0,'Data Entry'!T191, IF(BI$6<=$V$2,0,\"\"))","v":""},{"$f":"IF('Data Entry'!V191 > 0,'Data Entry'!V191, IF(BJ$6<=$V$2,0,\"\"))","v":""}]
[null,null,{"$f":"IF('Data Entry'!C12<>\"\",'Data Entry'!C12,\"\")","v":""},0,"","",null,"","","",null,"",{"$f":"IF('Data Entry'!D12 > 0,'Data Entry'!D12, IF(M$6<=$V$2,0,\"\"))","v":""},{"$f":"IF('Data Entry'!F12 > 0,'Data Entry'!F12, IF(N$6<=$V$2,0,\"\"))","v":""},{"$f":"IF('Data Entry'!H12 > 0,'Data Entry'!H12, IF(O$6<=$V$2,0,\"\"))","v":""},{"$f":"IF('Data Entry'!J12 > 0,'Data Entry'!J12, IF(P$6<=$V$2,0,\"\"))","v":""},{"$f":"IF('Data Entry'!L12 > 0,'Data Entry'!L12, IF(Q$6<=$V$2,0,\"\"))","v":""},{"$f":"IF('Data Entry'!N12 > 0,'Data Entry'!N12, IF(R$6<=$V$2,0,\"\"))","v":""},{"$f":"IF('Data Entry'!P12 > 0,'Data Entry'!P12, IF(S$6<=$V$2,0,\"\"))","v":""},{"$f":"IF('Data Entry'!R12 > 0,'Data Entry'!R12, IF(T$6<=$V$2,0,\"\"))","v":""},{"$f":"IF('Data Entry'!T12 > 0,'Data Entry'!T12, IF(U$6<=$V$2,0,\"\"))","v":""},{"$f":"IF('Data Entry'!V12 > 0,'Data Entry'!V12, IF(V$6<=$V$2,0,\"\"))","v":""},{"$f":"IF('Data Entry'!D57 > 0,'Data Entry'!D57, IF(W$6<=$V$2,0,\"\"))","v":""},{"$f":"IF('Data Entry'!F57 > 0,'Data Entry'!F57, IF(X$6<=$V$2,0,\"\"))","v":""},{"$f":"IF('Data Entry'!H57 > 0,'Data Entry'!H57, IF(Y$6<=$V$2,0,\"\"))","v":""},{"$f":"IF('Data Entry'!J57 > 0,'Data Entry'!J57, IF(Z$6<=$V$2,0,\"\"))","v":""},{"$f":"IF('Data Entry'!L57 > 0,'Data Entry'!L57, IF(AA$6<=$V$2,0,\"\"))","v":""},{"$f":"IF('Data Entry'!N57 > 0,'Data Entry'!N57, IF(AB$6<=$V$2,0,\"\"))","v":""},{"$f":"IF('Data Entry'!P57 > 0,'Data Entry'!P57, IF(AC$6<='Data Entry'!$Y$6,0,\"\"))","v":""},{"$f":"IF('Data Entry'!R57 > 0,'Data Entry'!R57, IF(AD$6<=$V$2,0,\"\"))","v":""},{"$f":"IF('Data Entry'!T57 > 0,'Data Entry'!T57, IF(AE$6<=$V$2,0,\"\"))","v":""},{"$f":"IF('Data Entry'!V57 > 0,'Data Entry'!V57, IF(AF$6<=$V$2,0,\"\"))","v":""},{"$f":"IF('Data Entry'!D102 > 0,'Data Entry'!D102, IF(AG$6<=$V$2,0,\"\"))","v":""},{"$f":"IF('Data Entry'!F102 > 0,'Data Entry'!F102, IF(AH$6<=$V$2,0,\"\"))","v":""},{"$f":"IF('Data Entry'!H102 > 0,'Data Entry'!H102, IF(AI$6<=$V$2,0,\"\"))","v":""},{"$f":"IF('Data Entry'!J102 > 0,'Data Entry'!J102, IF(AJ$6<=$V$2,0,\"\"))","v":""},{"$f":"IF('Data Entry'!L102 > 0,'Data Entry'!L102, IF(AK$6<=$V$2,0,\"\"))","v":""},{"$f":"IF('Data Entry'!N102 > 0,'Data Entry'!N102, IF(AL$6<=$V$2,0,\"\"))","v":""},{"$f":"IF('Data Entry'!P102 > 0,'Data Entry'!P102, IF(AM$6<=$V$2,0,\"\"))","v":""},{"$f":"IF('Data Entry'!R102 > 0,'Data Entry'!R102, IF(AN$6<=$V$2,0,\"\"))","v":""},{"$f":"IF('Data Entry'!T102 > 0,'Data Entry'!T102, IF(AO$6<=$V$2,0,\"\"))","v":""},{"$f":"IF('Data Entry'!V102 > 0,'Data Entry'!V102, IF(AP$6<=$V$2,0,\"\"))","v":""},{"$f":"IF('Data Entry'!D147 > 0,'Data Entry'!D147, IF(AQ$6<='Data Entry'!$Y$6,0,\"\"))","v":""},{"$f":"IF('Data Entry'!F147 > 0,'Data Entry'!F147, IF(AR$6<=$V$2,0,\"\"))","v":""},{"$f":"IF('Data Entry'!H147 > 0,'Data Entry'!H147, IF(AS$6<=$V$2,0,\"\"))","v":""},{"$f":"IF('Data Entry'!J147 > 0,'Data Entry'!J147, IF(AT$6<=$V$2,0,\"\"))","v":""},{"$f":"IF('Data Entry'!L147 > 0,'Data Entry'!L147, IF(AU$6<=$V$2,0,\"\"))","v":""},{"$f":"IF('Data Entry'!N147 > 0,'Data Entry'!N147, IF(AV$6<=$V$2,0,\"\"))","v":""},{"$f":"IF('Data Entry'!P147 > 0,'Data Entry'!P147, IF(AW$6<=$V$2,0,\"\"))","v":""},{"$f":"IF('Data Entry'!R147 > 0,'Data Entry'!R147, IF(AX$6<=$V$2,0,\"\"))","v":""},{"$f":"IF('Data Entry'!T147 > 0,'Data Entry'!T147, IF(AY$6<=$V$2,0,\"\"))","v":""},{"$f":"IF('Data Entry'!V147 > 0,'Data Entry'!V147, IF(AZ$6<=$V$2,0,\"\"))","v":""},{"$f":"IF('Data Entry'!D192 > 0,'Data Entry'!D192, IF(BA$6<=$V$2,0,\"\"))","v":""},{"$f":"IF('Data Entry'!F192 > 0,'Data Entry'!F192, IF(BB$6<=$V$2,0,\"\"))","v":""},{"$f":"IF('Data Entry'!H192 > 0,'Data Entry'!H192, IF(BC$6<=$V$2,0,\"\"))","v":""},{"$f":"IF('Data Entry'!J192 > 0,'Data Entry'!J192, IF(BD$6<=$V$2,0,\"\"))","v":""},{"$f":"IF('Data Entry'!L192 > 0,'Data Entry'!L192, IF(BE$6<=$V$2,0,\"\"))","v":""},{"$f":"IF('Data Entry'!N192 > 0,'Data Entry'!N192, IF(BF$6<=$V$2,0,\"\"))","v":""},{"$f":"IF('Data Entry'!P192 > 0,'Data Entry'!P192, IF(BG$6<=$V$2,0,\"\"))","v":""},{"$f":"IF('Data Entry'!R192 > 0,'Data Entry'!R192, IF(BH$6<=$V$2,0,\"\"))","v":""},{"$f":"IF('Data Entry'!T192 > 0,'Data Entry'!T192, IF(BI$6<=$V$2,0,\"\"))","v":""},{"$f":"IF('Data Entry'!V192 > 0,'Data Entry'!V192, IF(BJ$6<=$V$2,0,\"\"))","v":""}]
[null,null,{"$f":"IF('Data Entry'!C13<>\"\",'Data Entry'!C13,\"\")","v":""},0,"","",null,"","","",null,"",{"$f":"IF('Data Entry'!D13 > 0,'Data Entry'!D13, IF(M$6<=$V$2,0,\"\"))","v":""},{"$f":"IF('Data Entry'!F13 > 0,'Data Entry'!F13, IF(N$6<=$V$2,0,\"\"))","v":""},{"$f":"IF('Data Entry'!H13 > 0,'Data Entry'!H13, IF(O$6<=$V$2,0,\"\"))","v":""},{"$f":"IF('Data Entry'!J13 > 0,'Data Entry'!J13, IF(P$6<=$V$2,0,\"\"))","v":""},{"$f":"IF('Data Entry'!L13 > 0,'Data Entry'!L13, IF(Q$6<=$V$2,0,\"\"))","v":""},{"$f":"IF('Data Entry'!N13 > 0,'Data Entry'!N13, IF(R$6<=$V$2,0,\"\"))","v":""},{"$f":"IF('Data Entry'!P13 > 0,'Data Entry'!P13, IF(S$6<=$V$2,0,\"\"))","v":""},{"$f":"IF('Data Entry'!R13 > 0,'Data Entry'!R13, IF(T$6<=$V$2,0,\"\"))","v":""},{"$f":"IF('Data Entry'!T13 > 0,'Data Entry'!T13, IF(U$6<=$V$2,0,\"\"))","v":""},{"$f":"IF('Data Entry'!V13 > 0,'Data Entry'!V13, IF(V$6<=$V$2,0,\"\"))","v":""},{"$f":"IF('Data Entry'!D58 > 0,'Data Entry'!D58, IF(W$6<=$V$2,0,\"\"))","v":""},{"$f":"IF('Data Entry'!F58 > 0,'Data Entry'!F58, IF(X$6<=$V$2,0,\"\"))","v":""},{"$f":"IF('Data Entry'!H58 > 0,'Data Entry'!H58, IF(Y$6<=$V$2,0,\"\"))","v":""},{"$f":"IF('Data Entry'!J58 > 0,'Data Entry'!J58, IF(Z$6<=$V$2,0,\"\"))","v":""},{"$f":"IF('Data Entry'!L58 > 0,'Data Entry'!L58, IF(AA$6<=$V$2,0,\"\"))","v":""},{"$f":"IF('Data Entry'!N58 > 0,'Data Entry'!N58, IF(AB$6<=$V$2,0,\"\"))","v":""},{"$f":"IF('Data Entry'!P58 > 0,'Data Entry'!P58, IF(AC$6<='Data Entry'!$Y$6,0,\"\"))","v":""},{"$f":"IF('Data Entry'!R58 > 0,'Data Entry'!R58, IF(AD$6<=$V$2,0,\"\"))","v":""},{"$f":"IF('Data Entry'!T58 > 0,'Data Entry'!T58, IF(AE$6<=$V$2,0,\"\"))","v":""},{"$f":"IF('Data Entry'!V58 > 0,'Data Entry'!V58, IF(AF$6<=$V$2,0,\"\"))","v":""},{"$f":"IF('Data Entry'!D103 > 0,'Data Entry'!D103, IF(AG$6<=$V$2,0,\"\"))","v":""},{"$f":"IF('Data Entry'!F103 > 0,'Data Entry'!F103, IF(AH$6<=$V$2,0,\"\"))","v":""},{"$f":"IF('Data Entry'!H103 > 0,'Data Entry'!H103, IF(AI$6<=$V$2,0,\"\"))","v":""},{"$f":"IF('Data Entry'!J103 > 0,'Data Entry'!J103, IF(AJ$6<=$V$2,0,\"\"))","v":""},{"$f":"IF('Data Entry'!L103 > 0,'Data Entry'!L103, IF(AK$6<=$V$2,0,\"\"))","v":""},{"$f":"IF('Data Entry'!N103 > 0,'Data Entry'!N103, IF(AL$6<=$V$2,0,\"\"))","v":""},{"$f":"IF('Data Entry'!P103 > 0,'Data Entry'!P103, IF(AM$6<=$V$2,0,\"\"))","v":""},{"$f":"IF('Data Entry'!R103 > 0,'Data Entry'!R103, IF(AN$6<=$V$2,0,\"\"))","v":""},{"$f":"IF('Data Entry'!T103 > 0,'Data Entry'!T103, IF(AO$6<=$V$2,0,\"\"))","v":""},{"$f":"IF('Data Entry'!V103 > 0,'Data Entry'!V103, IF(AP$6<=$V$2,0,\"\"))","v":""},{"$f":"IF('Data Entry'!D148 > 0,'Data Entry'!D148, IF(AQ$6<='Data Entry'!$Y$6,0,\"\"))","v":""},{"$f":"IF('Data Entry'!F148 > 0,'Data Entry'!F148, IF(AR$6<=$V$2,0,\"\"))","v":""},{"$f":"IF('Data Entry'!H148 > 0,'Data Entry'!H148, IF(AS$6<=$V$2,0,\"\"))","v":""},{"$f":"IF('Data Entry'!J148 > 0,'Data Entry'!J148, IF(AT$6<=$V$2,0,\"\"))","v":""},{"$f":"IF('Data Entry'!L148 > 0,'Data Entry'!L148, IF(AU$6<=$V$2,0,\"\"))","v":""},{"$f":"IF('Data Entry'!N148 > 0,'Data Entry'!N148, IF(AV$6<=$V$2,0,\"\"))","v":""},{"$f":"IF('Data Entry'!P148 > 0,'Data Entry'!P148, IF(AW$6<=$V$2,0,\"\"))","v":""},{"$f":"IF('Data Entry'!R148 > 0,'Data Entry'!R148, IF(AX$6<=$V$2,0,\"\"))","v":""},{"$f":"IF('Data Entry'!T148 > 0,'Data Entry'!T148, IF(AY$6<=$V$2,0,\"\"))","v":""},{"$f":"IF('Data Entry'!V148 > 0,'Data Entry'!V148, IF(AZ$6<=$V$2,0,\"\"))","v":""},{"$f":"IF('Data Entry'!D193 > 0,'Data Entry'!D193, IF(BA$6<=$V$2,0,\"\"))","v":""},{"$f":"IF('Data Entry'!F193 > 0,'Data Entry'!F193, IF(BB$6<=$V$2,0,\"\"))","v":""},{"$f":"IF('Data Entry'!H193 > 0,'Data Entry'!H193, IF(BC$6<=$V$2,0,\"\"))","v":""},{"$f":"IF('Data Entry'!J193 > 0,'Data Entry'!J193, IF(BD$6<=$V$2,0,\"\"))","v":""},{"$f":"IF('Data Entry'!L193 > 0,'Data Entry'!L193, IF(BE$6<=$V$2,0,\"\"))","v":""},{"$f":"IF('Data Entry'!N193 > 0,'Data Entry'!N193, IF(BF$6<=$V$2,0,\"\"))","v":""},{"$f":"IF('Data Entry'!P193 > 0,'Data Entry'!P193, IF(BG$6<=$V$2,0,\"\"))","v":""},{"$f":"IF('Data Entry'!R193 > 0,'Data Entry'!R193, IF(BH$6<=$V$2,0,\"\"))","v":""},{"$f":"IF('Data Entry'!T193 > 0,'Data Entry'!T193, IF(BI$6<=$V$2,0,\"\"))","v":""},{"$f":"IF('Data Entry'!V193 > 0,'Data Entry'!V193, IF(BJ$6<=$V$2,0,\"\"))","v":""}]
[null,null,{"$f":"IF('Data Entry'!C14<>\"\",'Data Entry'!C14,\"\")","v":""},0,"","",null,"","","",null,"",{"$f":"IF('Data Entry'!D14 > 0,'Data Entry'!D14, IF(M$6<=$V$2,0,\"\"))","v":""},{"$f":"IF('Data Entry'!F14 > 0,'Data Entry'!F14, IF(N$6<=$V$2,0,\"\"))","v":""},{"$f":"IF('Data Entry'!H14 > 0,'Data Entry'!H14, IF(O$6<=$V$2,0,\"\"))","v":""},{"$f":"IF('Data Entry'!J14 > 0,'Data Entry'!J14, IF(P$6<=$V$2,0,\"\"))","v":""},{"$f":"IF('Data Entry'!L14 > 0,'Data Entry'!L14, IF(Q$6<=$V$2,0,\"\"))","v":""},{"$f":"IF('Data Entry'!N14 > 0,'Data Entry'!N14, IF(R$6<=$V$2,0,\"\"))","v":""},{"$f":"IF('Data Entry'!P14 > 0,'Data Entry'!P14, IF(S$6<=$V$2,0,\"\"))","v":""},{"$f":"IF('Data Entry'!R14 > 0,'Data Entry'!R14, IF(T$6<=$V$2,0,\"\"))","v":""},{"$f":"IF('Data Entry'!T14 > 0,'Data Entry'!T14, IF(U$6<=$V$2,0,\"\"))","v":""},{"$f":"IF('Data Entry'!V14 > 0,'Data Entry'!V14, IF(V$6<=$V$2,0,\"\"))","v":""},{"$f":"IF('Data Entry'!D59 > 0,'Data Entry'!D59, IF(W$6<=$V$2,0,\"\"))","v":""},{"$f":"IF('Data Entry'!F59 > 0,'Data Entry'!F59, IF(X$6<=$V$2,0,\"\"))","v":""},{"$f":"IF('Data Entry'!H59 > 0,'Data Entry'!H59, IF(Y$6<=$V$2,0,\"\"))","v":""},{"$f":"IF('Data Entry'!J59 > 0,'Data Entry'!J59, IF(Z$6<=$V$2,0,\"\"))","v":""},{"$f":"IF('Data Entry'!L59 > 0,'Data Entry'!L59, IF(AA$6<=$V$2,0,\"\"))","v":""},{"$f":"IF('Data Entry'!N59 > 0,'Data Entry'!N59, IF(AB$6<=$V$2,0,\"\"))","v":""},{"$f":"IF('Data Entry'!P59 > 0,'Data Entry'!P59, IF(AC$6<='Data Entry'!$Y$6,0,\"\"))","v":""},{"$f":"IF('Data Entry'!R59 > 0,'Data Entry'!R59, IF(AD$6<=$V$2,0,\"\"))","v":""},{"$f":"IF('Data Entry'!T59 > 0,'Data Entry'!T59, IF(AE$6<=$V$2,0,\"\"))","v":""},{"$f":"IF('Data Entry'!V59 > 0,'Data Entry'!V59, IF(AF$6<=$V$2,0,\"\"))","v":""},{"$f":"IF('Data Entry'!D104 > 0,'Data Entry'!D104, IF(AG$6<=$V$2,0,\"\"))","v":""},{"$f":"IF('Data Entry'!F104 > 0,'Data Entry'!F104, IF(AH$6<=$V$2,0,\"\"))","v":""},{"$f":"IF('Data Entry'!H104 > 0,'Data Entry'!H104, IF(AI$6<=$V$2,0,\"\"))","v":""},{"$f":"IF('Data Entry'!J104 > 0,'Data Entry'!J104, IF(AJ$6<=$V$2,0,\"\"))","v":""},{"$f":"IF('Data Entry'!L104 > 0,'Data Entry'!L104, IF(AK$6<=$V$2,0,\"\"))","v":""},{"$f":"IF('Data Entry'!N104 > 0,'Data Entry'!N104, IF(AL$6<=$V$2,0,\"\"))","v":""},{"$f":"IF('Data Entry'!P104 > 0,'Data Entry'!P104, IF(AM$6<=$V$2,0,\"\"))","v":""},{"$f":"IF('Data Entry'!R104 > 0,'Data Entry'!R104, IF(AN$6<=$V$2,0,\"\"))","v":""},{"$f":"IF('Data Entry'!T104 > 0,'Data Entry'!T104, IF(AO$6<=$V$2,0,\"\"))","v":""},{"$f":"IF('Data Entry'!V104 > 0,'Data Entry'!V104, IF(AP$6<=$V$2,0,\"\"))","v":""},{"$f":"IF('Data Entry'!D149 > 0,'Data Entry'!D149, IF(AQ$6<='Data Entry'!$Y$6,0,\"\"))","v":""},{"$f":"IF('Data Entry'!F149 > 0,'Data Entry'!F149, IF(AR$6<=$V$2,0,\"\"))","v":""},{"$f":"IF('Data Entry'!H149 > 0,'Data Entry'!H149, IF(AS$6<=$V$2,0,\"\"))","v":""},{"$f":"IF('Data Entry'!J149 > 0,'Data Entry'!J149, IF(AT$6<=$V$2,0,\"\"))","v":""},{"$f":"IF('Data Entry'!L149 > 0,'Data Entry'!L149, IF(AU$6<=$V$2,0,\"\"))","v":""},{"$f":"IF('Data Entry'!N149 > 0,'Data Entry'!N149, IF(AV$6<=$V$2,0,\"\"))","v":""},{"$f":"IF('Data Entry'!P149 > 0,'Data Entry'!P149, IF(AW$6<=$V$2,0,\"\"))","v":""},{"$f":"IF('Data Entry'!R149 > 0,'Data Entry'!R149, IF(AX$6<=$V$2,0,\"\"))","v":""},{"$f":"IF('Data Entry'!T149 > 0,'Data Entry'!T149, IF(AY$6<=$V$2,0,\"\"))","v":""},{"$f":"IF('Data Entry'!V149 > 0,'Data Entry'!V149, IF(AZ$6<=$V$2,0,\"\"))","v":""},{"$f":"IF('Data Entry'!D194 > 0,'Data Entry'!D194, IF(BA$6<=$V$2,0,\"\"))","v":""},{"$f":"IF('Data Entry'!F194 > 0,'Data Entry'!F194, IF(BB$6<=$V$2,0,\"\"))","v":""},{"$f":"IF('Data Entry'!H194 > 0,'Data Entry'!H194, IF(BC$6<=$V$2,0,\"\"))","v":""},{"$f":"IF('Data Entry'!J194 > 0,'Data Entry'!J194, IF(BD$6<=$V$2,0,\"\"))","v":""},{"$f":"IF('Data Entry'!L194 > 0,'Data Entry'!L194, IF(BE$6<=$V$2,0,\"\"))","v":""},{"$f":"IF('Data Entry'!N194 > 0,'Data Entry'!N194, IF(BF$6<=$V$2,0,\"\"))","v":""},{"$f":"IF('Data Entry'!P194 > 0,'Data Entry'!P194, IF(BG$6<=$V$2,0,\"\"))","v":""},{"$f":"IF('Data Entry'!R194 > 0,'Data Entry'!R194, IF(BH$6<=$V$2,0,\"\"))","v":""},{"$f":"IF('Data Entry'!T194 > 0,'Data Entry'!T194, IF(BI$6<=$V$2,0,\"\"))","v":""},{"$f":"IF('Data Entry'!V194 > 0,'Data Entry'!V194, IF(BJ$6<=$V$2,0,\"\"))","v":""}]
[null,null,{"$f":"IF('Data Entry'!C15<>\"\",'Data Entry'!C15,\"\")","v":""},0,"","",null,"","","",null,"",{"$f":"IF('Data Entry'!D15 > 0,'Data Entry'!D15, IF(M$6<=$V$2,0,\"\"))","v":""},{"$f":"IF('Data Entry'!F15 > 0,'Data Entry'!F15, IF(N$6<=$V$2,0,\"\"))","v":""},{"$f":"IF('Data Entry'!H15 > 0,'Data Entry'!H15, IF(O$6<=$V$2,0,\"\"))","v":""},{"$f":"IF('Data Entry'!J15 > 0,'Data Entry'!J15, IF(P$6<=$V$2,0,\"\"))","v":""},{"$f":"IF('Data Entry'!L15 > 0,'Data Entry'!L15, IF(Q$6<=$V$2,0,\"\"))","v":""},{"$f":"IF('Data Entry'!N15 > 0,'Data Entry'!N15, IF(R$6<=$V$2,0,\"\"))","v":""},{"$f":"IF('Data Entry'!P15 > 0,'Data Entry'!P15, IF(S$6<=$V$2,0,\"\"))","v":""},{"$f":"IF('Data Entry'!R15 > 0,'Data Entry'!R15, IF(T$6<=$V$2,0,\"\"))","v":""},{"$f":"IF('Data Entry'!T15 > 0,'Data Entry'!T15, IF(U$6<=$V$2,0,\"\"))","v":""},{"$f":"IF('Data Entry'!V15 > 0,'Data Entry'!V15, IF(V$6<=$V$2,0,\"\"))","v":""},{"$f":"IF('Data Entry'!D60 > 0,'Data Entry'!D60, IF(W$6<=$V$2,0,\"\"))","v":""},{"$f":"IF('Data Entry'!F60 > 0,'Data Entry'!F60, IF(X$6<=$V$2,0,\"\"))","v":""},{"$f":"IF('Data Entry'!H60 > 0,'Data Entry'!H60, IF(Y$6<=$V$2,0,\"\"))","v":""},{"$f":"IF('Data Entry'!J60 > 0,'Data Entry'!J60, IF(Z$6<=$V$2,0,\"\"))","v":""},{"$f":"IF('Data Entry'!L60 > 0,'Data Entry'!L60, IF(AA$6<=$V$2,0,\"\"))","v":""},{"$f":"IF('Data Entry'!N60 > 0,'Data Entry'!N60, IF(AB$6<=$V$2,0,\"\"))","v":""},{"$f":"IF('Data Entry'!P60 > 0,'Data Entry'!P60, IF(AC$6<='Data Entry'!$Y$6,0,\"\"))","v":""},{"$f":"IF('Data Entry'!R60 > 0,'Data Entry'!R60, IF(AD$6<=$V$2,0,\"\"))","v":""},{"$f":"IF('Data Entry'!T60 > 0,'Data Entry'!T60, IF(AE$6<=$V$2,0,\"\"))","v":""},{"$f":"IF('Data Entry'!V60 > 0,'Data Entry'!V60, IF(AF$6<=$V$2,0,\"\"))","v":""},{"$f":"IF('Data Entry'!D105 > 0,'Data Entry'!D105, IF(AG$6<=$V$2,0,\"\"))","v":""},{"$f":"IF('Data Entry'!F105 > 0,'Data Entry'!F105, IF(AH$6<=$V$2,0,\"\"))","v":""},{"$f":"IF('Data Entry'!H105 > 0,'Data Entry'!H105, IF(AI$6<=$V$2,0,\"\"))","v":""},{"$f":"IF('Data Entry'!J105 > 0,'Data Entry'!J105, IF(AJ$6<=$V$2,0,\"\"))","v":""},{"$f":"IF('Data Entry'!L105 > 0,'Data Entry'!L105, IF(AK$6<=$V$2,0,\"\"))","v":""},{"$f":"IF('Data Entry'!N105 > 0,'Data Entry'!N105, IF(AL$6<=$V$2,0,\"\"))","v":""},{"$f":"IF('Data Entry'!P105 > 0,'Data Entry'!P105, IF(AM$6<=$V$2,0,\"\"))","v":""},{"$f":"IF('Data Entry'!R105 > 0,'Data Entry'!R105, IF(AN$6<=$V$2,0,\"\"))","v":""},{"$f":"IF('Data Entry'!T105 > 0,'Data Entry'!T105, IF(AO$6<=$V$2,0,\"\"))","v":""},{"$f":"IF('Data Entry'!V105 > 0,'Data Entry'!V105, IF(AP$6<=$V$2,0,\"\"))","v":""},{"$f":"IF('Data Entry'!D150 > 0,'Data Entry'!D150, IF(AQ$6<='Data Entry'!$Y$6,0,\"\"))","v":""},{"$f":"IF('Data Entry'!F150 > 0,'Data Entry'!F150, IF(AR$6<=$V$2,0,\"\"))","v":""},{"$f":"IF('Data Entry'!H150 > 0,'Data Entry'!H150, IF(AS$6<=$V$2,0,\"\"))","v":""},{"$f":"IF('Data Entry'!J150 > 0,'Data Entry'!J150, IF(AT$6<=$V$2,0,\"\"))","v":""},{"$f":"IF('Data Entry'!L150 > 0,'Data Entry'!L150, IF(AU$6<=$V$2,0,\"\"))","v":""},{"$f":"IF('Data Entry'!N150 > 0,'Data Entry'!N150, IF(AV$6<=$V$2,0,\"\"))","v":""},{"$f":"IF('Data Entry'!P150 > 0,'Data Entry'!P150, IF(AW$6<=$V$2,0,\"\"))","v":""},{"$f":"IF('Data Entry'!R150 > 0,'Data Entry'!R150, IF(AX$6<=$V$2,0,\"\"))","v":""},{"$f":"IF('Data Entry'!T150 > 0,'Data Entry'!T150, IF(AY$6<=$V$2,0,\"\"))","v":""},{"$f":"IF('Data Entry'!V150 > 0,'Data Entry'!V150, IF(AZ$6<=$V$2,0,\"\"))","v":""},{"$f":"IF('Data Entry'!D195 > 0,'Data Entry'!D195, IF(BA$6<=$V$2,0,\"\"))","v":""},{"$f":"IF('Data Entry'!F195 > 0,'Data Entry'!F195, IF(BB$6<=$V$2,0,\"\"))","v":""},{"$f":"IF('Data Entry'!H195 > 0,'Data Entry'!H195, IF(BC$6<=$V$2,0,\"\"))","v":""},{"$f":"IF('Data Entry'!J195 > 0,'Data Entry'!J195, IF(BD$6<=$V$2,0,\"\"))","v":""},{"$f":"IF('Data Entry'!L195 > 0,'Data Entry'!L195, IF(BE$6<=$V$2,0,\"\"))","v":""},{"$f":"IF('Data Entry'!N195 > 0,'Data Entry'!N195, IF(BF$6<=$V$2,0,\"\"))","v":""},{"$f":"IF('Data Entry'!P195 > 0,'Data Entry'!P195, IF(BG$6<=$V$2,0,\"\"))","v":""},{"$f":"IF('Data Entry'!R195 > 0,'Data Entry'!R195, IF(BH$6<=$V$2,0,\"\"))","v":""},{"$f":"IF('Data Entry'!T195 > 0,'Data Entry'!T195, IF(BI$6<=$V$2,0,\"\"))","v":""},{"$f":"IF('Data Entry'!V195 > 0,'Data Entry'!V195, IF(BJ$6<=$V$2,0,\"\"))","v":""}]
[null,null,{"$f":"IF('Data Entry'!C16<>\"\",'Data Entry'!C16,\"\")","v":""},0,"","",null,"","","",null,"",{"$f":"IF('Data Entry'!D16 > 0,'Data Entry'!D16, IF(M$6<=$V$2,0,\"\"))","v":""},{"$f":"IF('Data Entry'!F16 > 0,'Data Entry'!F16, IF(N$6<=$V$2,0,\"\"))","v":""},{"$f":"IF('Data Entry'!H16 > 0,'Data Entry'!H16, IF(O$6<=$V$2,0,\"\"))","v":""},{"$f":"IF('Data Entry'!J16 > 0,'Data Entry'!J16, IF(P$6<=$V$2,0,\"\"))","v":""},{"$f":"IF('Data Entry'!L16 > 0,'Data Entry'!L16, IF(Q$6<=$V$2,0,\"\"))","v":""},{"$f":"IF('Data Entry'!N16 > 0,'Data Entry'!N16, IF(R$6<=$V$2,0,\"\"))","v":""},{"$f":"IF('Data Entry'!P16 > 0,'Data Entry'!P16, IF(S$6<=$V$2,0,\"\"))","v":""},{"$f":"IF('Data Entry'!R16 > 0,'Data Entry'!R16, IF(T$6<=$V$2,0,\"\"))","v":""},{"$f":"IF('Data Entry'!T16 > 0,'Data Entry'!T16, IF(U$6<=$V$2,0,\"\"))","v":""},{"$f":"IF('Data Entry'!V16 > 0,'Data Entry'!V16, IF(V$6<=$V$2,0,\"\"))","v":""},{"$f":"IF('Data Entry'!D61 > 0,'Data Entry'!D61, IF(W$6<=$V$2,0,\"\"))","v":""},{"$f":"IF('Data Entry'!F61 > 0,'Data Entry'!F61, IF(X$6<=$V$2,0,\"\"))","v":""},{"$f":"IF('Data Entry'!H61 > 0,'Data Entry'!H61, IF(Y$6<=$V$2,0,\"\"))","v":""},{"$f":"IF('Data Entry'!J61 > 0,'Data Entry'!J61, IF(Z$6<=$V$2,0,\"\"))","v":""},{"$f":"IF('Data Entry'!L61 > 0,'Data Entry'!L61, IF(AA$6<=$V$2,0,\"\"))","v":""},{"$f":"IF('Data Entry'!N61 > 0,'Data Entry'!N61, IF(AB$6<=$V$2,0,\"\"))","v":""},{"$f":"IF('Data Entry'!P61 > 0,'Data Entry'!P61, IF(AC$6<='Data Entry'!$Y$6,0,\"\"))","v":""},{"$f":"IF('Data Entry'!R61 > 0,'Data Entry'!R61, IF(AD$6<=$V$2,0,\"\"))","v":""},{"$f":"IF('Data Entry'!T61 > 0,'Data Entry'!T61, IF(AE$6<=$V$2,0,\"\"))","v":""},{"$f":"IF('Data Entry'!V61 > 0,'Data Entry'!V61, IF(AF$6<=$V$2,0,\"\"))","v":""},{"$f":"IF('Data Entry'!D106 > 0,'Data Entry'!D106, IF(AG$6<=$V$2,0,\"\"))","v":""},{"$f":"IF('Data Entry'!F106 > 0,'Data Entry'!F106, IF(AH$6<=$V$2,0,\"\"))","v":""},{"$f":"IF('Data Entry'!H106 > 0,'Data Entry'!H106, IF(AI$6<=$V$2,0,\"\"))","v":""},{"$f":"IF('Data Entry'!J106 > 0,'Data Entry'!J106, IF(AJ$6<=$V$2,0,\"\"))","v":""},{"$f":"IF('Data Entry'!L106 > 0,'Data Entry'!L106, IF(AK$6<=$V$2,0,\"\"))","v":""},{"$f":"IF('Data Entry'!N106 > 0,'Data Entry'!N106, IF(AL$6<=$V$2,0,\"\"))","v":""},{"$f":"IF('Data Entry'!P106 > 0,'Data Entry'!P106, IF(AM$6<=$V$2,0,\"\"))","v":""},{"$f":"IF('Data Entry'!R106 > 0,'Data Entry'!R106, IF(AN$6<=$V$2,0,\"\"))","v":""},{"$f":"IF('Data Entry'!T106 > 0,'Data Entry'!T106, IF(AO$6<=$V$2,0,\"\"))","v":""},{"$f":"IF('Data Entry'!V106 > 0,'Data Entry'!V106, IF(AP$6<=$V$2,0,\"\"))","v":""},{"$f":"IF('Data Entry'!D151 > 0,'Data Entry'!D151, IF(AQ$6<='Data Entry'!$Y$6,0,\"\"))","v":""},{"$f":"IF('Data Entry'!F151 > 0,'Data Entry'!F151, IF(AR$6<=$V$2,0,\"\"))","v":""},{"$f":"IF('Data Entry'!H151 > 0,'Data Entry'!H151, IF(AS$6<=$V$2,0,\"\"))","v":""},{"$f":"IF('Data Entry'!J151 > 0,'Data Entry'!J151, IF(AT$6<=$V$2,0,\"\"))","v":""},{"$f":"IF('Data Entry'!L151 > 0,'Data Entry'!L151, IF(AU$6<=$V$2,0,\"\"))","v":""},{"$f":"IF('Data Entry'!N151 > 0,'Data Entry'!N151, IF(AV$6<=$V$2,0,\"\"))","v":""},{"$f":"IF('Data Entry'!P151 > 0,'Data Entry'!P151, IF(AW$6<=$V$2,0,\"\"))","v":""},{"$f":"IF('Data Entry'!R151 > 0,'Data Entry'!R151, IF(AX$6<=$V$2,0,\"\"))","v":""},{"$f":"IF('Data Entry'!T151 > 0,'Data Entry'!T151, IF(AY$6<=$V$2,0,\"\"))","v":""},{"$f":"IF('Data Entry'!V151 > 0,'Data Entry'!V151, IF(AZ$6<=$V$2,0,\"\"))","v":""},{"$f":"IF('Data Entry'!D196 > 0,'Data Entry'!D196, IF(BA$6<=$V$2,0,\"\"))","v":""},{"$f":"IF('Data Entry'!F196 > 0,'Data Entry'!F196, IF(BB$6<=$V$2,0,\"\"))","v":""},{"$f":"IF('Data Entry'!H196 > 0,'Data Entry'!H196, IF(BC$6<=$V$2,0,\"\"))","v":""},{"$f":"IF('Data Entry'!J196 > 0,'Data Entry'!J196, IF(BD$6<=$V$2,0,\"\"))","v":""},{"$f":"IF('Data Entry'!L196 > 0,'Data Entry'!L196, IF(BE$6<=$V$2,0,\"\"))","v":""},{"$f":"IF('Data Entry'!N196 > 0,'Data Entry'!N196, IF(BF$6<=$V$2,0,\"\"))","v":""},{"$f":"IF('Data Entry'!P196 > 0,'Data Entry'!P196, IF(BG$6<=$V$2,0,\"\"))","v":""},{"$f":"IF('Data Entry'!R196 > 0,'Data Entry'!R196, IF(BH$6<=$V$2,0,\"\"))","v":""},{"$f":"IF('Data Entry'!T196 > 0,'Data Entry'!T196, IF(BI$6<=$V$2,0,\"\"))","v":""},{"$f":"IF('Data Entry'!V196 > 0,'Data Entry'!V196, IF(BJ$6<=$V$2,0,\"\"))","v":""}]
[null,null,{"$f":"IF('Data Entry'!C17<>\"\",'Data Entry'!C17,\"\")","v":""},0,"","",null,"","","",null,"",{"$f":"IF('Data Entry'!D17 > 0,'Data Entry'!D17, IF(M$6<=$V$2,0,\"\"))","v":""},{"$f":"IF('Data Entry'!F17 > 0,'Data Entry'!F17, IF(N$6<=$V$2,0,\"\"))","v":""},{"$f":"IF('Data Entry'!H17 > 0,'Data Entry'!H17, IF(O$6<=$V$2,0,\"\"))","v":""},{"$f":"IF('Data Entry'!J17 > 0,'Data Entry'!J17, IF(P$6<=$V$2,0,\"\"))","v":""},{"$f":"IF('Data Entry'!L17 > 0,'Data Entry'!L17, IF(Q$6<=$V$2,0,\"\"))","v":""},{"$f":"IF('Data Entry'!N17 > 0,'Data Entry'!N17, IF(R$6<=$V$2,0,\"\"))","v":""},{"$f":"IF('Data Entry'!P17 > 0,'Data Entry'!P17, IF(S$6<=$V$2,0,\"\"))","v":""},{"$f":"IF('Data Entry'!R17 > 0,'Data Entry'!R17, IF(T$6<=$V$2,0,\"\"))","v":""},{"$f":"IF('Data Entry'!T17 > 0,'Data Entry'!T17, IF(U$6<=$V$2,0,\"\"))","v":""},{"$f":"IF('Data Entry'!V17 > 0,'Data Entry'!V17, IF(V$6<=$V$2,0,\"\"))","v":""},{"$f":"IF('Data Entry'!D62 > 0,'Data Entry'!D62, IF(W$6<=$V$2,0,\"\"))","v":""},{"$f":"IF('Data Entry'!F62 > 0,'Data Entry'!F62, IF(X$6<=$V$2,0,\"\"))","v":""},{"$f":"IF('Data Entry'!H62 > 0,'Data Entry'!H62, IF(Y$6<=$V$2,0,\"\"))","v":""},{"$f":"IF('Data Entry'!J62 > 0,'Data Entry'!J62, IF(Z$6<=$V$2,0,\"\"))","v":""},{"$f":"IF('Data Entry'!L62 > 0,'Data Entry'!L62, IF(AA$6<=$V$2,0,\"\"))","v":""},{"$f":"IF('Data Entry'!N62 > 0,'Data Entry'!N62, IF(AB$6<=$V$2,0,\"\"))","v":""},{"$f":"IF('Data Entry'!P62 > 0,'Data Entry'!P62, IF(AC$6<='Data Entry'!$Y$6,0,\"\"))","v":""},{"$f":"IF('Data Entry'!R62 > 0,'Data Entry'!R62, IF(AD$6<=$V$2,0,\"\"))","v":""},{"$f":"IF('Data Entry'!T62 > 0,'Data Entry'!T62, IF(AE$6<=$V$2,0,\"\"))","v":""},{"$f":"IF('Data Entry'!V62 > 0,'Data Entry'!V62, IF(AF$6<=$V$2,0,\"\"))","v":""},{"$f":"IF('Data Entry'!D107 > 0,'Data Entry'!D107, IF(AG$6<=$V$2,0,\"\"))","v":""},{"$f":"IF('Data Entry'!F107 > 0,'Data Entry'!F107, IF(AH$6<=$V$2,0,\"\"))","v":""},{"$f":"IF('Data Entry'!H107 > 0,'Data Entry'!H107, IF(AI$6<=$V$2,0,\"\"))","v":""},{"$f":"IF('Data Entry'!J107 > 0,'Data Entry'!J107, IF(AJ$6<=$V$2,0,\"\"))","v":""},{"$f":"IF('Data Entry'!L107 > 0,'Data Entry'!L107, IF(AK$6<=$V$2,0,\"\"))","v":""},{"$f":"IF('Data Entry'!N107 > 0,'Data Entry'!N107, IF(AL$6<=$V$2,0,\"\"))","v":""},{"$f":"IF('Data Entry'!P107 > 0,'Data Entry'!P107, IF(AM$6<=$V$2,0,\"\"))","v":""},{"$f":"IF('Data Entry'!R107 > 0,'Data Entry'!R107, IF(AN$6<=$V$2,0,\"\"))","v":""},{"$f":"IF('Data Entry'!T107 > 0,'Data Entry'!T107, IF(AO$6<=$V$2,0,\"\"))","v":""},{"$f":"IF('Data Entry'!V107 > 0,'Data Entry'!V107, IF(AP$6<=$V$2,0,\"\"))","v":""},{"$f":"IF('Data Entry'!D152 > 0,'Data Entry'!D152, IF(AQ$6<='Data Entry'!$Y$6,0,\"\"))","v":""},{"$f":"IF('Data Entry'!F152 > 0,'Data Entry'!F152, IF(AR$6<=$V$2,0,\"\"))","v":""},{"$f":"IF('Data Entry'!H152 > 0,'Data Entry'!H152, IF(AS$6<=$V$2,0,\"\"))","v":""},{"$f":"IF('Data Entry'!J152 > 0,'Data Entry'!J152, IF(AT$6<=$V$2,0,\"\"))","v":""},{"$f":"IF('Data Entry'!L152 > 0,'Data Entry'!L152, IF(AU$6<=$V$2,0,\"\"))","v":""},{"$f":"IF('Data Entry'!N152 > 0,'Data Entry'!N152, IF(AV$6<=$V$2,0,\"\"))","v":""},{"$f":"IF('Data Entry'!P152 > 0,'Data Entry'!P152, IF(AW$6<=$V$2,0,\"\"))","v":""},{"$f":"IF('Data Entry'!R152 > 0,'Data Entry'!R152, IF(AX$6<=$V$2,0,\"\"))","v":""},{"$f":"IF('Data Entry'!T152 > 0,'Data Entry'!T152, IF(AY$6<=$V$2,0,\"\"))","v":""},{"$f":"IF('Data Entry'!V152 > 0,'Data Entry'!V152, IF(AZ$6<=$V$2,0,\"\"))","v":""},{"$f":"IF('Data Entry'!D197 > 0,'Data Entry'!D197, IF(BA$6<=$V$2,0,\"\"))","v":""},{"$f":"IF('Data Entry'!F197 > 0,'Data Entry'!F197, IF(BB$6<=$V$2,0,\"\"))","v":""},{"$f":"IF('Data Entry'!H197 > 0,'Data Entry'!H197, IF(BC$6<=$V$2,0,\"\"))","v":""},{"$f":"IF('Data Entry'!J197 > 0,'Data Entry'!J197, IF(BD$6<=$V$2,0,\"\"))","v":""},{"$f":"IF('Data Entry'!L197 > 0,'Data Entry'!L197, IF(BE$6<=$V$2,0,\"\"))","v":""},{"$f":"IF('Data Entry'!N197 > 0,'Data Entry'!N197, IF(BF$6<=$V$2,0,\"\"))","v":""},{"$f":"IF('Data Entry'!P197 > 0,'Data Entry'!P197, IF(BG$6<=$V$2,0,\"\"))","v":""},{"$f":"IF('Data Entry'!R197 > 0,'Data Entry'!R197, IF(BH$6<=$V$2,0,\"\"))","v":""},{"$f":"IF('Data Entry'!T197 > 0,'Data Entry'!T197, IF(BI$6<=$V$2,0,\"\"))","v":""},{"$f":"IF('Data Entry'!V197 > 0,'Data Entry'!V197, IF(BJ$6<=$V$2,0,\"\"))","v":""}]
[null,null,{"$f":"IF('Data Entry'!C18<>\"\",'Data Entry'!C18,\"\")","v":""},0,"",{"$f":"IF(D18<>0,E18/$E$24,\"\")","v":""},null,"","","",null,"",{"$f":"IF('Data Entry'!D18 > 0,'Data Entry'!D18, IF(M$6<=$V$2,0,\"\"))","v":""},{"$f":"IF('Data Entry'!F18 > 0,'Data Entry'!F18, IF(N$6<=$V$2,0,\"\"))","v":""},{"$f":"IF('Data Entry'!H18 > 0,'Data Entry'!H18, IF(O$6<=$V$2,0,\"\"))","v":""},{"$f":"IF('Data Entry'!J18 > 0,'Data Entry'!J18, IF(P$6<=$V$2,0,\"\"))","v":""},{"$f":"IF('Data Entry'!L18 > 0,'Data Entry'!L18, IF(Q$6<=$V$2,0,\"\"))","v":""},{"$f":"IF('Data Entry'!N18 > 0,'Data Entry'!N18, IF(R$6<=$V$2,0,\"\"))","v":""},{"$f":"IF('Data Entry'!P18 > 0,'Data Entry'!P18, IF(S$6<=$V$2,0,\"\"))","v":""},{"$f":"IF('Data Entry'!R18 > 0,'Data Entry'!R18, IF(T$6<=$V$2,0,\"\"))","v":""},{"$f":"IF('Data Entry'!T18 > 0,'Data Entry'!T18, IF(U$6<=$V$2,0,\"\"))","v":""},{"$f":"IF('Data Entry'!V18 > 0,'Data Entry'!V18, IF(V$6<=$V$2,0,\"\"))","v":""},{"$f":"IF('Data Entry'!D63 > 0,'Data Entry'!D63, IF(W$6<=$V$2,0,\"\"))","v":""},{"$f":"IF('Data Entry'!F63 > 0,'Data Entry'!F63, IF(X$6<=$V$2,0,\"\"))","v":""},{"$f":"IF('Data Entry'!H63 > 0,'Data Entry'!H63, IF(Y$6<=$V$2,0,\"\"))","v":""},{"$f":"IF('Data Entry'!J63 > 0,'Data Entry'!J63, IF(Z$6<=$V$2,0,\"\"))","v":""},{"$f":"IF('Data Entry'!L63 > 0,'Data Entry'!L63, IF(AA$6<=$V$2,0,\"\"))","v":""},{"$f":"IF('Data Entry'!N63 > 0,'Data Entry'!N63, IF(AB$6<=$V$2,0,\"\"))","v":""},{"$f":"IF('Data Entry'!P63 > 0,'Data Entry'!P63, IF(AC$6<='Data Entry'!$Y$6,0,\"\"))","v":""},{"$f":"IF('Data Entry'!R63 > 0,'Data Entry'!R63, IF(AD$6<=$V$2,0,\"\"))","v":""},{"$f":"IF('Data Entry'!T63 > 0,'Data Entry'!T63, IF(AE$6<=$V$2,0,\"\"))","v":""},{"$f":"IF('Data Entry'!V63 > 0,'Data Entry'!V63, IF(AF$6<=$V$2,0,\"\"))","v":""},{"$f":"IF('Data Entry'!D108 > 0,'Data Entry'!D108, IF(AG$6<=$V$2,0,\"\"))","v":""},{"$f":"IF('Data Entry'!F108 > 0,'Data Entry'!F108, IF(AH$6<=$V$2,0,\"\"))","v":""},{"$f":"IF('Data Entry'!H108 > 0,'Data Entry'!H108, IF(AI$6<=$V$2,0,\"\"))","v":""},{"$f":"IF('Data Entry'!J108 > 0,'Data Entry'!J108, IF(AJ$6<=$V$2,0,\"\"))","v":""},{"$f":"IF('Data Entry'!L108 > 0,'Data Entry'!L108, IF(AK$6<=$V$2,0,\"\"))","v":""},{"$f":"IF('Data Entry'!N108 > 0,'Data Entry'!N108, IF(AL$6<=$V$2,0,\"\"))","v":""},{"$f":"IF('Data Entry'!P108 > 0,'Data Entry'!P108, IF(AM$6<=$V$2,0,\"\"))","v":""},{"$f":"IF('Data Entry'!R108 > 0,'Data Entry'!R108, IF(AN$6<=$V$2,0,\"\"))","v":""},{"$f":"IF('Data Entry'!T108 > 0,'Data Entry'!T108, IF(AO$6<=$V$2,0,\"\"))","v":""},{"$f":"IF('Data Entry'!V108 > 0,'Data Entry'!V108, IF(AP$6<=$V$2,0,\"\"))","v":""},{"$f":"IF('Data Entry'!D153 > 0,'Data Entry'!D153, IF(AQ$6<='Data Entry'!$Y$6,0,\"\"))","v":""},{"$f":"IF('Data Entry'!F153 > 0,'Data Entry'!F153, IF(AR$6<=$V$2,0,\"\"))","v":""},{"$f":"IF('Data Entry'!H153 > 0,'Data Entry'!H153, IF(AS$6<=$V$2,0,\"\"))","v":""},{"$f":"IF('Data Entry'!J153 > 0,'Data Entry'!J153, IF(AT$6<=$V$2,0,\"\"))","v":""},{"$f":"IF('Data Entry'!L153 > 0,'Data Entry'!L153, IF(AU$6<=$V$2,0,\"\"))","v":""},{"$f":"IF('Data Entry'!N153 > 0,'Data Entry'!N153, IF(AV$6<=$V$2,0,\"\"))","v":""},{"$f":"IF('Data Entry'!P153 > 0,'Data Entry'!P153, IF(AW$6<=$V$2,0,\"\"))","v":""},{"$f":"IF('Data Entry'!R153 > 0,'Data Entry'!R153, IF(AX$6<=$V$2,0,\"\"))","v":""},{"$f":"IF('Data Entry'!T153 > 0,'Data Entry'!T153, IF(AY$6<=$V$2,0,\"\"))","v":""},{"$f":"IF('Data Entry'!V153 > 0,'Data Entry'!V153, IF(AZ$6<=$V$2,0,\"\"))","v":""},{"$f":"IF('Data Entry'!D198 > 0,'Data Entry'!D198, IF(BA$6<=$V$2,0,\"\"))","v":""},{"$f":"IF('Data Entry'!F198 > 0,'Data Entry'!F198, IF(BB$6<=$V$2,0,\"\"))","v":""},{"$f":"IF('Data Entry'!H198 > 0,'Data Entry'!H198, IF(BC$6<=$V$2,0,\"\"))","v":""},{"$f":"IF('Data Entry'!J198 > 0,'Data Entry'!J198, IF(BD$6<=$V$2,0,\"\"))","v":""},{"$f":"IF('Data Entry'!L198 > 0,'Data Entry'!L198, IF(BE$6<=$V$2,0,\"\"))","v":""},{"$f":"IF('Data Entry'!N198 > 0,'Data Entry'!N198, IF(BF$6<=$V$2,0,\"\"))","v":""},{"$f":"IF('Data Entry'!P198 > 0,'Data Entry'!P198, IF(BG$6<=$V$2,0,\"\"))","v":""},{"$f":"IF('Data Entry'!R198 > 0,'Data Entry'!R198, IF(BH$6<=$V$2,0,\"\"))","v":""},{"$f":"IF('Data Entry'!T198 > 0,'Data Entry'!T198, IF(BI$6<=$V$2,0,\"\"))","v":""},{"$f":"IF('Data Entry'!V198 > 0,'Data Entry'!V198, IF(BJ$6<=$V$2,0,\"\"))","v":""}]
[null,null,{"$f":"IF('Data Entry'!C19<>\"\",'Data Entry'!C19,\"\")","v":""},0,"","",null,"","","",null,"",{"$f":"IF('Data Entry'!D19 > 0,'Data Entry'!D19, IF(M$6<=$V$2,0,\"\"))","v":""},{"$f":"IF('Data Entry'!F19 > 0,'Data Entry'!F19, IF(N$6<=$V$2,0,\"\"))","v":""},{"$f":"IF('Data Entry'!H19 > 0,'Data Entry'!H19, IF(O$6<=$V$2,0,\"\"))","v":""},{"$f":"IF('Data Entry'!J19 > 0,'Data Entry'!J19, IF(P$6<=$V$2,0,\"\"))","v":""},{"$f":"IF('Data Entry'!L19 > 0,'Data Entry'!L19, IF(Q$6<=$V$2,0,\"\"))","v":""},{"$f":"IF('Data Entry'!N19 > 0,'Data Entry'!N19, IF(R$6<=$V$2,0,\"\"))","v":""},{"$f":"IF('Data Entry'!P19 > 0,'Data Entry'!P19, IF(S$6<=$V$2,0,\"\"))","v":""},{"$f":"IF('Data Entry'!R19 > 0,'Data Entry'!R19, IF(T$6<=$V$2,0,\"\"))","v":""},{"$f":"IF('Data Entry'!T19 > 0,'Data Entry'!T19, IF(U$6<=$V$2,0,\"\"))","v":""},{"$f":"IF('Data Entry'!V19 > 0,'Data Entry'!V19, IF(V$6<=$V$2,0,\"\"))","v":""},{"$f":"IF('Data Entry'!D64 > 0,'Data Entry'!D64, IF(W$6<=$V$2,0,\"\"))","v":""},{"$f":"IF('Data Entry'!F64 > 0,'Data Entry'!F64, IF(X$6<=$V$2,0,\"\"))","v":""},{"$f":"IF('Data Entry'!H64 > 0,'Data Entry'!H64, IF(Y$6<=$V$2,0,\"\"))","v":""},{"$f":"IF('Data Entry'!J64 > 0,'Data Entry'!J64, IF(Z$6<=$V$2,0,\"\"))","v":""},{"$f":"IF('Data Entry'!L64 > 0,'Data Entry'!L64, IF(AA$6<=$V$2,0,\"\"))","v":""},{"$f":"IF('Data Entry'!N64 > 0,'Data Entry'!N64, IF(AB$6<=$V$2,0,\"\"))","v":""},{"$f":"IF('Data Entry'!P64 > 0,'Data Entry'!P64, IF(AC$6<='Data Entry'!$Y$6,0,\"\"))","v":""},{"$f":"IF('Data Entry'!R64 > 0,'Data Entry'!R64, IF(AD$6<=$V$2,0,\"\"))","v":""},{"$f":"IF('Data Entry'!T64 > 0,'Data Entry'!T64, IF(AE$6<=$V$2,0,\"\"))","v":""},{"$f":"IF('Data Entry'!V64 > 0,'Data Entry'!V64, IF(AF$6<=$V$2,0,\"\"))","v":""},{"$f":"IF('Data Entry'!D109 > 0,'Data Entry'!D109, IF(AG$6<=$V$2,0,\"\"))","v":""},{"$f":"IF('Data Entry'!F109 > 0,'Data Entry'!F109, IF(AH$6<=$V$2,0,\"\"))","v":""},{"$f":"IF('Data Entry'!H109 > 0,'Data Entry'!H109, IF(AI$6<=$V$2,0,\"\"))","v":""},{"$f":"IF('Data Entry'!J109 > 0,'Data Entry'!J109, IF(AJ$6<=$V$2,0,\"\"))","v":""},{"$f":"IF('Data Entry'!L109 > 0,'Data Entry'!L109, IF(AK$6<=$V$2,0,\"\"))","v":""},{"$f":"IF('Data Entry'!N109 > 0,'Data Entry'!N109, IF(AL$6<=$V$2,0,\"\"))","v":""},{"$f":"IF('Data Entry'!P109 > 0,'Data Entry'!P109, IF(AM$6<=$V$2,0,\"\"))","v":""},{"$f":"IF('Data Entry'!R109 > 0,'Data Entry'!R109, IF(AN$6<=$V$2,0,\"\"))","v":""},{"$f":"IF('Data Entry'!T109 > 0,'Data Entry'!T109, IF(AO$6<=$V$2,0,\"\"))","v":""},{"$f":"IF('Data Entry'!V109 > 0,'Data Entry'!V109, IF(AP$6<=$V$2,0,\"\"))","v":""},{"$f":"IF('Data Entry'!D154 > 0,'Data Entry'!D154, IF(AQ$6<='Data Entry'!$Y$6,0,\"\"))","v":""},{"$f":"IF('Data Entry'!F154 > 0,'Data Entry'!F154, IF(AR$6<=$V$2,0,\"\"))","v":""},{"$f":"IF('Data Entry'!H154 > 0,'Data Entry'!H154, IF(AS$6<=$V$2,0,\"\"))","v":""},{"$f":"IF('Data Entry'!J154 > 0,'Data Entry'!J154, IF(AT$6<=$V$2,0,\"\"))","v":""},{"$f":"IF('Data Entry'!L154 > 0,'Data Entry'!L154, IF(AU$6<=$V$2,0,\"\"))","v":""},{"$f":"IF('Data Entry'!N154 > 0,'Data Entry'!N154, IF(AV$6<=$V$2,0,\"\"))","v":""},{"$f":"IF('Data Entry'!P154 > 0,'Data Entry'!P154, IF(AW$6<=$V$2,0,\"\"))","v":""},{"$f":"IF('Data Entry'!R154 > 0,'Data Entry'!R154, IF(AX$6<=$V$2,0,\"\"))","v":""},{"$f":"IF('Data Entry'!T154 > 0,'Data Entry'!T154, IF(AY$6<=$V$2,0,\"\"))","v":""},{"$f":"IF('Data Entry'!V154 > 0,'Data Entry'!V154, IF(AZ$6<=$V$2,0,\"\"))","v":""},{"$f":"IF('Data Entry'!D199 > 0,'Data Entry'!D199, IF(BA$6<=$V$2,0,\"\"))","v":""},{"$f":"IF('Data Entry'!F199 > 0,'Data Entry'!F199, IF(BB$6<=$V$2,0,\"\"))","v":""},{"$f":"IF('Data Entry'!H199 > 0,'Data Entry'!H199, IF(BC$6<=$V$2,0,\"\"))","v":""},{"$f":"IF('Data Entry'!J199 > 0,'Data Entry'!J199, IF(BD$6<=$V$2,0,\"\"))","v":""},{"$f":"IF('Data Entry'!L199 > 0,'Data Entry'!L199, IF(BE$6<=$V$2,0,\"\"))","v":""},{"$f":"IF('Data Entry'!N199 > 0,'Data Entry'!N199, IF(BF$6<=$V$2,0,\"\"))","v":""},{"$f":"IF('Data Entry'!P199 > 0,'Data Entry'!P199, IF(BG$6<=$V$2,0,\"\"))","v":""},{"$f":"IF('Data Entry'!R199 > 0,'Data Entry'!R199, IF(BH$6<=$V$2,0,\"\"))","v":""},{"$f":"IF('Data Entry'!T199 > 0,'Data Entry'!T199, IF(BI$6<=$V$2,0,\"\"))","v":""},{"$f":"IF('Data Entry'!V199 > 0,'Data Entry'!V199, IF(BJ$6<=$V$2,0,\"\"))","v":""}]
[null,null,{"$f":"IF('Data Entry'!C20<>\"\",'Data Entry'!C20,\"\")","v":""},0,"","",null,"","","",null,"",{"$f":"IF('Data Entry'!D20 > 0,'Data Entry'!D20, IF(M$6<=$V$2,0,\"\"))","v":""},{"$f":"IF('Data Entry'!F20 > 0,'Data Entry'!F20, IF(N$6<=$V$2,0,\"\"))","v":""},{"$f":"IF('Data Entry'!H20 > 0,'Data Entry'!H20, IF(O$6<=$V$2,0,\"\"))","v":""},{"$f":"IF('Data Entry'!J20 > 0,'Data Entry'!J20, IF(P$6<=$V$2,0,\"\"))","v":""},{"$f":"IF('Data Entry'!L20 > 0,'Data Entry'!L20, IF(Q$6<=$V$2,0,\"\"))","v":""},{"$f":"IF('Data Entry'!N20 > 0,'Data Entry'!N20, IF(R$6<=$V$2,0,\"\"))","v":""},{"$f":"IF('Data Entry'!P20 > 0,'Data Entry'!P20, IF(S$6<=$V$2,0,\"\"))","v":""},{"$f":"IF('Data Entry'!R20 > 0,'Data Entry'!R20, IF(T$6<=$V$2,0,\"\"))","v":""},{"$f":"IF('Data Entry'!T20 > 0,'Data Entry'!T20, IF(U$6<=$V$2,0,\"\"))","v":""},{"$f":"IF('Data Entry'!V20 > 0,'Data Entry'!V20, IF(V$6<=$V$2,0,\"\"))","v":""},{"$f":"IF('Data Entry'!D65 > 0,'Data Entry'!D65, IF(W$6<=$V$2,0,\"\"))","v":""},{"$f":"IF('Data Entry'!F65 > 0,'Data Entry'!F65, IF(X$6<=$V$2,0,\"\"))","v":""},{"$f":"IF('Data Entry'!H65 > 0,'Data Entry'!H65, IF(Y$6<=$V$2,0,\"\"))","v":""},{"$f":"IF('Data Entry'!J65 > 0,'Data Entry'!J65, IF(Z$6<=$V$2,0,\"\"))","v":""},{"$f":"IF('Data Entry'!L65 > 0,'Data Entry'!L65, IF(AA$6<=$V$2,0,\"\"))","v":""},{"$f":"IF('Data Entry'!N65 > 0,'Data Entry'!N65, IF(AB$6<=$V$2,0,\"\"))","v":""},{"$f":"IF('Data Entry'!P65 > 0,'Data Entry'!P65, IF(AC$6<='Data Entry'!$Y$6,0,\"\"))","v":""},{"$f":"IF('Data Entry'!R65 > 0,'Data Entry'!R65, IF(AD$6<=$V$2,0,\"\"))","v":""},{"$f":"IF('Data Entry'!T65 > 0,'Data Entry'!T65, IF(AE$6<=$V$2,0,\"\"))","v":""},{"$f":"IF('Data Entry'!V65 > 0,'Data Entry'!V65, IF(AF$6<=$V$2,0,\"\"))","v":""},{"$f":"IF('Data Entry'!D110 > 0,'Data Entry'!D110, IF(AG$6<=$V$2,0,\"\"))","v":""},{"$f":"IF('Data Entry'!F110 > 0,'Data Entry'!F110, IF(AH$6<=$V$2,0,\"\"))","v":""},{"$f":"IF('Data Entry'!H110 > 0,'Data Entry'!H110, IF(AI$6<=$V$2,0,\"\"))","v":""},{"$f":"IF('Data Entry'!J110 > 0,'Data Entry'!J110, IF(AJ$6<=$V$2,0,\"\"))","v":""},{"$f":"IF('Data Entry'!L110 > 0,'Data Entry'!L110, IF(AK$6<=$V$2,0,\"\"))","v":""},{"$f":"IF('Data Entry'!N110 > 0,'Data Entry'!N110, IF(AL$6<=$V$2,0,\"\"))","v":""},{"$f":"IF('Data Entry'!P110 > 0,'Data Entry'!P110, IF(AM$6<=$V$2,0,\"\"))","v":""},{"$f":"IF('Data Entry'!R110 > 0,'Data Entry'!R110, IF(AN$6<=$V$2,0,\"\"))","v":""},{"$f":"IF('Data Entry'!T110 > 0,'Data Entry'!T110, IF(AO$6<=$V$2,0,\"\"))","v":""},{"$f":"IF('Data Entry'!V110 > 0,'Data Entry'!V110, IF(AP$6<=$V$2,0,\"\"))","v":""},{"$f":"IF('Data Entry'!D155 > 0,'Data Entry'!D155, IF(AQ$6<='Data Entry'!$Y$6,0,\"\"))","v":""},{"$f":"IF('Data Entry'!F155 > 0,'Data Entry'!F155, IF(AR$6<=$V$2,0,\"\"))","v":""},{"$f":"IF('Data Entry'!H155 > 0,'Data Entry'!H155, IF(AS$6<=$V$2,0,\"\"))","v":""},{"$f":"IF('Data Entry'!J155 > 0,'Data Entry'!J155, IF(AT$6<=$V$2,0,\"\"))","v":""},{"$f":"IF('Data Entry'!L155 > 0,'Data Entry'!L155, IF(AU$6<=$V$2,0,\"\"))","v":""},{"$f":"IF('Data Entry'!N155 > 0,'Data Entry'!N155, IF(AV$6<=$V$2,0,\"\"))","v":""},{"$f":"IF('Data Entry'!P155 > 0,'Data Entry'!P155, IF(AW$6<=$V$2,0,\"\"))","v":""},{"$f":"IF('Data Entry'!R155 > 0,'Data Entry'!R155, IF(AX$6<=$V$2,0,\"\"))","v":""},{"$f":"IF('Data Entry'!T155 > 0,'Data Entry'!T155, IF(AY$6<=$V$2,0,\"\"))","v":""},{"$f":"IF('Data Entry'!V155 > 0,'Data Entry'!V155, IF(AZ$6<=$V$2,0,\"\"))","v":""},{"$f":"IF('Data Entry'!D200 > 0,'Data Entry'!D200, IF(BA$6<=$V$2,0,\"\"))","v":""},{"$f":"IF('Data Entry'!F200 > 0,'Data Entry'!F200, IF(BB$6<=$V$2,0,\"\"))","v":""},{"$f":"IF('Data Entry'!H200 > 0,'Data Entry'!H200, IF(BC$6<=$V$2,0,\"\"))","v":""},{"$f":"IF('Data Entry'!J200 > 0,'Data Entry'!J200, IF(BD$6<=$V$2,0,\"\"))","v":""},{"$f":"IF('Data Entry'!L200 > 0,'Data Entry'!L200, IF(BE$6<=$V$2,0,\"\"))","v":""},{"$f":"IF('Data Entry'!N200 > 0,'Data Entry'!N200, IF(BF$6<=$V$2,0,\"\"))","v":""},{"$f":"IF('Data Entry'!P200 > 0,'Data Entry'!P200, IF(BG$6<=$V$2,0,\"\"))","v":""},{"$f":"IF('Data Entry'!R200 > 0,'Data Entry'!R200, IF(BH$6<=$V$2,0,\"\"))","v":""},{"$f":"IF('Data Entry'!T200 > 0,'Data Entry'!T200, IF(BI$6<=$V$2,0,\"\"))","v":""},{"$f":"IF('Data Entry'!V200 > 0,'Data Entry'!V200, IF(BJ$6<=$V$2,0,\"\"))","v":""}]
[null,null,{"$f":"IF('Data Entry'!C21<>\"\",'Data Entry'!C21,\"\")","v":""},0,"","",null,"","","",null,"",{"$f":"IF('Data Entry'!D21 > 0,'Data Entry'!D21, IF(M$6<=$V$2,0,\"\"))","v":""},{"$f":"IF('Data Entry'!F21 > 0,'Data Entry'!F21, IF(N$6<=$V$2,0,\"\"))","v":""},{"$f":"IF('Data Entry'!H21 > 0,'Data Entry'!H21, IF(O$6<=$V$2,0,\"\"))","v":""},{"$f":"IF('Data Entry'!J21 > 0,'Data Entry'!J21, IF(P$6<=$V$2,0,\"\"))","v":""},{"$f":"IF('Data Entry'!L21 > 0,'Data Entry'!L21, IF(Q$6<=$V$2,0,\"\"))","v":""},{"$f":"IF('Data Entry'!N21 > 0,'Data Entry'!N21, IF(R$6<=$V$2,0,\"\"))","v":""},{"$f":"IF('Data Entry'!P21 > 0,'Data Entry'!P21, IF(S$6<=$V$2,0,\"\"))","v":""},{"$f":"IF('Data Entry'!R21 > 0,'Data Entry'!R21, IF(T$6<=$V$2,0,\"\"))","v":""},{"$f":"IF('Data Entry'!T21 > 0,'Data Entry'!T21, IF(U$6<=$V$2,0,\"\"))","v":""},{"$f":"IF('Data Entry'!V21 > 0,'Data Entry'!V21, IF(V$6<=$V$2,0,\"\"))","v":""},{"$f":"IF('Data Entry'!D66 > 0,'Data Entry'!D66, IF(W$6<=$V$2,0,\"\"))","v":""},{"$f":"IF('Data Entry'!F66 > 0,'Data Entry'!F66, IF(X$6<=$V$2,0,\"\"))","v":""},{"$f":"IF('Data Entry'!H66 > 0,'Data Entry'!H66, IF(Y$6<=$V$2,0,\"\"))","v":""},{"$f":"IF('Data Entry'!J66 > 0,'Data Entry'!J66, IF(Z$6<=$V$2,0,\"\"))","v":""},{"$f":"IF('Data Entry'!L66 > 0,'Data Entry'!L66, IF(AA$6<=$V$2,0,\"\"))","v":""},{"$f":"IF('Data Entry'!N66 > 0,'Data Entry'!N66, IF(AB$6<=$V$2,0,\"\"))","v":""},{"$f":"IF('Data Entry'!P66 > 0,'Data Entry'!P66, IF(AC$6<='Data Entry'!$Y$6,0,\"\"))","v":""},{"$f":"IF('Data Entry'!R66 > 0,'Data Entry'!R66, IF(AD$6<=$V$2,0,\"\"))","v":""},{"$f":"IF('Data Entry'!T66 > 0,'Data Entry'!T66, IF(AE$6<=$V$2,0,\"\"))","v":""},{"$f":"IF('Data Entry'!V66 > 0,'Data Entry'!V66, IF(AF$6<=$V$2,0,\"\"))","v":""},{"$f":"IF('Data Entry'!D111 > 0,'Data Entry'!D111, IF(AG$6<=$V$2,0,\"\"))","v":""},{"$f":"IF('Data Entry'!F111 > 0,'Data Entry'!F111, IF(AH$6<=$V$2,0,\"\"))","v":""},{"$f":"IF('Data Entry'!H111 > 0,'Data Entry'!H111, IF(AI$6<=$V$2,0,\"\"))","v":""},{"$f":"IF('Data Entry'!J111 > 0,'Data Entry'!J111, IF(AJ$6<=$V$2,0,\"\"))","v":""},{"$f":"IF('Data Entry'!L111 > 0,'Data Entry'!L111, IF(AK$6<=$V$2,0,\"\"))","v":""},{"$f":"IF('Data Entry'!N111 > 0,'Data Entry'!N111, IF(AL$6<=$V$2,0,\"\"))","v":""},{"$f":"IF('Data Entry'!P111 > 0,'Data Entry'!P111, IF(AM$6<=$V$2,0,\"\"))","v":""},{"$f":"IF('Data Entry'!R111 > 0,'Data Entry'!R111, IF(AN$6<=$V$2,0,\"\"))","v":""},{"$f":"IF('Data Entry'!T111 > 0,'Data Entry'!T111, IF(AO$6<=$V$2,0,\"\"))","v":""},{"$f":"IF('Data Entry'!V111 > 0,'Data Entry'!V111, IF(AP$6<=$V$2,0,\"\"))","v":""},{"$f":"IF('Data Entry'!D156 > 0,'Data Entry'!D156, IF(AQ$6<='Data Entry'!$Y$6,0,\"\"))","v":""},{"$f":"IF('Data Entry'!F156 > 0,'Data Entry'!F156, IF(AR$6<=$V$2,0,\"\"))","v":""},{"$f":"IF('Data Entry'!H156 > 0,'Data Entry'!H156, IF(AS$6<=$V$2,0,\"\"))","v":""},{"$f":"IF('Data Entry'!J156 > 0,'Data Entry'!J156, IF(AT$6<=$V$2,0,\"\"))","v":""},{"$f":"IF('Data Entry'!L156 > 0,'Data Entry'!L156, IF(AU$6<=$V$2,0,\"\"))","v":""},{"$f":"IF('Data Entry'!N156 > 0,'Data Entry'!N156, IF(AV$6<=$V$2,0,\"\"))","v":""},{"$f":"IF('Data Entry'!P156 > 0,'Data Entry'!P156, IF(AW$6<=$V$2,0,\"\"))","v":""},{"$f":"IF('Data Entry'!R156 > 0,'Data Entry'!R156, IF(AX$6<=$V$2,0,\"\"))","v":""},{"$f":"IF('Data Entry'!T156 > 0,'Data Entry'!T156, IF(AY$6<=$V$2,0,\"\"))","v":""},{"$f":"IF('Data Entry'!V156 > 0,'Data Entry'!V156, IF(AZ$6<=$V$2,0,\"\"))","v":""},{"$f":"IF('Data Entry'!D201 > 0,'Data Entry'!D201, IF(BA$6<=$V$2,0,\"\"))","v":""},{"$f":"IF('Data Entry'!F201 > 0,'Data Entry'!F201, IF(BB$6<=$V$2,0,\"\"))","v":""},{"$f":"IF('Data Entry'!H201 > 0,'Data Entry'!H201, IF(BC$6<=$V$2,0,\"\"))","v":""},{"$f":"IF('Data Entry'!J201 > 0,'Data Entry'!J201, IF(BD$6<=$V$2,0,\"\"))","v":""},{"$f":"IF('Data Entry'!L201 > 0,'Data Entry'!L201, IF(BE$6<=$V$2,0,\"\"))","v":""},{"$f":"IF('Data Entry'!N201 > 0,'Data Entry'!N201, IF(BF$6<=$V$2,0,\"\"))","v":""},{"$f":"IF('Data Entry'!P201 > 0,'Data Entry'!P201, IF(BG$6<=$V$2,0,\"\"))","v":""},{"$f":"IF('Data Entry'!R201 > 0,'Data Entry'!R201, IF(BH$6<=$V$2,0,\"\"))","v":""},{"$f":"IF('Data Entry'!T201 > 0,'Data Entry'!T201, IF(BI$6<=$V$2,0,\"\"))","v":""},{"$f":"IF('Data Entry'!V201 > 0,'Data Entry'!V201, IF(BJ$6<=$V$2,0,\"\"))","v":""}]
[null,null,{"$f":"IF('Data Entry'!C22<>\"\",'Data Entry'!C22,\"\")","v":""},0,"","",null,"","","",null,"",{"$f":"IF('Data Entry'!D22 > 0,'Data Entry'!D22, IF(M$6<=$V$2,0,\"\"))","v":""},{"$f":"IF('Data Entry'!F22 > 0,'Data Entry'!F22, IF(N$6<=$V$2,0,\"\"))","v":""},{"$f":"IF('Data Entry'!H22 > 0,'Data Entry'!H22, IF(O$6<=$V$2,0,\"\"))","v":""},{"$f":"IF('Data Entry'!J22 > 0,'Data Entry'!J22, IF(P$6<=$V$2,0,\"\"))","v":""},{"$f":"IF('Data Entry'!L22 > 0,'Data Entry'!L22, IF(Q$6<=$V$2,0,\"\"))","v":""},{"$f":"IF('Data Entry'!N22 > 0,'Data Entry'!N22, IF(R$6<=$V$2,0,\"\"))","v":""},{"$f":"IF('Data Entry'!P22 > 0,'Data Entry'!P22, IF(S$6<=$V$2,0,\"\"))","v":""},{"$f":"IF('Data Entry'!R22 > 0,'Data Entry'!R22, IF(T$6<=$V$2,0,\"\"))","v":""},{"$f":"IF('Data Entry'!T22 > 0,'Data Entry'!T22, IF(U$6<=$V$2,0,\"\"))","v":""},{"$f":"IF('Data Entry'!V22 > 0,'Data Entry'!V22, IF(V$6<=$V$2,0,\"\"))","v":""},{"$f":"IF('Data Entry'!D67 > 0,'Data Entry'!D67, IF(W$6<=$V$2,0,\"\"))","v":""},{"$f":"IF('Data Entry'!F67 > 0,'Data Entry'!F67, IF(X$6<=$V$2,0,\"\"))","v":""},{"$f":"IF('Data Entry'!H67 > 0,'Data Entry'!H67, IF(Y$6<=$V$2,0,\"\"))","v":""},{"$f":"IF('Data Entry'!J67 > 0,'Data Entry'!J67, IF(Z$6<=$V$2,0,\"\"))","v":""},{"$f":"IF('Data Entry'!L67 > 0,'Data Entry'!L67, IF(AA$6<=$V$2,0,\"\"))","v":""},{"$f":"IF('Data Entry'!N67 > 0,'Data Entry'!N67, IF(AB$6<=$V$2,0,\"\"))","v":""},{"$f":"IF('Data Entry'!P67 > 0,'Data Entry'!P67, IF(AC$6<='Data Entry'!$Y$6,0,\"\"))","v":""},{"$f":"IF('Data Entry'!R67 > 0,'Data Entry'!R67, IF(AD$6<=$V$2,0,\"\"))","v":""},{"$f":"IF('Data Entry'!T67 > 0,'Data Entry'!T67, IF(AE$6<=$V$2,0,\"\"))","v":""},{"$f":"IF('Data Entry'!V67 > 0,'Data Entry'!V67, IF(AF$6<=$V$2,0,\"\"))","v":""},{"$f":"IF('Data Entry'!D112 > 0,'Data Entry'!D112, IF(AG$6<=$V$2,0,\"\"))","v":""},{"$f":"IF('Data Entry'!F112 > 0,'Data Entry'!F112, IF(AH$6<=$V$2,0,\"\"))","v":""},{"$f":"IF('Data Entry'!H112 > 0,'Data Entry'!H112, IF(AI$6<=$V$2,0,\"\"))","v":""},{"$f":"IF('Data Entry'!J112 > 0,'Data Entry'!J112, IF(AJ$6<=$V$2,0,\"\"))","v":""},{"$f":"IF('Data Entry'!L112 > 0,'Data Entry'!L112, IF(AK$6<=$V$2,0,\"\"))","v":""},{"$f":"IF('Data Entry'!N112 > 0,'Data Entry'!N112, IF(AL$6<=$V$2,0,\"\"))","v":""},{"$f":"IF('Data Entry'!P112 > 0,'Data Entry'!P112, IF(AM$6<=$V$2,0,\"\"))","v":""},{"$f":"IF('Data Entry'!R112 > 0,'Data Entry'!R112, IF(AN$6<=$V$2,0,\"\"))","v":""},{"$f":"IF('Data Entry'!T112 > 0,'Data Entry'!T112, IF(AO$6<=$V$2,0,\"\"))","v":""},{"$f":"IF('Data Entry'!V112 > 0,'Data Entry'!V112, IF(AP$6<=$V$2,0,\"\"))","v":""},{"$f":"IF('Data Entry'!D157 > 0,'Data Entry'!D157, IF(AQ$6<='Data Entry'!$Y$6,0,\"\"))","v":""},{"$f":"IF('Data Entry'!F157 > 0,'Data Entry'!F157, IF(AR$6<=$V$2,0,\"\"))","v":""},{"$f":"IF('Data Entry'!H157 > 0,'Data Entry'!H157, IF(AS$6<=$V$2,0,\"\"))","v":""},{"$f":"IF('Data Entry'!J157 > 0,'Data Entry'!J157, IF(AT$6<=$V$2,0,\"\"))","v":""},{"$f":"IF('Data Entry'!L157 > 0,'Data Entry'!L157, IF(AU$6<=$V$2,0,\"\"))","v":""},{"$f":"IF('Data Entry'!N157 > 0,'Data Entry'!N157, IF(AV$6<=$V$2,0,\"\"))","v":""},{"$f":"IF('Data Entry'!P157 > 0,'Data Entry'!P157, IF(AW$6<=$V$2,0,\"\"))","v":""},{"$f":"IF('Data Entry'!R157 > 0,'Data Entry'!R157, IF(AX$6<=$V$2,0,\"\"))","v":""},{"$f":"IF('Data Entry'!T157 > 0,'Data Entry'!T157, IF(AY$6<=$V$2,0,\"\"))","v":""},{"$f":"IF('Data Entry'!V157 > 0,'Data Entry'!V157, IF(AZ$6<=$V$2,0,\"\"))","v":""},{"$f":"IF('Data Entry'!D202 > 0,'Data Entry'!D202, IF(BA$6<=$V$2,0,\"\"))","v":""},{"$f":"IF('Data Entry'!F202 > 0,'Data Entry'!F202, IF(BB$6<=$V$2,0,\"\"))","v":""},{"$f":"IF('Data Entry'!H202 > 0,'Data Entry'!H202, IF(BC$6<=$V$2,0,\"\"))","v":""},{"$f":"IF('Data Entry'!J202 > 0,'Data Entry'!J202, IF(BD$6<=$V$2,0,\"\"))","v":""},{"$f":"IF('Data Entry'!L202 > 0,'Data Entry'!L202, IF(BE$6<=$V$2,0,\"\"))","v":""},{"$f":"IF('Data Entry'!N202 > 0,'Data Entry'!N202, IF(BF$6<=$V$2,0,\"\"))","v":""},{"$f":"IF('Data Entry'!P202 > 0,'Data Entry'!P202, IF(BG$6<=$V$2,0,\"\"))","v":""},{"$f":"IF('Data Entry'!R202 > 0,'Data Entry'!R202, IF(BH$6<=$V$2,0,\"\"))","v":""},{"$f":"IF('Data Entry'!T202 > 0,'Data Entry'!T202, IF(BI$6<=$V$2,0,\"\"))","v":""},{"$f":"IF('Data Entry'!V202 > 0,'Data Entry'!V202, IF(BJ$6<=$V$2,0,\"\"))","v":""}]
[null,null,{"$f":"IF('Data Entry'!C23<>\"\",'Data Entry'!C23,\"\")","v":""},0,"","",null,"","","",null,"",{"$f":"IF('Data Entry'!D23 > 0,'Data Entry'!D23, IF(M$6<=$V$2,0,\"\"))","v":""},{"$f":"IF('Data Entry'!F23 > 0,'Data Entry'!F23, IF(N$6<=$V$2,0,\"\"))","v":""},{"$f":"IF('Data Entry'!H23 > 0,'Data Entry'!H23, IF(O$6<=$V$2,0,\"\"))","v":""},{"$f":"IF('Data Entry'!J23 > 0,'Data Entry'!J23, IF(P$6<=$V$2,0,\"\"))","v":""},{"$f":"IF('Data Entry'!L23 > 0,'Data Entry'!L23, IF(Q$6<=$V$2,0,\"\"))","v":""},{"$f":"IF('Data Entry'!N23 > 0,'Data Entry'!N23, IF(R$6<=$V$2,0,\"\"))","v":""},{"$f":"IF('Data Entry'!P23 > 0,'Data Entry'!P23, IF(S$6<=$V$2,0,\"\"))","v":""},{"$f":"IF('Data Entry'!R23 > 0,'Data Entry'!R23, IF(T$6<=$V$2,0,\"\"))","v":""},{"$f":"IF('Data Entry'!T23 > 0,'Data Entry'!T23, IF(U$6<=$V$2,0,\"\"))","v":""},{"$f":"IF('Data Entry'!V23 > 0,'Data Entry'!V23, IF(V$6<=$V$2,0,\"\"))","v":""},{"$f":"IF('Data Entry'!D68 > 0,'Data Entry'!D68, IF(W$6<=$V$2,0,\"\"))","v":""},{"$f":"IF('Data Entry'!F68 > 0,'Data Entry'!F68, IF(X$6<=$V$2,0,\"\"))","v":""},{"$f":"IF('Data Entry'!H68 > 0,'Data Entry'!H68, IF(Y$6<=$V$2,0,\"\"))","v":""},{"$f":"IF('Data Entry'!J68 > 0,'Data Entry'!J68, IF(Z$6<=$V$2,0,\"\"))","v":""},{"$f":"IF('Data Entry'!L68 > 0,'Data Entry'!L68, IF(AA$6<=$V$2,0,\"\"))","v":""},{"$f":"IF('Data Entry'!N68 > 0,'Data Entry'!N68, IF(AB$6<=$V$2,0,\"\"))","v":""},{"$f":"IF('Data Entry'!P68 > 0,'Data Entry'!P68, IF(AC$6<='Data Entry'!$Y$6,0,\"\"))","v":""},{"$f":"IF('Data Entry'!R68 > 0,'Data Entry'!R68, IF(AD$6<=$V$2,0,\"\"))","v":""},{"$f":"IF('Data Entry'!T68 > 0,'Data Entry'!T68, IF(AE$6<=$V$2,0,\"\"))","v":""},{"$f":"IF('Data Entry'!V68 > 0,'Data Entry'!V68, IF(AF$6<=$V$2,0,\"\"))","v":""},{"$f":"IF('Data Entry'!D113 > 0,'Data Entry'!D113, IF(AG$6<=$V$2,0,\"\"))","v":""},{"$f":"IF('Data Entry'!F113 > 0,'Data Entry'!F113, IF(AH$6<=$V$2,0,\"\"))","v":""},{"$f":"IF('Data Entry'!H113 > 0,'Data Entry'!H113, IF(AI$6<=$V$2,0,\"\"))","v":""},{"$f":"IF('Data Entry'!J113 > 0,'Data Entry'!J113, IF(AJ$6<=$V$2,0,\"\"))","v":""},{"$f":"IF('Data Entry'!L113 > 0,'Data Entry'!L113, IF(AK$6<=$V$2,0,\"\"))","v":""},{"$f":"IF('Data Entry'!N113 > 0,'Data Entry'!N113, IF(AL$6<=$V$2,0,\"\"))","v":""},{"$f":"IF('Data Entry'!P113 > 0,'Data Entry'!P113, IF(AM$6<=$V$2,0,\"\"))","v":""},{"$f":"IF('Data Entry'!R113 > 0,'Data Entry'!R113, IF(AN$6<=$V$2,0,\"\"))","v":""},{"$f":"IF('Data Entry'!T113 > 0,'Data Entry'!T113, IF(AO$6<=$V$2,0,\"\"))","v":""},{"$f":"IF('Data Entry'!V113 > 0,'Data Entry'!V113, IF(AP$6<=$V$2,0,\"\"))","v":""},{"$f":"IF('Data Entry'!D158 > 0,'Data Entry'!D158, IF(AQ$6<='Data Entry'!$Y$6,0,\"\"))","v":""},{"$f":"IF('Data Entry'!F158 > 0,'Data Entry'!F158, IF(AR$6<=$V$2,0,\"\"))","v":""},{"$f":"IF('Data Entry'!H158 > 0,'Data Entry'!H158, IF(AS$6<=$V$2,0,\"\"))","v":""},{"$f":"IF('Data Entry'!J158 > 0,'Data Entry'!J158, IF(AT$6<=$V$2,0,\"\"))","v":""},{"$f":"IF('Data Entry'!L158 > 0,'Data Entry'!L158, IF(AU$6<=$V$2,0,\"\"))","v":""},{"$f":"IF('Data Entry'!N158 > 0,'Data Entry'!N158, IF(AV$6<=$V$2,0,\"\"))","v":""},{"$f":"IF('Data Entry'!P158 > 0,'Data Entry'!P158, IF(AW$6<=$V$2,0,\"\"))","v":""},{"$f":"IF('Data Entry'!R158 > 0,'Data Entry'!R158, IF(AX$6<=$V$2,0,\"\"))","v":""},{"$f":"IF('Data Entry'!T158 > 0,'Data Entry'!T158, IF(AY$6<=$V$2,0,\"\"))","v":""},{"$f":"IF('Data Entry'!V158 > 0,'Data Entry'!V158, IF(AZ$6<=$V$2,0,\"\"))","v":""},{"$f":"IF('Data Entry'!D203 > 0,'Data Entry'!D203, IF(BA$6<=$V$2,0,\"\"))","v":""},{"$f":"IF('Data Entry'!F203 > 0,'Data Entry'!F203, IF(BB$6<=$V$2,0,\"\"))","v":""},{"$f":"IF('Data Entry'!H203 > 0,'Data Entry'!H203, IF(BC$6<=$V$2,0,\"\"))","v":""},{"$f":"IF('Data Entry'!J203 > 0,'Data Entry'!J203, IF(BD$6<=$V$2,0,\"\"))","v":""},{"$f":"IF('Data Entry'!L203 > 0,'Data Entry'!L203, IF(BE$6<=$V$2,0,\"\"))","v":""},{"$f":"IF('Data Entry'!N203 > 0,'Data Entry'!N203, IF(BF$6<=$V$2,0,\"\"))","v":""},{"$f":"IF('Data Entry'!P203 > 0,'Data Entry'!P203, IF(BG$6<=$V$2,0,\"\"))","v":""},{"$f":"IF('Data Entry'!R203 > 0,'Data Entry'!R203, IF(BH$6<=$V$2,0,\"\"))","v":""},{"$f":"IF('Data Entry'!T203 > 0,'Data Entry'!T203, IF(BI$6<=$V$2,0,\"\"))","v":""},{"$f":"IF('Data Entry'!V203 > 0,'Data Entry'!V203, IF(BJ$6<=$V$2,0,\"\"))","v":""}]
[null,null,"Overall",{"$f":"SUM(D7:D23)","v":0},{"$f":"IF(SUM(E7:E23)<>0,SUM(E7:E23),\"\")","v":""},{"$f":"IF(SUM(F7:F23)<>0,SUM(F7:F23),\"\")","v":""},null,{"$f":"IF(COUNT(M24:BJ24)<>0,MIN(M24:BJ24),\"\")","v":""},{"$f":"IF(COUNT(M24:BJ24)<>0,MAX(M24:BJ24),\"\")","v":""},{"$f":"IF(COUNT(M24:BJ24)<>0,_xlfn.STDEV.S(M24:BJ24)*$P$1,\"\")","v":""},null,"",{"$f":"IF(SUM(M7:M23)<>0,SUM(M7:M23),IF(M6<=$V$2, 0, \"\"))","v":""},{"$f":"IF(SUM(N7:N23)<>0,SUM(N7:N23),IF(N6<=$V$2, 0, \"\"))","v":""},"","","","","","","","","","","","","","","","","","","","","","","","","","","","","","","","","","","","","","","","","","","","","","","",""]
[]
[]
[]
[null,null,"CROWN CLASS"]
[null,null,"Overstory","Species","Mean","Mode","Median","Mean","Minimum","Maximum","SD1",null,"CV2",1,2,3,4,5,6,7,8,9,10,11,12,13,14,15,16,17,18,19,20,21,22,23,24,25,26,27,28,29,30,31,32,33,34,35,36,37,38,39,40,41,42,43,44,45,46,47,48,49,50]
[null,"D=4",null,{"$f":"IF('Data Entry'!C7<>\"\",'Data Entry'!C7,\"\")","v":""},{"$f":"IF(D30<>\"\",AVERAGE(N30:BK30),\"\")","v":""},{"$f":"IF(COUNT(N30:BK30)>1,_xlfn.MODE.SNGL(N30:BK30),IF(COUNT(N30:BK30)=1,SUM(N30:BK30),\"\"))","v":""},{"$f":"IF(D30<>\"\",MEDIAN(N30:BK30),\"\")","v":""},{"$f":"IFERROR(IF(D30<>\"\", IF(3.7<=E30,\"D\",IF(3.3<=E30,\"C-D\",IF(2.7<=E30,\"C\",IF(2.3<=E30,\"I-C\",IF(1.7<=E30,\"I\",IF(1.3<=E30,\"S-I\",IF(0.5<E30,\"S\",\"\"))))))),\"\"), \"Not Entered\")","v":""},{"$f":"IF(D30<>\"\",MIN(N30:BK30),\"\")","v":""},{"$f":"IF(D30<>\"\",MAX(N30:BK30),\"\")","v":""},{"$f":"IFERROR(IF(D30<>\"\",_xlfn.STDEV.S(N30:BK30)*$P$1,\"\"), \"NO SD\")","v":""},null,{"$f":"IFERROR(IF(K30<>\"\",K30/E30,\"\"),\"NO CV\")","v":""},{"$f":"IF('Data Entry'!E7 = \"D\",4,IF('Data Entry'!E7 = \"C\",3,IF('Data Entry'!E7 = \"I\",2,IF('Data Entry'!E7 = \"S\",1,\"\"))))","v":""},{"$f":"IF('Data Entry'!G7 = \"D\",4,IF('Data Entry'!G7 = \"C\",3,IF('Data Entry'!G7 = \"I\",2,IF('Data Entry'!G7 = \"S\",1,\"\"))))","v":""},{"$f":"IF('Data Entry'!I7 = \"D\",4,IF('Data Entry'!I7 = \"C\",3,IF('Data Entry'!I7 = \"I\",2,IF('Data Entry'!I7 = \"S\",1,\"\"))))","v":""},{"$f":"IF('Data Entry'!K7 = \"D\",4,IF('Data Entry'!K7 = \"C\",3,IF('Data Entry'!K7 = \"I\",2,IF('Data Entry'!K7 = \"S\",1,\"\"))))","v":""},{"$f":"IF('Data Entry'!M7 = \"D\",4,IF('Data Entry'!M7 = \"C\",3,IF('Data Entry'!M7 = \"I\",2,IF('Data Entry'!M7 = \"S\",1,\"\"))))","v":""},{"$f":"IF('Data Entry'!O7 = \"D\",4,IF('Data Entry'!O7 = \"C\",3,IF('Data Entry'!O7 = \"I\",2,IF('Data Entry'!O7 = \"S\",1,\"\"))))","v":""},{"$f":"IF('Data Entry'!Q7 = \"D\",4,IF('Data Entry'!Q7 = \"C\",3,IF('Data Entry'!Q7 = \"I\",2,IF('Data Entry'!Q7 = \"S\",1,\"\"))))","v":""},{"$f":"IF('Data Entry'!S7 = \"D\",4,IF('Data Entry'!S7 = \"C\",3,IF('Data Entry'!S7 = \"I\",2,IF('Data Entry'!S7 = \"S\",1,\"\"))))","v":""},{"$f":"IF('Data Entry'!U7 = \"D\",4,IF('Data Entry'!U7 = \"C\",3,IF('Data Entry'!U7 = \"I\",2,IF('Data Entry'!U7 = \"S\",1,\"\"))))","v":""},{"$f":"IF('Data Entry'!W7 = \"D\",4,IF('Data Entry'!W7 = \"C\",3,IF('Data Entry'!W7 = \"I\",2,IF('Data Entry'!W7 = \"S\",1,\"\"))))","v":""},{"$f":"IF('Data Entry'!E52 = \"D\",4,IF('Data Entry'!E52 = \"C\",3,IF('Data Entry'!E52 = \"I\",2,IF('Data Entry'!E52 = \"S\",1,\"\"))))","v":""},{"$f":"IF('Data Entry'!G52 = \"D\",4,IF('Data Entry'!G52 = \"C\",3,IF('Data Entry'!G52 = \"I\",2,IF('Data Entry'!G52 = \"S\",1,\"\"))))","v":""},{"$f":"IF('Data Entry'!I52 = \"D\",4,IF('Data Entry'!I52 = \"C\",3,IF('Data Entry'!I52 = \"I\",2,IF('Data Entry'!I52 = \"S\",1,\"\"))))","v":""},{"$f":"IF('Data Entry'!K52 = \"D\",4,IF('Data Entry'!K52 = \"C\",3,IF('Data Entry'!K52 = \"I\",2,IF('Data Entry'!K52 = \"S\",1,\"\"))))","v":""},{"$f":"IF('Data Entry'!M52 = \"D\",4,IF('Data Entry'!M52 = \"C\",3,IF('Data Entry'!M52 = \"I\",2,IF('Data Entry'!M52 = \"S\",1,\"\"))))","v":""},{"$f":"IF('Data Entry'!O52 = \"D\",4,IF('Data Entry'!O52 = \"C\",3,IF('Data Entry'!O52 = \"I\",2,IF('Data Entry'!O52 = \"S\",1,\"\"))))","v":""},{"$f":"IF('Data Entry'!Q52 = \"D\",4,IF('Data Entry'!Q52 = \"C\",3,IF('Data Entry'!Q52 = \"I\",2,IF('Data Entry'!Q52 = \"S\",1,\"\"))))","v":""},{"$f":"IF('Data Entry'!S52 = \"D\",4,IF('Data Entry'!S52 = \"C\",3,IF('Data Entry'!S52 = \"I\",2,IF('Data Entry'!S52 = \"S\",1,\"\"))))","v":""},{"$f":"IF('Data Entry'!U52 = \"D\",4,IF('Data Entry'!U52 = \"C\",3,IF('Data Entry'!U52 = \"I\",2,IF('Data Entry'!U52 = \"S\",1,\"\"))))","v":""},{"$f":"IF('Data Entry'!W52 = \"D\",4,IF('Data Entry'!W52 = \"C\",3,IF('Data Entry'!W52 = \"I\",2,IF('Data Entry'!W52 = \"S\",1,\"\"))))","v":""},{"$f":"IF('Data Entry'!E97 = \"D\",4,IF('Data Entry'!E97 = \"C\",3,IF('Data Entry'!E97 = \"I\",2,IF('Data Entry'!E97 = \"S\",1,\"\"))))","v":""},{"$f":"IF('Data Entry'!G97 = \"D\",4,IF('Data Entry'!G97 = \"C\",3,IF('Data Entry'!G97 = \"I\",2,IF('Data Entry'!G97 = \"S\",1,\"\"))))","v":""},{"$f":"IF('Data Entry'!I97 = \"D\",4,IF('Data Entry'!I97 = \"C\",3,IF('Data Entry'!I97 = \"I\",2,IF('Data Entry'!I97 = \"S\",1,\"\"))))","v":""},{"$f":"IF('Data Entry'!K97 = \"D\",4,IF('Data Entry'!K97 = \"C\",3,IF('Data Entry'!K97 = \"I\",2,IF('Data Entry'!K97 = \"S\",1,\"\"))))","v":""},{"$f":"IF('Data Entry'!M97 = \"D\",4,IF('Data Entry'!M97 = \"C\",3,IF('Data Entry'!M97 = \"I\",2,IF('Data Entry'!M97 = \"S\",1,\"\"))))","v":""},{"$f":"IF('Data Entry'!O97 = \"D\",4,IF('Data Entry'!O97 = \"C\",3,IF('Data Entry'!O97 = \"I\",2,IF('Data Entry'!O97 = \"S\",1,\"\"))))","v":""},{"$f":"IF('Data Entry'!Q97 = \"D\",4,IF('Data Entry'!Q97 = \"C\",3,IF('Data Entry'!Q97 = \"I\",2,IF('Data Entry'!Q97 = \"S\",1,\"\"))))","v":""},{"$f":"IF('Data Entry'!S97 = \"D\",4,IF('Data Entry'!S97 = \"C\",3,IF('Data Entry'!S97 = \"I\",2,IF('Data Entry'!S97 = \"S\",1,\"\"))))","v":""},{"$f":"IF('Data Entry'!U97 = \"D\",4,IF('Data Entry'!U97 = \"C\",3,IF('Data Entry'!U97 = \"I\",2,IF('Data Entry'!U97 = \"S\",1,\"\"))))","v":""},{"$f":"IF('Data Entry'!W97 = \"D\",4,IF('Data Entry'!W97 = \"C\",3,IF('Data Entry'!W97 = \"I\",2,IF('Data Entry'!W97 = \"S\",1,\"\"))))","v":""},{"$f":"IF('Data Entry'!E142 = \"D\",4,IF('Data Entry'!E142 = \"C\",3,IF('Data Entry'!E142 = \"I\",2,IF('Data Entry'!E142 = \"S\",1,\"\"))))","v":""},{"$f":"IF('Data Entry'!G142 = \"D\",4,IF('Data Entry'!G142 = \"C\",3,IF('Data Entry'!G142 = \"I\",2,IF('Data Entry'!G142 = \"S\",1,\"\"))))","v":""},{"$f":"IF('Data Entry'!I142 = \"D\",4,IF('Data Entry'!I142 = \"C\",3,IF('Data Entry'!I142 = \"I\",2,IF('Data Entry'!I142 = \"S\",1,\"\"))))","v":""},{"$f":"IF('Data Entry'!K142 = \"D\",4,IF('Data Entry'!K142 = \"C\",3,IF('Data Entry'!K142 = \"I\",2,IF('Data Entry'!K142 = \"S\",1,\"\"))))","v":""},{"$f":"IF('Data Entry'!M142 = \"D\",4,IF('Data Entry'!M142 = \"C\",3,IF('Data Entry'!M142 = \"I\",2,IF('Data Entry'!M142 = \"S\",1,\"\"))))","v":""},{"$f":"IF('Data Entry'!O142 = \"D\",4,IF('Data Entry'!O142 = \"C\",3,IF('Data Entry'!O142 = \"I\",2,IF('Data Entry'!O142 = \"S\",1,\"\"))))","v":""},{"$f":"IF('Data Entry'!Q142 = \"D\",4,IF('Data Entry'!Q142 = \"C\",3,IF('Data Entry'!Q142 = \"I\",2,IF('Data Entry'!Q142 = \"S\",1,\"\"))))","v":""},{"$f":"IF('Data Entry'!S142 = \"D\",4,IF('Data Entry'!S142 = \"C\",3,IF('Data Entry'!S142 = \"I\",2,IF('Data Entry'!S142 = \"S\",1,\"\"))))","v":""},{"$f":"IF('Data Entry'!U142 = \"D\",4,IF('Data Entry'!U142 = \"C\",3,IF('Data Entry'!U142 = \"I\",2,IF('Data Entry'!U142 = \"S\",1,\"\"))))","v":""},{"$f":"IF('Data Entry'!W142 = \"D\",4,IF('Data Entry'!W142 = \"C\",3,IF('Data Entry'!W142 = \"I\",2,IF('Data Entry'!W142 = \"S\",1,\"\"))))","v":""},{"$f":"IF('Data Entry'!E187 = \"D\",4,IF('Data Entry'!E187 = \"C\",3,IF('Data Entry'!E187 = \"I\",2,IF('Data Entry'!E187 = \"S\",1,\"\"))))","v":""},{"$f":"IF('Data Entry'!G187 = \"D\",4,IF('Data Entry'!G187 = \"C\",3,IF('Data Entry'!G187 = \"I\",2,IF('Data Entry'!G187 = \"S\",1,\"\"))))","v":""},{"$f":"IF('Data Entry'!I187 = \"D\",4,IF('Data Entry'!I187 = \"C\",3,IF('Data Entry'!I187 = \"I\",2,IF('Data Entry'!I187 = \"S\",1,\"\"))))","v":""},{"$f":"IF('Data Entry'!K187 = \"D\",4,IF('Data Entry'!K187 = \"C\",3,IF('Data Entry'!K187 = \"I\",2,IF('Data Entry'!K187 = \"S\",1,\"\"))))","v":""},{"$f":"IF('Data Entry'!M187 = \"D\",4,IF('Data Entry'!M187 = \"C\",3,IF('Data Entry'!M187 = \"I\",2,IF('Data Entry'!M187 = \"S\",1,\"\"))))","v":""},{"$f":"IF('Data Entry'!O187 = \"D\",4,IF('Data Entry'!O187 = \"C\",3,IF('Data Entry'!O187 = \"I\",2,IF('Data Entry'!O187 = \"S\",1,\"\"))))","v":""},{"$f":"IF('Data Entry'!Q187 = \"D\",4,IF('Data Entry'!Q187 = \"C\",3,IF('Data Entry'!Q187 = \"I\",2,IF('Data Entry'!Q187 = \"S\",1,\"\"))))","v":""},{"$f":"IF('Data Entry'!S187 = \"D\",4,IF('Data Entry'!S187 = \"C\",3,IF('Data Entry'!S187 = \"I\",2,IF('Data Entry'!S187 = \"S\",1,\"\"))))","v":""},{"$f":"IF('Data Entry'!U187 = \"D\",4,IF('Data Entry'!U187 = \"C\",3,IF('Data Entry'!U187 = \"I\",2,IF('Data Entry'!U187 = \"S\",1,\"\"))))","v":""},{"$f":"IF('Data Entry'!W187 = \"D\",4,IF('Data Entry'!W187 = \"C\",3,IF('Data Entry'!W187 = \"I\",2,IF('Data Entry'!W187 = \"S\",1,\"\"))))","v":""}]
[null,"C=3",null,{"$f":"IF('Data Entry'!C8<>\"\",'Data Entry'!C8,\"\")","v":""},"","","",{"$f":"IFERROR(IF(D31<>\"\", IF(3.7<=E31,\"D\",IF(3.3<=E31,\"C-D\",IF(2.7<=E31,\"C\",IF(2.3<=E31,\"I-C\",IF(1.7<=E31,\"I\",IF(1.3<=E31,\"S-I\",IF(0.5<E31,\"S\",\"\"))))))),\"\"), \"Not Entered\")","v":""},"","",{"$f":"IFERROR(IF(D31<>\"\",_xlfn.STDEV.S(N31:BK31)*$P$1,\"\"), \"NO SD\")","v":""},null,{"$f":"IFERROR(IF(K31<>\"\",K31/E31,\"\"),\"NO CV\")","v":""},{"$f":"IF('Data Entry'!E8 = \"D\",4,IF('Data Entry'!E8 = \"C\",3,IF('Data Entry'!E8 = \"I\",2,IF('Data Entry'!E8 = \"S\",1,\"\"))))","v":""},{"$f":"IF('Data Entry'!G8 = \"D\",4,IF('Data Entry'!G8 = \"C\",3,IF('Data Entry'!G8 = \"I\",2,IF('Data Entry'!G8 = \"S\",1,\"\"))))","v":""},{"$f":"IF('Data Entry'!I8 = \"D\",4,IF('Data Entry'!I8 = \"C\",3,IF('Data Entry'!I8 = \"I\",2,IF('Data Entry'!I8 = \"S\",1,\"\"))))","v":""},{"$f":"IF('Data Entry'!K8 = \"D\",4,IF('Data Entry'!K8 = \"C\",3,IF('Data Entry'!K8 = \"I\",2,IF('Data Entry'!K8 = \"S\",1,\"\"))))","v":""},{"$f":"IF('Data Entry'!M8 = \"D\",4,IF('Data Entry'!M8 = \"C\",3,IF('Data Entry'!M8 = \"I\",2,IF('Data Entry'!M8 = \"S\",1,\"\"))))","v":""},{"$f":"IF('Data Entry'!O8 = \"D\",4,IF('Data Entry'!O8 = \"C\",3,IF('Data Entry'!O8 = \"I\",2,IF('Data Entry'!O8 = \"S\",1,\"\"))))","v":""},{"$f":"IF('Data Entry'!Q8 = \"D\",4,IF('Data Entry'!Q8 = \"C\",3,IF('Data Entry'!Q8 = \"I\",2,IF('Data Entry'!Q8 = \"S\",1,\"\"))))","v":""},{"$f":"IF('Data Entry'!S8 = \"D\",4,IF('Data Entry'!S8 = \"C\",3,IF('Data Entry'!S8 = \"I\",2,IF('Data Entry'!S8 = \"S\",1,\"\"))))","v":""},{"$f":"IF('Data Entry'!U8 = \"D\",4,IF('Data Entry'!U8 = \"C\",3,IF('Data Entry'!U8 = \"I\",2,IF('Data Entry'!U8 = \"S\",1,\"\"))))","v":""},{"$f":"IF('Data Entry'!W8 = \"D\",4,IF('Data Entry'!W8 = \"C\",3,IF('Data Entry'!W8 = \"I\",2,IF('Data Entry'!W8 = \"S\",1,\"\"))))","v":""},{"$f":"IF('Data Entry'!E53 = \"D\",4,IF('Data Entry'!E53 = \"C\",3,IF('Data Entry'!E53 = \"I\",2,IF('Data Entry'!E53 = \"S\",1,\"\"))))","v":""},{"$f":"IF('Data Entry'!G53 = \"D\",4,IF('Data Entry'!G53 = \"C\",3,IF('Data Entry'!G53 = \"I\",2,IF('Data Entry'!G53 = \"S\",1,\"\"))))","v":""},{"$f":"IF('Data Entry'!I53 = \"D\",4,IF('Data Entry'!I53 = \"C\",3,IF('Data Entry'!I53 = \"I\",2,IF('Data Entry'!I53 = \"S\",1,\"\"))))","v":""},{"$f":"IF('Data Entry'!K53 = \"D\",4,IF('Data Entry'!K53 = \"C\",3,IF('Data Entry'!K53 = \"I\",2,IF('Data Entry'!K53 = \"S\",1,\"\"))))","v":""},{"$f":"IF('Data Entry'!M53 = \"D\",4,IF('Data Entry'!M53 = \"C\",3,IF('Data Entry'!M53 = \"I\",2,IF('Data Entry'!M53 = \"S\",1,\"\"))))","v":""},{"$f":"IF('Data Entry'!O53 = \"D\",4,IF('Data Entry'!O53 = \"C\",3,IF('Data Entry'!O53 = \"I\",2,IF('Data Entry'!O53 = \"S\",1,\"\"))))","v":""},{"$f":"IF('Data Entry'!Q53 = \"D\",4,IF('Data Entry'!Q53 = \"C\",3,IF('Data Entry'!Q53 = \"I\",2,IF('Data Entry'!Q53 = \"S\",1,\"\"))))","v":""},{"$f":"IF('Data Entry'!S53 = \"D\",4,IF('Data Entry'!S53 = \"C\",3,IF('Data Entry'!S53 = \"I\",2,IF('Data Entry'!S53 = \"S\",1,\"\"))))","v":""},{"$f":"IF('Data Entry'!U53 = \"D\",4,IF('Data Entry'!U53 = \"C\",3,IF('Data Entry'!U53 = \"I\",2,IF('Data Entry'!U53 = \"S\",1,\"\"))))","v":""},{"$f":"IF('Data Entry'!W53 = \"D\",4,IF('Data Entry'!W53 = \"C\",3,IF('Data Entry'!W53 = \"I\",2,IF('Data Entry'!W53 = \"S\",1,\"\"))))","v":""},{"$f":"IF('Data Entry'!E98 = \"D\",4,IF('Data Entry'!E98 = \"C\",3,IF('Data Entry'!E98 = \"I\",2,IF('Data Entry'!E98 = \"S\",1,\"\"))))","v":""},{"$f":"IF('Data Entry'!G98 = \"D\",4,IF('Data Entry'!G98 = \"C\",3,IF('Data Entry'!G98 = \"I\",2,IF('Data Entry'!G98 = \"S\",1,\"\"))))","v":""},{"$f":"IF('Data Entry'!I98 = \"D\",4,IF('Data Entry'!I98 = \"C\",3,IF('Data Entry'!I98 = \"I\",2,IF('Data Entry'!I98 = \"S\",1,\"\"))))","v":""},{"$f":"IF('Data Entry'!K98 = \"D\",4,IF('Data Entry'!K98 = \"C\",3,IF('Data Entry'!K98 = \"I\",2,IF('Data Entry'!K98 = \"S\",1,\"\"))))","v":""},{"$f":"IF('Data Entry'!M98 = \"D\",4,IF('Data Entry'!M98 = \"C\",3,IF('Data Entry'!M98 = \"I\",2,IF('Data Entry'!M98 = \"S\",1,\"\"))))","v":""},{"$f":"IF('Data Entry'!O98 = \"D\",4,IF('Data Entry'!O98 = \"C\",3,IF('Data Entry'!O98 = \"I\",2,IF('Data Entry'!O98 = \"S\",1,\"\"))))","v":""},{"$f":"IF('Data Entry'!Q98 = \"D\",4,IF('Data Entry'!Q98 = \"C\",3,IF('Data Entry'!Q98 = \"I\",2,IF('Data Entry'!Q98 = \"S\",1,\"\"))))","v":""},{"$f":"IF('Data Entry'!S98 = \"D\",4,IF('Data Entry'!S98 = \"C\",3,IF('Data Entry'!S98 = \"I\",2,IF('Data Entry'!S98 = \"S\",1,\"\"))))","v":""},{"$f":"IF('Data Entry'!U98 = \"D\",4,IF('Data Entry'!U98 = \"C\",3,IF('Data Entry'!U98 = \"I\",2,IF('Data Entry'!U98 = \"S\",1,\"\"))))","v":""},{"$f":"IF('Data Entry'!W98 = \"D\",4,IF('Data Entry'!W98 = \"C\",3,IF('Data Entry'!W98 = \"I\",2,IF('Data Entry'!W98 = \"S\",1,\"\"))))","v":""},{"$f":"IF('Data Entry'!E143 = \"D\",4,IF('Data Entry'!E143 = \"C\",3,IF('Data Entry'!E143 = \"I\",2,IF('Data Entry'!E143 = \"S\",1,\"\"))))","v":""},{"$f":"IF('Data Entry'!G143 = \"D\",4,IF('Data Entry'!G143 = \"C\",3,IF('Data Entry'!G143 = \"I\",2,IF('Data Entry'!G143 = \"S\",1,\"\"))))","v":""},{"$f":"IF('Data Entry'!I143 = \"D\",4,IF('Data Entry'!I143 = \"C\",3,IF('Data Entry'!I143 = \"I\",2,IF('Data Entry'!I143 = \"S\",1,\"\"))))","v":""},{"$f":"IF('Data Entry'!K143 = \"D\",4,IF('Data Entry'!K143 = \"C\",3,IF('Data Entry'!K143 = \"I\",2,IF('Data Entry'!K143 = \"S\",1,\"\"))))","v":""},{"$f":"IF('Data Entry'!M143 = \"D\",4,IF('Data Entry'!M143 = \"C\",3,IF('Data Entry'!M143 = \"I\",2,IF('Data Entry'!M143 = \"S\",1,\"\"))))","v":""},{"$f":"IF('Data Entry'!O143 = \"D\",4,IF('Data Entry'!O143 = \"C\",3,IF('Data Entry'!O143 = \"I\",2,IF('Data Entry'!O143 = \"S\",1,\"\"))))","v":""},{"$f":"IF('Data Entry'!Q143 = \"D\",4,IF('Data Entry'!Q143 = \"C\",3,IF('Data Entry'!Q143 = \"I\",2,IF('Data Entry'!Q143 = \"S\",1,\"\"))))","v":""},{"$f":"IF('Data Entry'!S143 = \"D\",4,IF('Data Entry'!S143 = \"C\",3,IF('Data Entry'!S143 = \"I\",2,IF('Data Entry'!S143 = \"S\",1,\"\"))))","v":""},{"$f":"IF('Data Entry'!U143 = \"D\",4,IF('Data Entry'!U143 = \"C\",3,IF('Data Entry'!U143 = \"I\",2,IF('Data Entry'!U143 = \"S\",1,\"\"))))","v":""},{"$f":"IF('Data Entry'!W143 = \"D\",4,IF('Data Entry'!W143 = \"C\",3,IF('Data Entry'!W143 = \"I\",2,IF('Data Entry'!W143 = \"S\",1,\"\"))))","v":""},{"$f":"IF('Data Entry'!E188 = \"D\",4,IF('Data Entry'!E188 = \"C\",3,IF('Data Entry'!E188 = \"I\",2,IF('Data Entry'!E188 = \"S\",1,\"\"))))","v":""},{"$f":"IF('Data Entry'!G188 = \"D\",4,IF('Data Entry'!G188 = \"C\",3,IF('Data Entry'!G188 = \"I\",2,IF('Data Entry'!G188 = \"S\",1,\"\"))))","v":""},{"$f":"IF('Data Entry'!I188 = \"D\",4,IF('Data Entry'!I188 = \"C\",3,IF('Data Entry'!I188 = \"I\",2,IF('Data Entry'!I188 = \"S\",1,\"\"))))","v":""},{"$f":"IF('Data Entry'!K188 = \"D\",4,IF('Data Entry'!K188 = \"C\",3,IF('Data Entry'!K188 = \"I\",2,IF('Data Entry'!K188 = \"S\",1,\"\"))))","v":""},{"$f":"IF('Data Entry'!M188 = \"D\",4,IF('Data Entry'!M188 = \"C\",3,IF('Data Entry'!M188 = \"I\",2,IF('Data Entry'!M188 = \"S\",1,\"\"))))","v":""},{"$f":"IF('Data Entry'!O188 = \"D\",4,IF('Data Entry'!O188 = \"C\",3,IF('Data Entry'!O188 = \"I\",2,IF('Data Entry'!O188 = \"S\",1,\"\"))))","v":""},{"$f":"IF('Data Entry'!Q188 = \"D\",4,IF('Data Entry'!Q188 = \"C\",3,IF('Data Entry'!Q188 = \"I\",2,IF('Data Entry'!Q188 = \"S\",1,\"\"))))","v":""},{"$f":"IF('Data Entry'!S188 = \"D\",4,IF('Data Entry'!S188 = \"C\",3,IF('Data Entry'!S188 = \"I\",2,IF('Data Entry'!S188 = \"S\",1,\"\"))))","v":""},{"$f":"IF('Data Entry'!U188 = \"D\",4,IF('Data Entry'!U188 = \"C\",3,IF('Data Entry'!U188 = \"I\",2,IF('Data Entry'!U188 = \"S\",1,\"\"))))","v":""},{"$f":"IF('Data Entry'!W188 = \"D\",4,IF('Data Entry'!W188 = \"C\",3,IF('Data Entry'!W188 = \"I\",2,IF('Data Entry'!W188 = \"S\",1,\"\"))))","v":""}]
[null,"I=2",null,{"$f":"IF('Data Entry'!C9<>\"\",'Data Entry'!C9,\"\")","v":""},"","","","","","","",null,"",{"$f":"IF('Data Entry'!E9 = \"D\",4,IF('Data Entry'!E9 = \"C\",3,IF('Data Entry'!E9 = \"I\",2,IF('Data Entry'!E9 = \"S\",1,\"\"))))","v":""},{"$f":"IF('Data Entry'!G9 = \"D\",4,IF('Data Entry'!G9 = \"C\",3,IF('Data Entry'!G9 = \"I\",2,IF('Data Entry'!G9 = \"S\",1,\"\"))))","v":""},{"$f":"IF('Data Entry'!I9 = \"D\",4,IF('Data Entry'!I9 = \"C\",3,IF('Data Entry'!I9 = \"I\",2,IF('Data Entry'!I9 = \"S\",1,\"\"))))","v":""},{"$f":"IF('Data Entry'!K9 = \"D\",4,IF('Data Entry'!K9 = \"C\",3,IF('Data Entry'!K9 = \"I\",2,IF('Data Entry'!K9 = \"S\",1,\"\"))))","v":""},{"$f":"IF('Data Entry'!M9 = \"D\",4,IF('Data Entry'!M9 = \"C\",3,IF('Data Entry'!M9 = \"I\",2,IF('Data Entry'!M9 = \"S\",1,\"\"))))","v":""},{"$f":"IF('Data Entry'!O9 = \"D\",4,IF('Data Entry'!O9 = \"C\",3,IF('Data Entry'!O9 = \"I\",2,IF('Data Entry'!O9 = \"S\",1,\"\"))))","v":""},{"$f":"IF('Data Entry'!Q9 = \"D\",4,IF('Data Entry'!Q9 = \"C\",3,IF('Data Entry'!Q9 = \"I\",2,IF('Data Entry'!Q9 = \"S\",1,\"\"))))","v":""},{"$f":"IF('Data Entry'!S9 = \"D\",4,IF('Data Entry'!S9 = \"C\",3,IF('Data Entry'!S9 = \"I\",2,IF('Data Entry'!S9 = \"S\",1,\"\"))))","v":""},{"$f":"IF('Data Entry'!U9 = \"D\",4,IF('Data Entry'!U9 = \"C\",3,IF('Data Entry'!U9 = \"I\",2,IF('Data Entry'!U9 = \"S\",1,\"\"))))","v":""},{"$f":"IF('Data Entry'!W9 = \"D\",4,IF('Data Entry'!W9 = \"C\",3,IF('Data Entry'!W9 = \"I\",2,IF('Data Entry'!W9 = \"S\",1,\"\"))))","v":""},{"$f":"IF('Data Entry'!E54 = \"D\",4,IF('Data Entry'!E54 = \"C\",3,IF('Data Entry'!E54 = \"I\",2,IF('Data Entry'!E54 = \"S\",1,\"\"))))","v":""},{"$f":"IF('Data Entry'!G54 = \"D\",4,IF('Data Entry'!G54 = \"C\",3,IF('Data Entry'!G54 = \"I\",2,IF('Data Entry'!G54 = \"S\",1,\"\"))))","v":""},{"$f":"IF('Data Entry'!I54 = \"D\",4,IF('Data Entry'!I54 = \"C\",3,IF('Data Entry'!I54 = \"I\",2,IF('Data Entry'!I54 = \"S\",1,\"\"))))","v":""},{"$f":"IF('Data Entry'!K54 = \"D\",4,IF('Data Entry'!K54 = \"C\",3,IF('Data Entry'!K54 = \"I\",2,IF('Data Entry'!K54 = \"S\",1,\"\"))))","v":""},{"$f":"IF('Data Entry'!M54 = \"D\",4,IF('Data Entry'!M54 = \"C\",3,IF('Data Entry'!M54 = \"I\",2,IF('Data Entry'!M54 = \"S\",1,\"\"))))","v":""},{"$f":"IF('Data Entry'!O54 = \"D\",4,IF('Data Entry'!O54 = \"C\",3,IF('Data Entry'!O54 = \"I\",2,IF('Data Entry'!O54 = \"S\",1,\"\"))))","v":""},{"$f":"IF('Data Entry'!Q54 = \"D\",4,IF('Data Entry'!Q54 = \"C\",3,IF('Data Entry'!Q54 = \"I\",2,IF('Data Entry'!Q54 = \"S\",1,\"\"))))","v":""},{"$f":"IF('Data Entry'!S54 = \"D\",4,IF('Data Entry'!S54 = \"C\",3,IF('Data Entry'!S54 = \"I\",2,IF('Data Entry'!S54 = \"S\",1,\"\"))))","v":""},{"$f":"IF('Data Entry'!U54 = \"D\",4,IF('Data Entry'!U54 = \"C\",3,IF('Data Entry'!U54 = \"I\",2,IF('Data Entry'!U54 = \"S\",1,\"\"))))","v":""},{"$f":"IF('Data Entry'!W54 = \"D\",4,IF('Data Entry'!W54 = \"C\",3,IF('Data Entry'!W54 = \"I\",2,IF('Data Entry'!W54 = \"S\",1,\"\"))))","v":""},{"$f":"IF('Data Entry'!E99 = \"D\",4,IF('Data Entry'!E99 = \"C\",3,IF('Data Entry'!E99 = \"I\",2,IF('Data Entry'!E99 = \"S\",1,\"\"))))","v":""},{"$f":"IF('Data Entry'!G99 = \"D\",4,IF('Data Entry'!G99 = \"C\",3,IF('Data Entry'!G99 = \"I\",2,IF('Data Entry'!G99 = \"S\",1,\"\"))))","v":""},{"$f":"IF('Data Entry'!I99 = \"D\",4,IF('Data Entry'!I99 = \"C\",3,IF('Data Entry'!I99 = \"I\",2,IF('Data Entry'!I99 = \"S\",1,\"\"))))","v":""},{"$f":"IF('Data Entry'!K99 = \"D\",4,IF('Data Entry'!K99 = \"C\",3,IF('Data Entry'!K99 = \"I\",2,IF('Data Entry'!K99 = \"S\",1,\"\"))))","v":""},{"$f":"IF('Data Entry'!M99 = \"D\",4,IF('Data Entry'!M99 = \"C\",3,IF('Data Entry'!M99 = \"I\",2,IF('Data Entry'!M99 = \"S\",1,\"\"))))","v":""},{"$f":"IF('Data Entry'!O99 = \"D\",4,IF('Data Entry'!O99 = \"C\",3,IF('Data Entry'!O99 = \"I\",2,IF('Data Entry'!O99 = \"S\",1,\"\"))))","v":""},{"$f":"IF('Data Entry'!Q99 = \"D\",4,IF('Data Entry'!Q99 = \"C\",3,IF('Data Entry'!Q99 = \"I\",2,IF('Data Entry'!Q99 = \"S\",1,\"\"))))","v":""},{"$f":"IF('Data Entry'!S99 = \"D\",4,IF('Data Entry'!S99 = \"C\",3,IF('Data Entry'!S99 = \"I\",2,IF('Data Entry'!S99 = \"S\",1,\"\"))))","v":""},{"$f":"IF('Data Entry'!U99 = \"D\",4,IF('Data Entry'!U99 = \"C\",3,IF('Data Entry'!U99 = \"I\",2,IF('Data Entry'!U99 = \"S\",1,\"\"))))","v":""},{"$f":"IF('Data Entry'!W99 = \"D\",4,IF('Data Entry'!W99 = \"C\",3,IF('Data Entry'!W99 = \"I\",2,IF('Data Entry'!W99 = \"S\",1,\"\"))))","v":""},{"$f":"IF('Data Entry'!E144 = \"D\",4,IF('Data Entry'!E144 = \"C\",3,IF('Data Entry'!E144 = \"I\",2,IF('Data Entry'!E144 = \"S\",1,\"\"))))","v":""},{"$f":"IF('Data Entry'!G144 = \"D\",4,IF('Data Entry'!G144 = \"C\",3,IF('Data Entry'!G144 = \"I\",2,IF('Data Entry'!G144 = \"S\",1,\"\"))))","v":""},{"$f":"IF('Data Entry'!I144 = \"D\",4,IF('Data Entry'!I144 = \"C\",3,IF('Data Entry'!I144 = \"I\",2,IF('Data Entry'!I144 = \"S\",1,\"\"))))","v":""},{"$f":"IF('Data Entry'!K144 = \"D\",4,IF('Data Entry'!K144 = \"C\",3,IF('Data Entry'!K144 = \"I\",2,IF('Data Entry'!K144 = \"S\",1,\"\"))))","v":""},{"$f":"IF('Data Entry'!M144 = \"D\",4,IF('Data Entry'!M144 = \"C\",3,IF('Data Entry'!M144 = \"I\",2,IF('Data Entry'!M144 = \"S\",1,\"\"))))","v":""},{"$f":"IF('Data Entry'!O144 = \"D\",4,IF('Data Entry'!O144 = \"C\",3,IF('Data Entry'!O144 = \"I\",2,IF('Data Entry'!O144 = \"S\",1,\"\"))))","v":""},{"$f":"IF('Data Entry'!Q144 = \"D\",4,IF('Data Entry'!Q144 = \"C\",3,IF('Data Entry'!Q144 = \"I\",2,IF('Data Entry'!Q144 = \"S\",1,\"\"))))","v":""},{"$f":"IF('Data Entry'!S144 = \"D\",4,IF('Data Entry'!S144 = \"C\",3,IF('Data Entry'!S144 = \"I\",2,IF('Data Entry'!S144 = \"S\",1,\"\"))))","v":""},{"$f":"IF('Data Entry'!U144 = \"D\",4,IF('Data Entry'!U144 = \"C\",3,IF('Data Entry'!U144 = \"I\",2,IF('Data Entry'!U144 = \"S\",1,\"\"))))","v":""},{"$f":"IF('Data Entry'!W144 = \"D\",4,IF('Data Entry'!W144 = \"C\",3,IF('Data Entry'!W144 = \"I\",2,IF('Data Entry'!W144 = \"S\",1,\"\"))))","v":""},{"$f":"IF('Data Entry'!E189 = \"D\",4,IF('Data Entry'!E189 = \"C\",3,IF('Data Entry'!E189 = \"I\",2,IF('Data Entry'!E189 = \"S\",1,\"\"))))","v":""},{"$f":"IF('Data Entry'!G189 = \"D\",4,IF('Data Entry'!G189 = \"C\",3,IF('Data Entry'!G189 = \"I\",2,IF('Data Entry'!G189 = \"S\",1,\"\"))))","v":""},{"$f":"IF('Data Entry'!I189 = \"D\",4,IF('Data Entry'!I189 = \"C\",3,IF('Data Entry'!I189 = \"I\",2,IF('Data Entry'!I189 = \"S\",1,\"\"))))","v":""},{"$f":"IF('Data Entry'!K189 = \"D\",4,IF('Data Entry'!K189 = \"C\",3,IF('Data Entry'!K189 = \"I\",2,IF('Data Entry'!K189 = \"S\",1,\"\"))))","v":""},{"$f":"IF('Data Entry'!M189 = \"D\",4,IF('Data Entry'!M189 = \"C\",3,IF('Data Entry'!M189 = \"I\",2,IF('Data Entry'!M189 = \"S\",1,\"\"))))","v":""},{"$f":"IF('Data Entry'!O189 = \"D\",4,IF('Data Entry'!O189 = \"C\",3,IF('Data Entry'!O189 = \"I\",2,IF('Data Entry'!O189 = \"S\",1,\"\"))))","v":""},{"$f":"IF('Data Entry'!Q189 = \"D\",4,IF('Data Entry'!Q189 = \"C\",3,IF('Data Entry'!Q189 = \"I\",2,IF('Data Entry'!Q189 = \"S\",1,\"\"))))","v":""},{"$f":"IF('Data Entry'!S189 = \"D\",4,IF('Data Entry'!S189 = \"C\",3,IF('Data Entry'!S189 = \"I\",2,IF('Data Entry'!S189 = \"S\",1,\"\"))))","v":""},{"$f":"IF('Data Entry'!U189 = \"D\",4,IF('Data Entry'!U189 = \"C\",3,IF('Data Entry'!U189 = \"I\",2,IF('Data Entry'!U189 = \"S\",1,\"\"))))","v":""},{"$f":"IF('Data Entry'!W189 = \"D\",4,IF('Data Entry'!W189 = \"C\",3,IF('Data Entry'!W189 = \"I\",2,IF('Data Entry'!W189 = \"S\",1,\"\"))))","v":""}]
[null,"S=1",null,{"$f":"IF('Data Entry'!C10<>\"\",'Data Entry'!C10,\"\")","v":""},"","","","","","","",null,"",{"$f":"IF('Data Entry'!E10 = \"D\",4,IF('Data Entry'!E10 = \"C\",3,IF('Data Entry'!E10 = \"I\",2,IF('Data Entry'!E10 = \"S\",1,\"\"))))","v":""},{"$f":"IF('Data Entry'!G10 = \"D\",4,IF('Data Entry'!G10 = \"C\",3,IF('Data Entry'!G10 = \"I\",2,IF('Data Entry'!G10 = \"S\",1,\"\"))))","v":""},{"$f":"IF('Data Entry'!I10 = \"D\",4,IF('Data Entry'!I10 = \"C\",3,IF('Data Entry'!I10 = \"I\",2,IF('Data Entry'!I10 = \"S\",1,\"\"))))","v":""},{"$f":"IF('Data Entry'!K10 = \"D\",4,IF('Data Entry'!K10 = \"C\",3,IF('Data Entry'!K10 = \"I\",2,IF('Data Entry'!K10 = \"S\",1,\"\"))))","v":""},{"$f":"IF('Data Entry'!M10 = \"D\",4,IF('Data Entry'!M10 = \"C\",3,IF('Data Entry'!M10 = \"I\",2,IF('Data Entry'!M10 = \"S\",1,\"\"))))","v":""},{"$f":"IF('Data Entry'!O10 = \"D\",4,IF('Data Entry'!O10 = \"C\",3,IF('Data Entry'!O10 = \"I\",2,IF('Data Entry'!O10 = \"S\",1,\"\"))))","v":""},{"$f":"IF('Data Entry'!Q10 = \"D\",4,IF('Data Entry'!Q10 = \"C\",3,IF('Data Entry'!Q10 = \"I\",2,IF('Data Entry'!Q10 = \"S\",1,\"\"))))","v":""},{"$f":"IF('Data Entry'!S10 = \"D\",4,IF('Data Entry'!S10 = \"C\",3,IF('Data Entry'!S10 = \"I\",2,IF('Data Entry'!S10 = \"S\",1,\"\"))))","v":""},{"$f":"IF('Data Entry'!U10 = \"D\",4,IF('Data Entry'!U10 = \"C\",3,IF('Data Entry'!U10 = \"I\",2,IF('Data Entry'!U10 = \"S\",1,\"\"))))","v":""},{"$f":"IF('Data Entry'!W10 = \"D\",4,IF('Data Entry'!W10 = \"C\",3,IF('Data Entry'!W10 = \"I\",2,IF('Data Entry'!W10 = \"S\",1,\"\"))))","v":""},{"$f":"IF('Data Entry'!E55 = \"D\",4,IF('Data Entry'!E55 = \"C\",3,IF('Data Entry'!E55 = \"I\",2,IF('Data Entry'!E55 = \"S\",1,\"\"))))","v":""},{"$f":"IF('Data Entry'!G55 = \"D\",4,IF('Data Entry'!G55 = \"C\",3,IF('Data Entry'!G55 = \"I\",2,IF('Data Entry'!G55 = \"S\",1,\"\"))))","v":""},{"$f":"IF('Data Entry'!I55 = \"D\",4,IF('Data Entry'!I55 = \"C\",3,IF('Data Entry'!I55 = \"I\",2,IF('Data Entry'!I55 = \"S\",1,\"\"))))","v":""},{"$f":"IF('Data Entry'!K55 = \"D\",4,IF('Data Entry'!K55 = \"C\",3,IF('Data Entry'!K55 = \"I\",2,IF('Data Entry'!K55 = \"S\",1,\"\"))))","v":""},{"$f":"IF('Data Entry'!M55 = \"D\",4,IF('Data Entry'!M55 = \"C\",3,IF('Data Entry'!M55 = \"I\",2,IF('Data Entry'!M55 = \"S\",1,\"\"))))","v":""},{"$f":"IF('Data Entry'!O55 = \"D\",4,IF('Data Entry'!O55 = \"C\",3,IF('Data Entry'!O55 = \"I\",2,IF('Data Entry'!O55 = \"S\",1,\"\"))))","v":""},{"$f":"IF('Data Entry'!Q55 = \"D\",4,IF('Data Entry'!Q55 = \"C\",3,IF('Data Entry'!Q55 = \"I\",2,IF('Data Entry'!Q55 = \"S\",1,\"\"))))","v":""},{"$f":"IF('Data Entry'!S55 = \"D\",4,IF('Data Entry'!S55 = \"C\",3,IF('Data Entry'!S55 = \"I\",2,IF('Data Entry'!S55 = \"S\",1,\"\"))))","v":""},{"$f":"IF('Data Entry'!U55 = \"D\",4,IF('Data Entry'!U55 = \"C\",3,IF('Data Entry'!U55 = \"I\",2,IF('Data Entry'!U55 = \"S\",1,\"\"))))","v":""},{"$f":"IF('Data Entry'!W55 = \"D\",4,IF('Data Entry'!W55 = \"C\",3,IF('Data Entry'!W55 = \"I\",2,IF('Data Entry'!W55 = \"S\",1,\"\"))))","v":""},{"$f":"IF('Data Entry'!E100 = \"D\",4,IF('Data Entry'!E100 = \"C\",3,IF('Data Entry'!E100 = \"I\",2,IF('Data Entry'!E100 = \"S\",1,\"\"))))","v":""},{"$f":"IF('Data Entry'!G100 = \"D\",4,IF('Data Entry'!G100 = \"C\",3,IF('Data Entry'!G100 = \"I\",2,IF('Data Entry'!G100 = \"S\",1,\"\"))))","v":""},{"$f":"IF('Data Entry'!I100 = \"D\",4,IF('Data Entry'!I100 = \"C\",3,IF('Data Entry'!I100 = \"I\",2,IF('Data Entry'!I100 = \"S\",1,\"\"))))","v":""},{"$f":"IF('Data Entry'!K100 = \"D\",4,IF('Data Entry'!K100 = \"C\",3,IF('Data Entry'!K100 = \"I\",2,IF('Data Entry'!K100 = \"S\",1,\"\"))))","v":""},{"$f":"IF('Data Entry'!M100 = \"D\",4,IF('Data Entry'!M100 = \"C\",3,IF('Data Entry'!M100 = \"I\",2,IF('Data Entry'!M100 = \"S\",1,\"\"))))","v":""},{"$f":"IF('Data Entry'!O100 = \"D\",4,IF('Data Entry'!O100 = \"C\",3,IF('Data Entry'!O100 = \"I\",2,IF('Data Entry'!O100 = \"S\",1,\"\"))))","v":""},{"$f":"IF('Data Entry'!Q100 = \"D\",4,IF('Data Entry'!Q100 = \"C\",3,IF('Data Entry'!Q100 = \"I\",2,IF('Data Entry'!Q100 = \"S\",1,\"\"))))","v":""},{"$f":"IF('Data Entry'!S100 = \"D\",4,IF('Data Entry'!S100 = \"C\",3,IF('Data Entry'!S100 = \"I\",2,IF('Data Entry'!S100 = \"S\",1,\"\"))))","v":""},{"$f":"IF('Data Entry'!U100 = \"D\",4,IF('Data Entry'!U100 = \"C\",3,IF('Data Entry'!U100 = \"I\",2,IF('Data Entry'!U100 = \"S\",1,\"\"))))","v":""},{"$f":"IF('Data Entry'!W100 = \"D\",4,IF('Data Entry'!W100 = \"C\",3,IF('Data Entry'!W100 = \"I\",2,IF('Data Entry'!W100 = \"S\",1,\"\"))))","v":""},{"$f":"IF('Data Entry'!E145 = \"D\",4,IF('Data Entry'!E145 = \"C\",3,IF('Data Entry'!E145 = \"I\",2,IF('Data Entry'!E145 = \"S\",1,\"\"))))","v":""},{"$f":"IF('Data Entry'!G145 = \"D\",4,IF('Data Entry'!G145 = \"C\",3,IF('Data Entry'!G145 = \"I\",2,IF('Data Entry'!G145 = \"S\",1,\"\"))))","v":""},{"$f":"IF('Data Entry'!I145 = \"D\",4,IF('Data Entry'!I145 = \"C\",3,IF('Data Entry'!I145 = \"I\",2,IF('Data Entry'!I145 = \"S\",1,\"\"))))","v":""},{"$f":"IF('Data Entry'!K145 = \"D\",4,IF('Data Entry'!K145 = \"C\",3,IF('Data Entry'!K145 = \"I\",2,IF('Data Entry'!K145 = \"S\",1,\"\"))))","v":""},{"$f":"IF('Data Entry'!M145 = \"D\",4,IF('Data Entry'!M145 = \"C\",3,IF('Data Entry'!M145 = \"I\",2,IF('Data Entry'!M145 = \"S\",1,\"\"))))","v":""},{"$f":"IF('Data Entry'!O145 = \"D\",4,IF('Data Entry'!O145 = \"C\",3,IF('Data Entry'!O145 = \"I\",2,IF('Data Entry'!O145 = \"S\",1,\"\"))))","v":""},{"$f":"IF('Data Entry'!Q145 = \"D\",4,IF('Data Entry'!Q145 = \"C\",3,IF('Data Entry'!Q145 = \"I\",2,IF('Data Entry'!Q145 = \"S\",1,\"\"))))","v":""},{"$f":"IF('Data Entry'!S145 = \"D\",4,IF('Data Entry'!S145 = \"C\",3,IF('Data Entry'!S145 = \"I\",2,IF('Data Entry'!S145 = \"S\",1,\"\"))))","v":""},{"$f":"IF('Data Entry'!U145 = \"D\",4,IF('Data Entry'!U145 = \"C\",3,IF('Data Entry'!U145 = \"I\",2,IF('Data Entry'!U145 = \"S\",1,\"\"))))","v":""},{"$f":"IF('Data Entry'!W145 = \"D\",4,IF('Data Entry'!W145 = \"C\",3,IF('Data Entry'!W145 = \"I\",2,IF('Data Entry'!W145 = \"S\",1,\"\"))))","v":""},{"$f":"IF('Data Entry'!E190 = \"D\",4,IF('Data Entry'!E190 = \"C\",3,IF('Data Entry'!E190 = \"I\",2,IF('Data Entry'!E190 = \"S\",1,\"\"))))","v":""},{"$f":"IF('Data Entry'!G190 = \"D\",4,IF('Data Entry'!G190 = \"C\",3,IF('Data Entry'!G190 = \"I\",2,IF('Data Entry'!G190 = \"S\",1,\"\"))))","v":""},{"$f":"IF('Data Entry'!I190 = \"D\",4,IF('Data Entry'!I190 = \"C\",3,IF('Data Entry'!I190 = \"I\",2,IF('Data Entry'!I190 = \"S\",1,\"\"))))","v":""},{"$f":"IF('Data Entry'!K190 = \"D\",4,IF('Data Entry'!K190 = \"C\",3,IF('Data Entry'!K190 = \"I\",2,IF('Data Entry'!K190 = \"S\",1,\"\"))))","v":""},{"$f":"IF('Data Entry'!M190 = \"D\",4,IF('Data Entry'!M190 = \"C\",3,IF('Data Entry'!M190 = \"I\",2,IF('Data Entry'!M190 = \"S\",1,\"\"))))","v":""},{"$f":"IF('Data Entry'!O190 = \"D\",4,IF('Data Entry'!O190 = \"C\",3,IF('Data Entry'!O190 = \"I\",2,IF('Data Entry'!O190 = \"S\",1,\"\"))))","v":""},{"$f":"IF('Data Entry'!Q190 = \"D\",4,IF('Data Entry'!Q190 = \"C\",3,IF('Data Entry'!Q190 = \"I\",2,IF('Data Entry'!Q190 = \"S\",1,\"\"))))","v":""},{"$f":"IF('Data Entry'!S190 = \"D\",4,IF('Data Entry'!S190 = \"C\",3,IF('Data Entry'!S190 = \"I\",2,IF('Data Entry'!S190 = \"S\",1,\"\"))))","v":""},{"$f":"IF('Data Entry'!U190 = \"D\",4,IF('Data Entry'!U190 = \"C\",3,IF('Data Entry'!U190 = \"I\",2,IF('Data Entry'!U190 = \"S\",1,\"\"))))","v":""},{"$f":"IF('Data Entry'!W190 = \"D\",4,IF('Data Entry'!W190 = \"C\",3,IF('Data Entry'!W190 = \"I\",2,IF('Data Entry'!W190 = \"S\",1,\"\"))))","v":""}]
[{"$nulls":3},{"$f":"IF('Data Entry'!C11<>\"\",'Data Entry'!C11,\"\")","v":""},"","","","","","","",null,"",{"$f":"IF('Data Entry'!E11 = \"D\",4,IF('Data Entry'!E11 = \"C\",3,IF('Data Entry'!E11 = \"I\",2,IF('Data Entry'!E11 = \"S\",1,\"\"))))","v":""},{"$f":"IF('Data Entry'!G11 = \"D\",4,IF('Data Entry'!G11 = \"C\",3,IF('Data Entry'!G11 = \"I\",2,IF('Data Entry'!G11 = \"S\",1,\"\"))))","v":""},{"$f":"IF('Data Entry'!I11 = \"D\",4,IF('Data Entry'!I11 = \"C\",3,IF('Data Entry'!I11 = \"I\",2,IF('Data Entry'!I11 = \"S\",1,\"\"))))","v":""},{"$f":"IF('Data Entry'!K11 = \"D\",4,IF('Data Entry'!K11 = \"C\",3,IF('Data Entry'!K11 = \"I\",2,IF('Data Entry'!K11 = \"S\",1,\"\"))))","v":""},{"$f":"IF('Data Entry'!M11 = \"D\",4,IF('Data Entry'!M11 = \"C\",3,IF('Data Entry'!M11 = \"I\",2,IF('Data Entry'!M11 = \"S\",1,\"\"))))","v":""},{"$f":"IF('Data Entry'!O11 = \"D\",4,IF('Data Entry'!O11 = \"C\",3,IF('Data Entry'!O11 = \"I\",2,IF('Data Entry'!O11 = \"S\",1,\"\"))))","v":""},{"$f":"IF('Data Entry'!Q11 = \"D\",4,IF('Data Entry'!Q11 = \"C\",3,IF('Data Entry'!Q11 = \"I\",2,IF('Data Entry'!Q11 = \"S\",1,\"\"))))","v":""},{"$f":"IF('Data Entry'!S11 = \"D\",4,IF('Data Entry'!S11 = \"C\",3,IF('Data Entry'!S11 = \"I\",2,IF('Data Entry'!S11 = \"S\",1,\"\"))))","v":""},{"$f":"IF('Data Entry'!U11 = \"D\",4,IF('Data Entry'!U11 = \"C\",3,IF('Data Entry'!U11 = \"I\",2,IF('Data Entry'!U11 = \"S\",1,\"\"))))","v":""},{"$f":"IF('Data Entry'!W11 = \"D\",4,IF('Data Entry'!W11 = \"C\",3,IF('Data Entry'!W11 = \"I\",2,IF('Data Entry'!W11 = \"S\",1,\"\"))))","v":""},{"$f":"IF('Data Entry'!E56 = \"D\",4,IF('Data Entry'!E56 = \"C\",3,IF('Data Entry'!E56 = \"I\",2,IF('Data Entry'!E56 = \"S\",1,\"\"))))","v":""},{"$f":"IF('Data Entry'!G56 = \"D\",4,IF('Data Entry'!G56 = \"C\",3,IF('Data Entry'!G56 = \"I\",2,IF('Data Entry'!G56 = \"S\",1,\"\"))))","v":""},{"$f":"IF('Data Entry'!I56 = \"D\",4,IF('Data Entry'!I56 = \"C\",3,IF('Data Entry'!I56 = \"I\",2,IF('Data Entry'!I56 = \"S\",1,\"\"))))","v":""},{"$f":"IF('Data Entry'!K56 = \"D\",4,IF('Data Entry'!K56 = \"C\",3,IF('Data Entry'!K56 = \"I\",2,IF('Data Entry'!K56 = \"S\",1,\"\"))))","v":""},{"$f":"IF('Data Entry'!M56 = \"D\",4,IF('Data Entry'!M56 = \"C\",3,IF('Data Entry'!M56 = \"I\",2,IF('Data Entry'!M56 = \"S\",1,\"\"))))","v":""},{"$f":"IF('Data Entry'!O56 = \"D\",4,IF('Data Entry'!O56 = \"C\",3,IF('Data Entry'!O56 = \"I\",2,IF('Data Entry'!O56 = \"S\",1,\"\"))))","v":""},{"$f":"IF('Data Entry'!Q56 = \"D\",4,IF('Data Entry'!Q56 = \"C\",3,IF('Data Entry'!Q56 = \"I\",2,IF('Data Entry'!Q56 = \"S\",1,\"\"))))","v":""},{"$f":"IF('Data Entry'!S56 = \"D\",4,IF('Data Entry'!S56 = \"C\",3,IF('Data Entry'!S56 = \"I\",2,IF('Data Entry'!S56 = \"S\",1,\"\"))))","v":""},{"$f":"IF('Data Entry'!U56 = \"D\",4,IF('Data Entry'!U56 = \"C\",3,IF('Data Entry'!U56 = \"I\",2,IF('Data Entry'!U56 = \"S\",1,\"\"))))","v":""},{"$f":"IF('Data Entry'!W56 = \"D\",4,IF('Data Entry'!W56 = \"C\",3,IF('Data Entry'!W56 = \"I\",2,IF('Data Entry'!W56 = \"S\",1,\"\"))))","v":""},{"$f":"IF('Data Entry'!E101 = \"D\",4,IF('Data Entry'!E101 = \"C\",3,IF('Data Entry'!E101 = \"I\",2,IF('Data Entry'!E101 = \"S\",1,\"\"))))","v":""},{"$f":"IF('Data Entry'!G101 = \"D\",4,IF('Data Entry'!G101 = \"C\",3,IF('Data Entry'!G101 = \"I\",2,IF('Data Entry'!G101 = \"S\",1,\"\"))))","v":""},{"$f":"IF('Data Entry'!I101 = \"D\",4,IF('Data Entry'!I101 = \"C\",3,IF('Data Entry'!I101 = \"I\",2,IF('Data Entry'!I101 = \"S\",1,\"\"))))","v":""},{"$f":"IF('Data Entry'!K101 = \"D\",4,IF('Data Entry'!K101 = \"C\",3,IF('Data Entry'!K101 = \"I\",2,IF('Data Entry'!K101 = \"S\",1,\"\"))))","v":""},{"$f":"IF('Data Entry'!M101 = \"D\",4,IF('Data Entry'!M101 = \"C\",3,IF('Data Entry'!M101 = \"I\",2,IF('Data Entry'!M101 = \"S\",1,\"\"))))","v":""},{"$f":"IF('Data Entry'!O101 = \"D\",4,IF('Data Entry'!O101 = \"C\",3,IF('Data Entry'!O101 = \"I\",2,IF('Data Entry'!O101 = \"S\",1,\"\"))))","v":""},{"$f":"IF('Data Entry'!Q101 = \"D\",4,IF('Data Entry'!Q101 = \"C\",3,IF('Data Entry'!Q101 = \"I\",2,IF('Data Entry'!Q101 = \"S\",1,\"\"))))","v":""},{"$f":"IF('Data Entry'!S101 = \"D\",4,IF('Data Entry'!S101 = \"C\",3,IF('Data Entry'!S101 = \"I\",2,IF('Data Entry'!S101 = \"S\",1,\"\"))))","v":""},{"$f":"IF('Data Entry'!U101 = \"D\",4,IF('Data Entry'!U101 = \"C\",3,IF('Data Entry'!U101 = \"I\",2,IF('Data Entry'!U101 = \"S\",1,\"\"))))","v":""},{"$f":"IF('Data Entry'!W101 = \"D\",4,IF('Data Entry'!W101 = \"C\",3,IF('Data Entry'!W101 = \"I\",2,IF('Data Entry'!W101 = \"S\",1,\"\"))))","v":""},{"$f":"IF('Data Entry'!E146 = \"D\",4,IF('Data Entry'!E146 = \"C\",3,IF('Data Entry'!E146 = \"I\",2,IF('Data Entry'!E146 = \"S\",1,\"\"))))","v":""},{"$f":"IF('Data Entry'!G146 = \"D\",4,IF('Data Entry'!G146 = \"C\",3,IF('Data Entry'!G146 = \"I\",2,IF('Data Entry'!G146 = \"S\",1,\"\"))))","v":""},{"$f":"IF('Data Entry'!I146 = \"D\",4,IF('Data Entry'!I146 = \"C\",3,IF('Data Entry'!I146 = \"I\",2,IF('Data Entry'!I146 = \"S\",1,\"\"))))","v":""},{"$f":"IF('Data Entry'!K146 = \"D\",4,IF('Data Entry'!K146 = \"C\",3,IF('Data Entry'!K146 = \"I\",2,IF('Data Entry'!K146 = \"S\",1,\"\"))))","v":""},{"$f":"IF('Data Entry'!M146 = \"D\",4,IF('Data Entry'!M146 = \"C\",3,IF('Data Entry'!M146 = \"I\",2,IF('Data Entry'!M146 = \"S\",1,\"\"))))","v":""},{"$f":"IF('Data Entry'!O146 = \"D\",4,IF('Data Entry'!O146 = \"C\",3,IF('Data Entry'!O146 = \"I\",2,IF('Data Entry'!O146 = \"S\",1,\"\"))))","v":""},{"$f":"IF('Data Entry'!Q146 = \"D\",4,IF('Data Entry'!Q146 = \"C\",3,IF('Data Entry'!Q146 = \"I\",2,IF('Data Entry'!Q146 = \"S\",1,\"\"))))","v":""},{"$f":"IF('Data Entry'!S146 = \"D\",4,IF('Data Entry'!S146 = \"C\",3,IF('Data Entry'!S146 = \"I\",2,IF('Data Entry'!S146 = \"S\",1,\"\"))))","v":""},{"$f":"IF('Data Entry'!U146 = \"D\",4,IF('Data Entry'!U146 = \"C\",3,IF('Data Entry'!U146 = \"I\",2,IF('Data Entry'!U146 = \"S\",1,\"\"))))","v":""},{"$f":"IF('Data Entry'!W146 = \"D\",4,IF('Data Entry'!W146 = \"C\",3,IF('Data Entry'!W146 = \"I\",2,IF('Data Entry'!W146 = \"S\",1,\"\"))))","v":""},{"$f":"IF('Data Entry'!E191 = \"D\",4,IF('Data Entry'!E191 = \"C\",3,IF('Data Entry'!E191 = \"I\",2,IF('Data Entry'!E191 = \"S\",1,\"\"))))","v":""},{"$f":"IF('Data Entry'!G191 = \"D\",4,IF('Data Entry'!G191 = \"C\",3,IF('Data Entry'!G191 = \"I\",2,IF('Data Entry'!G191 = \"S\",1,\"\"))))","v":""},{"$f":"IF('Data Entry'!I191 = \"D\",4,IF('Data Entry'!I191 = \"C\",3,IF('Data Entry'!I191 = \"I\",2,IF('Data Entry'!I191 = \"S\",1,\"\"))))","v":""},{"$f":"IF('Data Entry'!K191 = \"D\",4,IF('Data Entry'!K191 = \"C\",3,IF('Data Entry'!K191 = \"I\",2,IF('Data Entry'!K191 = \"S\",1,\"\"))))","v":""},{"$f":"IF('Data Entry'!M191 = \"D\",4,IF('Data Entry'!M191 = \"C\",3,IF('Data Entry'!M191 = \"I\",2,IF('Data Entry'!M191 = \"S\",1,\"\"))))","v":""},{"$f":"IF('Data Entry'!O191 = \"D\",4,IF('Data Entry'!O191 = \"C\",3,IF('Data Entry'!O191 = \"I\",2,IF('Data Entry'!O191 = \"S\",1,\"\"))))","v":""},{"$f":"IF('Data Entry'!Q191 = \"D\",4,IF('Data Entry'!Q191 = \"C\",3,IF('Data Entry'!Q191 = \"I\",2,IF('Data Entry'!Q191 = \"S\",1,\"\"))))","v":""},{"$f":"IF('Data Entry'!S191 = \"D\",4,IF('Data Entry'!S191 = \"C\",3,IF('Data Entry'!S191 = \"I\",2,IF('Data Entry'!S191 = \"S\",1,\"\"))))","v":""},{"$f":"IF('Data Entry'!U191 = \"D\",4,IF('Data Entry'!U191 = \"C\",3,IF('Data Entry'!U191 = \"I\",2,IF('Data Entry'!U191 = \"S\",1,\"\"))))","v":""},{"$f":"IF('Data Entry'!W191 = \"D\",4,IF('Data Entry'!W191 = \"C\",3,IF('Data Entry'!W191 = \"I\",2,IF('Data Entry'!W191 = \"S\",1,\"\"))))","v":""}]
[{"$nulls":3},{"$f":"IF('Data Entry'!C12<>\"\",'Data Entry'!C12,\"\")","v":""},"","","","","","","",null,"",{"$f":"IF('Data Entry'!E12 = \"D\",4,IF('Data Entry'!E12 = \"C\",3,IF('Data Entry'!E12 = \"I\",2,IF('Data Entry'!E12 = \"S\",1,\"\"))))","v":""},{"$f":"IF('Data Entry'!G12 = \"D\",4,IF('Data Entry'!G12 = \"C\",3,IF('Data Entry'!G12 = \"I\",2,IF('Data Entry'!G12 = \"S\",1,\"\"))))","v":""},{"$f":"IF('Data Entry'!I12 = \"D\",4,IF('Data Entry'!I12 = \"C\",3,IF('Data Entry'!I12 = \"I\",2,IF('Data Entry'!I12 = \"S\",1,\"\"))))","v":""},{"$f":"IF('Data Entry'!K12 = \"D\",4,IF('Data Entry'!K12 = \"C\",3,IF('Data Entry'!K12 = \"I\",2,IF('Data Entry'!K12 = \"S\",1,\"\"))))","v":""},{"$f":"IF('Data Entry'!M12 = \"D\",4,IF('Data Entry'!M12 = \"C\",3,IF('Data Entry'!M12 = \"I\",2,IF('Data Entry'!M12 = \"S\",1,\"\"))))","v":""},{"$f":"IF('Data Entry'!O12 = \"D\",4,IF('Data Entry'!O12 = \"C\",3,IF('Data Entry'!O12 = \"I\",2,IF('Data Entry'!O12 = \"S\",1,\"\"))))","v":""},{"$f":"IF('Data Entry'!Q12 = \"D\",4,IF('Data Entry'!Q12 = \"C\",3,IF('Data Entry'!Q12 = \"I\",2,IF('Data Entry'!Q12 = \"S\",1,\"\"))))","v":""},{"$f":"IF('Data Entry'!S12 = \"D\",4,IF('Data Entry'!S12 = \"C\",3,IF('Data Entry'!S12 = \"I\",2,IF('Data Entry'!S12 = \"S\",1,\"\"))))","v":""},{"$f":"IF('Data Entry'!U12 = \"D\",4,IF('Data Entry'!U12 = \"C\",3,IF('Data Entry'!U12 = \"I\",2,IF('Data Entry'!U12 = \"S\",1,\"\"))))","v":""},{"$f":"IF('Data Entry'!W12 = \"D\",4,IF('Data Entry'!W12 = \"C\",3,IF('Data Entry'!W12 = \"I\",2,IF('Data Entry'!W12 = \"S\",1,\"\"))))","v":""},{"$f":"IF('Data Entry'!E57 = \"D\",4,IF('Data Entry'!E57 = \"C\",3,IF('Data Entry'!E57 = \"I\",2,IF('Data Entry'!E57 = \"S\",1,\"\"))))","v":""},{"$f":"IF('Data Entry'!G57 = \"D\",4,IF('Data Entry'!G57 = \"C\",3,IF('Data Entry'!G57 = \"I\",2,IF('Data Entry'!G57 = \"S\",1,\"\"))))","v":""},{"$f":"IF('Data Entry'!I57 = \"D\",4,IF('Data Entry'!I57 = \"C\",3,IF('Data Entry'!I57 = \"I\",2,IF('Data Entry'!I57 = \"S\",1,\"\"))))","v":""},{"$f":"IF('Data Entry'!K57 = \"D\",4,IF('Data Entry'!K57 = \"C\",3,IF('Data Entry'!K57 = \"I\",2,IF('Data Entry'!K57 = \"S\",1,\"\"))))","v":""},{"$f":"IF('Data Entry'!M57 = \"D\",4,IF('Data Entry'!M57 = \"C\",3,IF('Data Entry'!M57 = \"I\",2,IF('Data Entry'!M57 = \"S\",1,\"\"))))","v":""},{"$f":"IF('Data Entry'!O57 = \"D\",4,IF('Data Entry'!O57 = \"C\",3,IF('Data Entry'!O57 = \"I\",2,IF('Data Entry'!O57 = \"S\",1,\"\"))))","v":""},{"$f":"IF('Data Entry'!Q57 = \"D\",4,IF('Data Entry'!Q57 = \"C\",3,IF('Data Entry'!Q57 = \"I\",2,IF('Data Entry'!Q57 = \"S\",1,\"\"))))","v":""},{"$f":"IF('Data Entry'!S57 = \"D\",4,IF('Data Entry'!S57 = \"C\",3,IF('Data Entry'!S57 = \"I\",2,IF('Data Entry'!S57 = \"S\",1,\"\"))))","v":""},{"$f":"IF('Data Entry'!U57 = \"D\",4,IF('Data Entry'!U57 = \"C\",3,IF('Data Entry'!U57 = \"I\",2,IF('Data Entry'!U57 = \"S\",1,\"\"))))","v":""},{"$f":"IF('Data Entry'!W57 = \"D\",4,IF('Data Entry'!W57 = \"C\",3,IF('Data Entry'!W57 = \"I\",2,IF('Data Entry'!W57 = \"S\",1,\"\"))))","v":""},{"$f":"IF('Data Entry'!E102 = \"D\",4,IF('Data Entry'!E102 = \"C\",3,IF('Data Entry'!E102 = \"I\",2,IF('Data Entry'!E102 = \"S\",1,\"\"))))","v":""},{"$f":"IF('Data Entry'!G102 = \"D\",4,IF('Data Entry'!G102 = \"C\",3,IF('Data Entry'!G102 = \"I\",2,IF('Data Entry'!G102 = \"S\",1,\"\"))))","v":""},{"$f":"IF('Data Entry'!I102 = \"D\",4,IF('Data Entry'!I102 = \"C\",3,IF('Data Entry'!I102 = \"I\",2,IF('Data Entry'!I102 = \"S\",1,\"\"))))","v":""},{"$f":"IF('Data Entry'!K102 = \"D\",4,IF('Data Entry'!K102 = \"C\",3,IF('Data Entry'!K102 = \"I\",2,IF('Data Entry'!K102 = \"S\",1,\"\"))))","v":""},{"$f":"IF('Data Entry'!M102 = \"D\",4,IF('Data Entry'!M102 = \"C\",3,IF('Data Entry'!M102 = \"I\",2,IF('Data Entry'!M102 = \"S\",1,\"\"))))","v":""},{"$f":"IF('Data Entry'!O102 = \"D\",4,IF('Data Entry'!O102 = \"C\",3,IF('Data Entry'!O102 = \"I\",2,IF('Data Entry'!O102 = \"S\",1,\"\"))))","v":""},{"$f":"IF('Data Entry'!Q102 = \"D\",4,IF('Data Entry'!Q102 = \"C\",3,IF('Data Entry'!Q102 = \"I\",2,IF('Data Entry'!Q102 = \"S\",1,\"\"))))","v":""},{"$f":"IF('Data Entry'!S102 = \"D\",4,IF('Data Entry'!S102 = \"C\",3,IF('Data Entry'!S102 = \"I\",2,IF('Data Entry'!S102 = \"S\",1,\"\"))))","v":""},{"$f":"IF('Data Entry'!U102 = \"D\",4,IF('Data Entry'!U102 = \"C\",3,IF('Data Entry'!U102 = \"I\",2,IF('Data Entry'!U102 = \"S\",1,\"\"))))","v":""},{"$f":"IF('Data Entry'!W102 = \"D\",4,IF('Data Entry'!W102 = \"C\",3,IF('Data Entry'!W102 = \"I\",2,IF('Data Entry'!W102 = \"S\",1,\"\"))))","v":""},{"$f":"IF('Data Entry'!E147 = \"D\",4,IF('Data Entry'!E147 = \"C\",3,IF('Data Entry'!E147 = \"I\",2,IF('Data Entry'!E147 = \"S\",1,\"\"))))","v":""},{"$f":"IF('Data Entry'!G147 = \"D\",4,IF('Data Entry'!G147 = \"C\",3,IF('Data Entry'!G147 = \"I\",2,IF('Data Entry'!G147 = \"S\",1,\"\"))))","v":""},{"$f":"IF('Data Entry'!I147 = \"D\",4,IF('Data Entry'!I147 = \"C\",3,IF('Data Entry'!I147 = \"I\",2,IF('Data Entry'!I147 = \"S\",1,\"\"))))","v":""},{"$f":"IF('Data Entry'!K147 = \"D\",4,IF('Data Entry'!K147 = \"C\",3,IF('Data Entry'!K147 = \"I\",2,IF('Data Entry'!K147 = \"S\",1,\"\"))))","v":""},{"$f":"IF('Data Entry'!M147 = \"D\",4,IF('Data Entry'!M147 = \"C\",3,IF('Data Entry'!M147 = \"I\",2,IF('Data Entry'!M147 = \"S\",1,\"\"))))","v":""},{"$f":"IF('Data Entry'!O147 = \"D\",4,IF('Data Entry'!O147 = \"C\",3,IF('Data Entry'!O147 = \"I\",2,IF('Data Entry'!O147 = \"S\",1,\"\"))))","v":""},{"$f":"IF('Data Entry'!Q147 = \"D\",4,IF('Data Entry'!Q147 = \"C\",3,IF('Data Entry'!Q147 = \"I\",2,IF('Data Entry'!Q147 = \"S\",1,\"\"))))","v":""},{"$f":"IF('Data Entry'!S147 = \"D\",4,IF('Data Entry'!S147 = \"C\",3,IF('Data Entry'!S147 = \"I\",2,IF('Data Entry'!S147 = \"S\",1,\"\"))))","v":""},{"$f":"IF('Data Entry'!U147 = \"D\",4,IF('Data Entry'!U147 = \"C\",3,IF('Data Entry'!U147 = \"I\",2,IF('Data Entry'!U147 = \"S\",1,\"\"))))","v":""},{"$f":"IF('Data Entry'!W147 = \"D\",4,IF('Data Entry'!W147 = \"C\",3,IF('Data Entry'!W147 = \"I\",2,IF('Data Entry'!W147 = \"S\",1,\"\"))))","v":""},{"$f":"IF('Data Entry'!E192 = \"D\",4,IF('Data Entry'!E192 = \"C\",3,IF('Data Entry'!E192 = \"I\",2,IF('Data Entry'!E192 = \"S\",1,\"\"))))","v":""},{"$f":"IF('Data Entry'!G192 = \"D\",4,IF('Data Entry'!G192 = \"C\",3,IF('Data Entry'!G192 = \"I\",2,IF('Data Entry'!G192 = \"S\",1,\"\"))))","v":""},{"$f":"IF('Data Entry'!I192 = \"D\",4,IF('Data Entry'!I192 = \"C\",3,IF('Data Entry'!I192 = \"I\",2,IF('Data Entry'!I192 = \"S\",1,\"\"))))","v":""},{"$f":"IF('Data Entry'!K192 = \"D\",4,IF('Data Entry'!K192 = \"C\",3,IF('Data Entry'!K192 = \"I\",2,IF('Data Entry'!K192 = \"S\",1,\"\"))))","v":""},{"$f":"IF('Data Entry'!M192 = \"D\",4,IF('Data Entry'!M192 = \"C\",3,IF('Data Entry'!M192 = \"I\",2,IF('Data Entry'!M192 = \"S\",1,\"\"))))","v":""},{"$f":"IF('Data Entry'!O192 = \"D\",4,IF('Data Entry'!O192 = \"C\",3,IF('Data Entry'!O192 = \"I\",2,IF('Data Entry'!O192 = \"S\",1,\"\"))))","v":""},{"$f":"IF('Data Entry'!Q192 = \"D\",4,IF('Data Entry'!Q192 = \"C\",3,IF('Data Entry'!Q192 = \"I\",2,IF('Data Entry'!Q192 = \"S\",1,\"\"))))","v":""},{"$f":"IF('Data Entry'!S192 = \"D\",4,IF('Data Entry'!S192 = \"C\",3,IF('Data Entry'!S192 = \"I\",2,IF('Data Entry'!S192 = \"S\",1,\"\"))))","v":""},{"$f":"IF('Data Entry'!U192 = \"D\",4,IF('Data Entry'!U192 = \"C\",3,IF('Data Entry'!U192 = \"I\",2,IF('Data Entry'!U192 = \"S\",1,\"\"))))","v":""},{"$f":"IF('Data Entry'!W192 = \"D\",4,IF('Data Entry'!W192 = \"C\",3,IF('Data Entry'!W192 = \"I\",2,IF('Data Entry'!W192 = \"S\",1,\"\"))))","v":""}]
[{"$nulls":3},{"$f":"IF('Data Entry'!C13<>\"\",'Data Entry'!C13,\"\")","v":""},"","","","","","","",null,"",{"$f":"IF('Data Entry'!E13 = \"D\",4,IF('Data Entry'!E13 = \"C\",3,IF('Data Entry'!E13 = \"I\",2,IF('Data Entry'!E13 = \"S\",1,\"\"))))","v":""},{"$f":"IF('Data Entry'!G13 = \"D\",4,IF('Data Entry'!G13 = \"C\",3,IF('Data Entry'!G13 = \"I\",2,IF('Data Entry'!G13 = \"S\",1,\"\"))))","v":""},{"$f":"IF('Data Entry'!I13 = \"D\",4,IF('Data Entry'!I13 = \"C\",3,IF('Data Entry'!I13 = \"I\",2,IF('Data Entry'!I13 = \"S\",1,\"\"))))","v":""},{"$f":"IF('Data Entry'!K13 = \"D\",4,IF('Data Entry'!K13 = \"C\",3,IF('Data Entry'!K13 = \"I\",2,IF('Data Entry'!K13 = \"S\",1,\"\"))))","v":""},{"$f":"IF('Data Entry'!M13 = \"D\",4,IF('Data Entry'!M13 = \"C\",3,IF('Data Entry'!M13 = \"I\",2,IF('Data Entry'!M13 = \"S\",1,\"\"))))","v":""},{"$f":"IF('Data Entry'!O13 = \"D\",4,IF('Data Entry'!O13 = \"C\",3,IF('Data Entry'!O13 = \"I\",2,IF('Data Entry'!O13 = \"S\",1,\"\"))))","v":""},{"$f":"IF('Data Entry'!Q13 = \"D\",4,IF('Data Entry'!Q13 = \"C\",3,IF('Data Entry'!Q13 = \"I\",2,IF('Data Entry'!Q13 = \"S\",1,\"\"))))","v":""},{"$f":"IF('Data Entry'!S13 = \"D\",4,IF('Data Entry'!S13 = \"C\",3,IF('Data Entry'!S13 = \"I\",2,IF('Data Entry'!S13 = \"S\",1,\"\"))))","v":""},{"$f":"IF('Data Entry'!U13 = \"D\",4,IF('Data Entry'!U13 = \"C\",3,IF('Data Entry'!U13 = \"I\",2,IF('Data Entry'!U13 = \"S\",1,\"\"))))","v":""},{"$f":"IF('Data Entry'!W13 = \"D\",4,IF('Data Entry'!W13 = \"C\",3,IF('Data Entry'!W13 = \"I\",2,IF('Data Entry'!W13 = \"S\",1,\"\"))))","v":""},{"$f":"IF('Data Entry'!E58 = \"D\",4,IF('Data Entry'!E58 = \"C\",3,IF('Data Entry'!E58 = \"I\",2,IF('Data Entry'!E58 = \"S\",1,\"\"))))","v":""},{"$f":"IF('Data Entry'!G58 = \"D\",4,IF('Data Entry'!G58 = \"C\",3,IF('Data Entry'!G58 = \"I\",2,IF('Data Entry'!G58 = \"S\",1,\"\"))))","v":""},{"$f":"IF('Data Entry'!I58 = \"D\",4,IF('Data Entry'!I58 = \"C\",3,IF('Data Entry'!I58 = \"I\",2,IF('Data Entry'!I58 = \"S\",1,\"\"))))","v":""},{"$f":"IF('Data Entry'!K58 = \"D\",4,IF('Data Entry'!K58 = \"C\",3,IF('Data Entry'!K58 = \"I\",2,IF('Data Entry'!K58 = \"S\",1,\"\"))))","v":""},{"$f":"IF('Data Entry'!M58 = \"D\",4,IF('Data Entry'!M58 = \"C\",3,IF('Data Entry'!M58 = \"I\",2,IF('Data Entry'!M58 = \"S\",1,\"\"))))","v":""},{"$f":"IF('Data Entry'!O58 = \"D\",4,IF('Data Entry'!O58 = \"C\",3,IF('Data Entry'!O58 = \"I\",2,IF('Data Entry'!O58 = \"S\",1,\"\"))))","v":""},{"$f":"IF('Data Entry'!Q58 = \"D\",4,IF('Data Entry'!Q58 = \"C\",3,IF('Data Entry'!Q58 = \"I\",2,IF('Data Entry'!Q58 = \"S\",1,\"\"))))","v":""},{"$f":"IF('Data Entry'!S58 = \"D\",4,IF('Data Entry'!S58 = \"C\",3,IF('Data Entry'!S58 = \"I\",2,IF('Data Entry'!S58 = \"S\",1,\"\"))))","v":""},{"$f":"IF('Data Entry'!U58 = \"D\",4,IF('Data Entry'!U58 = \"C\",3,IF('Data Entry'!U58 = \"I\",2,IF('Data Entry'!U58 = \"S\",1,\"\"))))","v":""},{"$f":"IF('Data Entry'!W58 = \"D\",4,IF('Data Entry'!W58 = \"C\",3,IF('Data Entry'!W58 = \"I\",2,IF('Data Entry'!W58 = \"S\",1,\"\"))))","v":""},{"$f":"IF('Data Entry'!E103 = \"D\",4,IF('Data Entry'!E103 = \"C\",3,IF('Data Entry'!E103 = \"I\",2,IF('Data Entry'!E103 = \"S\",1,\"\"))))","v":""},{"$f":"IF('Data Entry'!G103 = \"D\",4,IF('Data Entry'!G103 = \"C\",3,IF('Data Entry'!G103 = \"I\",2,IF('Data Entry'!G103 = \"S\",1,\"\"))))","v":""},{"$f":"IF('Data Entry'!I103 = \"D\",4,IF('Data Entry'!I103 = \"C\",3,IF('Data Entry'!I103 = \"I\",2,IF('Data Entry'!I103 = \"S\",1,\"\"))))","v":""},{"$f":"IF('Data Entry'!K103 = \"D\",4,IF('Data Entry'!K103 = \"C\",3,IF('Data Entry'!K103 = \"I\",2,IF('Data Entry'!K103 = \"S\",1,\"\"))))","v":""},{"$f":"IF('Data Entry'!M103 = \"D\",4,IF('Data Entry'!M103 = \"C\",3,IF('Data Entry'!M103 = \"I\",2,IF('Data Entry'!M103 = \"S\",1,\"\"))))","v":""},{"$f":"IF('Data Entry'!O103 = \"D\",4,IF('Data Entry'!O103 = \"C\",3,IF('Data Entry'!O103 = \"I\",2,IF('Data Entry'!O103 = \"S\",1,\"\"))))","v":""},{"$f":"IF('Data Entry'!Q103 = \"D\",4,IF('Data Entry'!Q103 = \"C\",3,IF('Data Entry'!Q103 = \"I\",2,IF('Data Entry'!Q103 = \"S\",1,\"\"))))","v":""},{"$f":"IF('Data Entry'!S103 = \"D\",4,IF('Data Entry'!S103 = \"C\",3,IF('Data Entry'!S103 = \"I\",2,IF('Data Entry'!S103 = \"S\",1,\"\"))))","v":""},{"$f":"IF('Data Entry'!U103 = \"D\",4,IF('Data Entry'!U103 = \"C\",3,IF('Data Entry'!U103 = \"I\",2,IF('Data Entry'!U103 = \"S\",1,\"\"))))","v":""},{"$f":"IF('Data Entry'!W103 = \"D\",4,IF('Data Entry'!W103 = \"C\",3,IF('Data Entry'!W103 = \"I\",2,IF('Data Entry'!W103 = \"S\",1,\"\"))))","v":""},{"$f":"IF('Data Entry'!E148 = \"D\",4,IF('Data Entry'!E148 = \"C\",3,IF('Data Entry'!E148 = \"I\",2,IF('Data Entry'!E148 = \"S\",1,\"\"))))","v":""},{"$f":"IF('Data Entry'!G148 = \"D\",4,IF('Data Entry'!G148 = \"C\",3,IF('Data Entry'!G148 = \"I\",2,IF('Data Entry'!G148 = \"S\",1,\"\"))))","v":""},{"$f":"IF('Data Entry'!I148 = \"D\",4,IF('Data Entry'!I148 = \"C\",3,IF('Data Entry'!I148 = \"I\",2,IF('Data Entry'!I148 = \"S\",1,\"\"))))","v":""},{"$f":"IF('Data Entry'!K148 = \"D\",4,IF('Data Entry'!K148 = \"C\",3,IF('Data Entry'!K148 = \"I\",2,IF('Data Entry'!K148 = \"S\",1,\"\"))))","v":""},{"$f":"IF('Data Entry'!M148 = \"D\",4,IF('Data Entry'!M148 = \"C\",3,IF('Data Entry'!M148 = \"I\",2,IF('Data Entry'!M148 = \"S\",1,\"\"))))","v":""},{"$f":"IF('Data Entry'!O148 = \"D\",4,IF('Data Entry'!O148 = \"C\",3,IF('Data Entry'!O148 = \"I\",2,IF('Data Entry'!O148 = \"S\",1,\"\"))))","v":""},{"$f":"IF('Data Entry'!Q148 = \"D\",4,IF('Data Entry'!Q148 = \"C\",3,IF('Data Entry'!Q148 = \"I\",2,IF('Data Entry'!Q148 = \"S\",1,\"\"))))","v":""},{"$f":"IF('Data Entry'!S148 = \"D\",4,IF('Data Entry'!S148 = \"C\",3,IF('Data Entry'!S148 = \"I\",2,IF('Data Entry'!S148 = \"S\",1,\"\"))))","v":""},{"$f":"IF('Data Entry'!U148 = \"D\",4,IF('Data Entry'!U148 = \"C\",3,IF('Data Entry'!U148 = \"I\",2,IF('Data Entry'!U148 = \"S\",1,\"\"))))","v":""},{"$f":"IF('Data Entry'!W148 = \"D\",4,IF('Data Entry'!W148 = \"C\",3,IF('Data Entry'!W148 = \"I\",2,IF('Data Entry'!W148 = \"S\",1,\"\"))))","v":""},{"$f":"IF('Data Entry'!E193 = \"D\",4,IF('Data Entry'!E193 = \"C\",3,IF('Data Entry'!E193 = \"I\",2,IF('Data Entry'!E193 = \"S\",1,\"\"))))","v":""},{"$f":"IF('Data Entry'!G193 = \"D\",4,IF('Data Entry'!G193 = \"C\",3,IF('Data Entry'!G193 = \"I\",2,IF('Data Entry'!G193 = \"S\",1,\"\"))))","v":""},{"$f":"IF('Data Entry'!I193 = \"D\",4,IF('Data Entry'!I193 = \"C\",3,IF('Data Entry'!I193 = \"I\",2,IF('Data Entry'!I193 = \"S\",1,\"\"))))","v":""},{"$f":"IF('Data Entry'!K193 = \"D\",4,IF('Data Entry'!K193 = \"C\",3,IF('Data Entry'!K193 = \"I\",2,IF('Data Entry'!K193 = \"S\",1,\"\"))))","v":""},{"$f":"IF('Data Entry'!M193 = \"D\",4,IF('Data Entry'!M193 = \"C\",3,IF('Data Entry'!M193 = \"I\",2,IF('Data Entry'!M193 = \"S\",1,\"\"))))","v":""},{"$f":"IF('Data Entry'!O193 = \"D\",4,IF('Data Entry'!O193 = \"C\",3,IF('Data Entry'!O193 = \"I\",2,IF('Data Entry'!O193 = \"S\",1,\"\"))))","v":""},{"$f":"IF('Data Entry'!Q193 = \"D\",4,IF('Data Entry'!Q193 = \"C\",3,IF('Data Entry'!Q193 = \"I\",2,IF('Data Entry'!Q193 = \"S\",1,\"\"))))","v":""},{"$f":"IF('Data Entry'!S193 = \"D\",4,IF('Data Entry'!S193 = \"C\",3,IF('Data Entry'!S193 = \"I\",2,IF('Data Entry'!S193 = \"S\",1,\"\"))))","v":""},{"$f":"IF('Data Entry'!U193 = \"D\",4,IF('Data Entry'!U193 = \"C\",3,IF('Data Entry'!U193 = \"I\",2,IF('Data Entry'!U193 = \"S\",1,\"\"))))","v":""},{"$f":"IF('Data Entry'!W193 = \"D\",4,IF('Data Entry'!W193 = \"C\",3,IF('Data Entry'!W193 = \"I\",2,IF('Data Entry'!W193 = \"S\",1,\"\"))))","v":""}]
[{"$nulls":3},{"$f":"IF('Data Entry'!C14<>\"\",'Data Entry'!C14,\"\")","v":""},"","","","","","","",null,"",{"$f":"IF('Data Entry'!E14 = \"D\",4,IF('Data Entry'!E14 = \"C\",3,IF('Data Entry'!E14 = \"I\",2,IF('Data Entry'!E14 = \"S\",1,\"\"))))","v":""},{"$f":"IF('Data Entry'!G14 = \"D\",4,IF('Data Entry'!G14 = \"C\",3,IF('Data Entry'!G14 = \"I\",2,IF('Data Entry'!G14 = \"S\",1,\"\"))))","v":""},{"$f":"IF('Data Entry'!I14 = \"D\",4,IF('Data Entry'!I14 = \"C\",3,IF('Data Entry'!I14 = \"I\",2,IF('Data Entry'!I14 = \"S\",1,\"\"))))","v":""},{"$f":"IF('Data Entry'!K14 = \"D\",4,IF('Data Entry'!K14 = \"C\",3,IF('Data Entry'!K14 = \"I\",2,IF('Data Entry'!K14 = \"S\",1,\"\"))))","v":""},{"$f":"IF('Data Entry'!M14 = \"D\",4,IF('Data Entry'!M14 = \"C\",3,IF('Data Entry'!M14 = \"I\",2,IF('Data Entry'!M14 = \"S\",1,\"\"))))","v":""},{"$f":"IF('Data Entry'!O14 = \"D\",4,IF('Data Entry'!O14 = \"C\",3,IF('Data Entry'!O14 = \"I\",2,IF('Data Entry'!O14 = \"S\",1,\"\"))))","v":""},{"$f":"IF('Data Entry'!Q14 = \"D\",4,IF('Data Entry'!Q14 = \"C\",3,IF('Data Entry'!Q14 = \"I\",2,IF('Data Entry'!Q14 = \"S\",1,\"\"))))","v":""},{"$f":"IF('Data Entry'!S14 = \"D\",4,IF('Data Entry'!S14 = \"C\",3,IF('Data Entry'!S14 = \"I\",2,IF('Data Entry'!S14 = \"S\",1,\"\"))))","v":""},{"$f":"IF('Data Entry'!U14 = \"D\",4,IF('Data Entry'!U14 = \"C\",3,IF('Data Entry'!U14 = \"I\",2,IF('Data Entry'!U14 = \"S\",1,\"\"))))","v":""},{"$f":"IF('Data Entry'!W14 = \"D\",4,IF('Data Entry'!W14 = \"C\",3,IF('Data Entry'!W14 = \"I\",2,IF('Data Entry'!W14 = \"S\",1,\"\"))))","v":""},{"$f":"IF('Data Entry'!E59 = \"D\",4,IF('Data Entry'!E59 = \"C\",3,IF('Data Entry'!E59 = \"I\",2,IF('Data Entry'!E59 = \"S\",1,\"\"))))","v":""},{"$f":"IF('Data Entry'!G59 = \"D\",4,IF('Data Entry'!G59 = \"C\",3,IF('Data Entry'!G59 = \"I\",2,IF('Data Entry'!G59 = \"S\",1,\"\"))))","v":""},{"$f":"IF('Data Entry'!I59 = \"D\",4,IF('Data Entry'!I59 = \"C\",3,IF('Data Entry'!I59 = \"I\",2,IF('Data Entry'!I59 = \"S\",1,\"\"))))","v":""},{"$f":"IF('Data Entry'!K59 = \"D\",4,IF('Data Entry'!K59 = \"C\",3,IF('Data Entry'!K59 = \"I\",2,IF('Data Entry'!K59 = \"S\",1,\"\"))))","v":""},{"$f":"IF('Data Entry'!M59 = \"D\",4,IF('Data Entry'!M59 = \"C\",3,IF('Data Entry'!M59 = \"I\",2,IF('Data Entry'!M59 = \"S\",1,\"\"))))","v":""},{"$f":"IF('Data Entry'!O59 = \"D\",4,IF('Data Entry'!O59 = \"C\",3,IF('Data Entry'!O59 = \"I\",2,IF('Data Entry'!O59 = \"S\",1,\"\"))))","v":""},{"$f":"IF('Data Entry'!Q59 = \"D\",4,IF('Data Entry'!Q59 = \"C\",3,IF('Data Entry'!Q59 = \"I\",2,IF('Data Entry'!Q59 = \"S\",1,\"\"))))","v":""},{"$f":"IF('Data Entry'!S59 = \"D\",4,IF('Data Entry'!S59 = \"C\",3,IF('Data Entry'!S59 = \"I\",2,IF('Data Entry'!S59 = \"S\",1,\"\"))))","v":""},{"$f":"IF('Data Entry'!U59 = \"D\",4,IF('Data Entry'!U59 = \"C\",3,IF('Data Entry'!U59 = \"I\",2,IF('Data Entry'!U59 = \"S\",1,\"\"))))","v":""},{"$f":"IF('Data Entry'!W59 = \"D\",4,IF('Data Entry'!W59 = \"C\",3,IF('Data Entry'!W59 = \"I\",2,IF('Data Entry'!W59 = \"S\",1,\"\"))))","v":""},{"$f":"IF('Data Entry'!E104 = \"D\",4,IF('Data Entry'!E104 = \"C\",3,IF('Data Entry'!E104 = \"I\",2,IF('Data Entry'!E104 = \"S\",1,\"\"))))","v":""},{"$f":"IF('Data Entry'!G104 = \"D\",4,IF('Data Entry'!G104 = \"C\",3,IF('Data Entry'!G104 = \"I\",2,IF('Data Entry'!G104 = \"S\",1,\"\"))))","v":""},{"$f":"IF('Data Entry'!I104 = \"D\",4,IF('Data Entry'!I104 = \"C\",3,IF('Data Entry'!I104 = \"I\",2,IF('Data Entry'!I104 = \"S\",1,\"\"))))","v":""},{"$f":"IF('Data Entry'!K104 = \"D\",4,IF('Data Entry'!K104 = \"C\",3,IF('Data Entry'!K104 = \"I\",2,IF('Data Entry'!K104 = \"S\",1,\"\"))))","v":""},{"$f":"IF('Data Entry'!M104 = \"D\",4,IF('Data Entry'!M104 = \"C\",3,IF('Data Entry'!M104 = \"I\",2,IF('Data Entry'!M104 = \"S\",1,\"\"))))","v":""},{"$f":"IF('Data Entry'!O104 = \"D\",4,IF('Data Entry'!O104 = \"C\",3,IF('Data Entry'!O104 = \"I\",2,IF('Data Entry'!O104 = \"S\",1,\"\"))))","v":""},{"$f":"IF('Data Entry'!Q104 = \"D\",4,IF('Data Entry'!Q104 = \"C\",3,IF('Data Entry'!Q104 = \"I\",2,IF('Data Entry'!Q104 = \"S\",1,\"\"))))","v":""},{"$f":"IF('Data Entry'!S104 = \"D\",4,IF('Data Entry'!S104 = \"C\",3,IF('Data Entry'!S104 = \"I\",2,IF('Data Entry'!S104 = \"S\",1,\"\"))))","v":""},{"$f":"IF('Data Entry'!U104 = \"D\",4,IF('Data Entry'!U104 = \"C\",3,IF('Data Entry'!U104 = \"I\",2,IF('Data Entry'!U104 = \"S\",1,\"\"))))","v":""},{"$f":"IF('Data Entry'!W104 = \"D\",4,IF('Data Entry'!W104 = \"C\",3,IF('Data Entry'!W104 = \"I\",2,IF('Data Entry'!W104 = \"S\",1,\"\"))))","v":""},{"$f":"IF('Data Entry'!E149 = \"D\",4,IF('Data Entry'!E149 = \"C\",3,IF('Data Entry'!E149 = \"I\",2,IF('Data Entry'!E149 = \"S\",1,\"\"))))","v":""},{"$f":"IF('Data Entry'!G149 = \"D\",4,IF('Data Entry'!G149 = \"C\",3,IF('Data Entry'!G149 = \"I\",2,IF('Data Entry'!G149 = \"S\",1,\"\"))))","v":""},{"$f":"IF('Data Entry'!I149 = \"D\",4,IF('Data Entry'!I149 = \"C\",3,IF('Data Entry'!I149 = \"I\",2,IF('Data Entry'!I149 = \"S\",1,\"\"))))","v":""},{"$f":"IF('Data Entry'!K149 = \"D\",4,IF('Data Entry'!K149 = \"C\",3,IF('Data Entry'!K149 = \"I\",2,IF('Data Entry'!K149 = \"S\",1,\"\"))))","v":""},{"$f":"IF('Data Entry'!M149 = \"D\",4,IF('Data Entry'!M149 = \"C\",3,IF('Data Entry'!M149 = \"I\",2,IF('Data Entry'!M149 = \"S\",1,\"\"))))","v":""},{"$f":"IF('Data Entry'!O149 = \"D\",4,IF('Data Entry'!O149 = \"C\",3,IF('Data Entry'!O149 = \"I\",2,IF('Data Entry'!O149 = \"S\",1,\"\"))))","v":""},{"$f":"IF('Data Entry'!Q149 = \"D\",4,IF('Data Entry'!Q149 = \"C\",3,IF('Data Entry'!Q149 = \"I\",2,IF('Data Entry'!Q149 = \"S\",1,\"\"))))","v":""},{"$f":"IF('Data Entry'!S149 = \"D\",4,IF('Data Entry'!S149 = \"C\",3,IF('Data Entry'!S149 = \"I\",2,IF('Data Entry'!S149 = \"S\",1,\"\"))))","v":""},{"$f":"IF('Data Entry'!U149 = \"D\",4,IF('Data Entry'!U149 = \"C\",3,IF('Data Entry'!U149 = \"I\",2,IF('Data Entry'!U149 = \"S\",1,\"\"))))","v":""},{"$f":"IF('Data Entry'!W149 = \"D\",4,IF('Data Entry'!W149 = \"C\",3,IF('Data Entry'!W149 = \"I\",2,IF('Data Entry'!W149 = \"S\",1,\"\"))))","v":""},{"$f":"IF('Data Entry'!E194 = \"D\",4,IF('Data Entry'!E194 = \"C\",3,IF('Data Entry'!E194 = \"I\",2,IF('Data Entry'!E194 = \"S\",1,\"\"))))","v":""},{"$f":"IF('Data Entry'!G194 = \"D\",4,IF('Data Entry'!G194 = \"C\",3,IF('Data Entry'!G194 = \"I\",2,IF('Data Entry'!G194 = \"S\",1,\"\"))))","v":""},{"$f":"IF('Data Entry'!I194 = \"D\",4,IF('Data Entry'!I194 = \"C\",3,IF('Data Entry'!I194 = \"I\",2,IF('Data Entry'!I194 = \"S\",1,\"\"))))","v":""},{"$f":"IF('Data Entry'!K194 = \"D\",4,IF('Data Entry'!K194 = \"C\",3,IF('Data Entry'!K194 = \"I\",2,IF('Data Entry'!K194 = \"S\",1,\"\"))))","v":""},{"$f":"IF('Data Entry'!M194 = \"D\",4,IF('Data Entry'!M194 = \"C\",3,IF('Data Entry'!M194 = \"I\",2,IF('Data Entry'!M194 = \"S\",1,\"\"))))","v":""},{"$f":"IF('Data Entry'!O194 = \"D\",4,IF('Data Entry'!O194 = \"C\",3,IF('Data Entry'!O194 = \"I\",2,IF('Data Entry'!O194 = \"S\",1,\"\"))))","v":""},{"$f":"IF('Data Entry'!Q194 = \"D\",4,IF('Data Entry'!Q194 = \"C\",3,IF('Data Entry'!Q194 = \"I\",2,IF('Data Entry'!Q194 = \"S\",1,\"\"))))","v":""},{"$f":"IF('Data Entry'!S194 = \"D\",4,IF('Data Entry'!S194 = \"C\",3,IF('Data Entry'!S194 = \"I\",2,IF('Data Entry'!S194 = \"S\",1,\"\"))))","v":""},{"$f":"IF('Data Entry'!U194 = \"D\",4,IF('Data Entry'!U194 = \"C\",3,IF('Data Entry'!U194 = \"I\",2,IF('Data Entry'!U194 = \"S\",1,\"\"))))","v":""},{"$f":"IF('Data Entry'!W194 = \"D\",4,IF('Data Entry'!W194 = \"C\",3,IF('Data Entry'!W194 = \"I\",2,IF('Data Entry'!W194 = \"S\",1,\"\"))))","v":""}]
[{"$nulls":3},{"$f":"IF('Data Entry'!C15<>\"\",'Data Entry'!C15,\"\")","v":""},"",{"$f":"IF(COUNT(N38:BK38)>1,_xlfn.MODE.SNGL(N38:BK38),IF(COUNT(N38:BK38)=1,SUM(N38:BK38),\"\"))","v":""},"","","","","",null,"",{"$f":"IF('Data Entry'!E15 = \"D\",4,IF('Data Entry'!E15 = \"C\",3,IF('Data Entry'!E15 = \"I\",2,IF('Data Entry'!E15 = \"S\",1,\"\"))))","v":""},{"$f":"IF('Data Entry'!G15 = \"D\",4,IF('Data Entry'!G15 = \"C\",3,IF('Data Entry'!G15 = \"I\",2,IF('Data Entry'!G15 = \"S\",1,\"\"))))","v":""},{"$f":"IF('Data Entry'!I15 = \"D\",4,IF('Data Entry'!I15 = \"C\",3,IF('Data Entry'!I15 = \"I\",2,IF('Data Entry'!I15 = \"S\",1,\"\"))))","v":""},{"$f":"IF('Data Entry'!K15 = \"D\",4,IF('Data Entry'!K15 = \"C\",3,IF('Data Entry'!K15 = \"I\",2,IF('Data Entry'!K15 = \"S\",1,\"\"))))","v":""},{"$f":"IF('Data Entry'!M15 = \"D\",4,IF('Data Entry'!M15 = \"C\",3,IF('Data Entry'!M15 = \"I\",2,IF('Data Entry'!M15 = \"S\",1,\"\"))))","v":""},{"$f":"IF('Data Entry'!O15 = \"D\",4,IF('Data Entry'!O15 = \"C\",3,IF('Data Entry'!O15 = \"I\",2,IF('Data Entry'!O15 = \"S\",1,\"\"))))","v":""},{"$f":"IF('Data Entry'!Q15 = \"D\",4,IF('Data Entry'!Q15 = \"C\",3,IF('Data Entry'!Q15 = \"I\",2,IF('Data Entry'!Q15 = \"S\",1,\"\"))))","v":""},{"$f":"IF('Data Entry'!S15 = \"D\",4,IF('Data Entry'!S15 = \"C\",3,IF('Data Entry'!S15 = \"I\",2,IF('Data Entry'!S15 = \"S\",1,\"\"))))","v":""},{"$f":"IF('Data Entry'!U15 = \"D\",4,IF('Data Entry'!U15 = \"C\",3,IF('Data Entry'!U15 = \"I\",2,IF('Data Entry'!U15 = \"S\",1,\"\"))))","v":""},{"$f":"IF('Data Entry'!W15 = \"D\",4,IF('Data Entry'!W15 = \"C\",3,IF('Data Entry'!W15 = \"I\",2,IF('Data Entry'!W15 = \"S\",1,\"\"))))","v":""},{"$f":"IF('Data Entry'!E60 = \"D\",4,IF('Data Entry'!E60 = \"C\",3,IF('Data Entry'!E60 = \"I\",2,IF('Data Entry'!E60 = \"S\",1,\"\"))))","v":""},{"$f":"IF('Data Entry'!G60 = \"D\",4,IF('Data Entry'!G60 = \"C\",3,IF('Data Entry'!G60 = \"I\",2,IF('Data Entry'!G60 = \"S\",1,\"\"))))","v":""},{"$f":"IF('Data Entry'!I60 = \"D\",4,IF('Data Entry'!I60 = \"C\",3,IF('Data Entry'!I60 = \"I\",2,IF('Data Entry'!I60 = \"S\",1,\"\"))))","v":""},{"$f":"IF('Data Entry'!K60 = \"D\",4,IF('Data Entry'!K60 = \"C\",3,IF('Data Entry'!K60 = \"I\",2,IF('Data Entry'!K60 = \"S\",1,\"\"))))","v":""},{"$f":"IF('Data Entry'!M60 = \"D\",4,IF('Data Entry'!M60 = \"C\",3,IF('Data Entry'!M60 = \"I\",2,IF('Data Entry'!M60 = \"S\",1,\"\"))))","v":""},{"$f":"IF('Data Entry'!O60 = \"D\",4,IF('Data Entry'!O60 = \"C\",3,IF('Data Entry'!O60 = \"I\",2,IF('Data Entry'!O60 = \"S\",1,\"\"))))","v":""},{"$f":"IF('Data Entry'!Q60 = \"D\",4,IF('Data Entry'!Q60 = \"C\",3,IF('Data Entry'!Q60 = \"I\",2,IF('Data Entry'!Q60 = \"S\",1,\"\"))))","v":""},{"$f":"IF('Data Entry'!S60 = \"D\",4,IF('Data Entry'!S60 = \"C\",3,IF('Data Entry'!S60 = \"I\",2,IF('Data Entry'!S60 = \"S\",1,\"\"))))","v":""},{"$f":"IF('Data Entry'!U60 = \"D\",4,IF('Data Entry'!U60 = \"C\",3,IF('Data Entry'!U60 = \"I\",2,IF('Data Entry'!U60 = \"S\",1,\"\"))))","v":""},{"$f":"IF('Data Entry'!W60 = \"D\",4,IF('Data Entry'!W60 = \"C\",3,IF('Data Entry'!W60 = \"I\",2,IF('Data Entry'!W60 = \"S\",1,\"\"))))","v":""},{"$f":"IF('Data Entry'!E105 = \"D\",4,IF('Data Entry'!E105 = \"C\",3,IF('Data Entry'!E105 = \"I\",2,IF('Data Entry'!E105 = \"S\",1,\"\"))))","v":""},{"$f":"IF('Data Entry'!G105 = \"D\",4,IF('Data Entry'!G105 = \"C\",3,IF('Data Entry'!G105 = \"I\",2,IF('Data Entry'!G105 = \"S\",1,\"\"))))","v":""},{"$f":"IF('Data Entry'!I105 = \"D\",4,IF('Data Entry'!I105 = \"C\",3,IF('Data Entry'!I105 = \"I\",2,IF('Data Entry'!I105 = \"S\",1,\"\"))))","v":""},{"$f":"IF('Data Entry'!K105 = \"D\",4,IF('Data Entry'!K105 = \"C\",3,IF('Data Entry'!K105 = \"I\",2,IF('Data Entry'!K105 = \"S\",1,\"\"))))","v":""},{"$f":"IF('Data Entry'!M105 = \"D\",4,IF('Data Entry'!M105 = \"C\",3,IF('Data Entry'!M105 = \"I\",2,IF('Data Entry'!M105 = \"S\",1,\"\"))))","v":""},{"$f":"IF('Data Entry'!O105 = \"D\",4,IF('Data Entry'!O105 = \"C\",3,IF('Data Entry'!O105 = \"I\",2,IF('Data Entry'!O105 = \"S\",1,\"\"))))","v":""},{"$f":"IF('Data Entry'!Q105 = \"D\",4,IF('Data Entry'!Q105 = \"C\",3,IF('Data Entry'!Q105 = \"I\",2,IF('Data Entry'!Q105 = \"S\",1,\"\"))))","v":""},{"$f":"IF('Data Entry'!S105 = \"D\",4,IF('Data Entry'!S105 = \"C\",3,IF('Data Entry'!S105 = \"I\",2,IF('Data Entry'!S105 = \"S\",1,\"\"))))","v":""},{"$f":"IF('Data Entry'!U105 = \"D\",4,IF('Data Entry'!U105 = \"C\",3,IF('Data Entry'!U105 = \"I\",2,IF('Data Entry'!U105 = \"S\",1,\"\"))))","v":""},{"$f":"IF('Data Entry'!W105 = \"D\",4,IF('Data Entry'!W105 = \"C\",3,IF('Data Entry'!W105 = \"I\",2,IF('Data Entry'!W105 = \"S\",1,\"\"))))","v":""},{"$f":"IF('Data Entry'!E150 = \"D\",4,IF('Data Entry'!E150 = \"C\",3,IF('Data Entry'!E150 = \"I\",2,IF('Data Entry'!E150 = \"S\",1,\"\"))))","v":""},{"$f":"IF('Data Entry'!G150 = \"D\",4,IF('Data Entry'!G150 = \"C\",3,IF('Data Entry'!G150 = \"I\",2,IF('Data Entry'!G150 = \"S\",1,\"\"))))","v":""},{"$f":"IF('Data Entry'!I150 = \"D\",4,IF('Data Entry'!I150 = \"C\",3,IF('Data Entry'!I150 = \"I\",2,IF('Data Entry'!I150 = \"S\",1,\"\"))))","v":""},{"$f":"IF('Data Entry'!K150 = \"D\",4,IF('Data Entry'!K150 = \"C\",3,IF('Data Entry'!K150 = \"I\",2,IF('Data Entry'!K150 = \"S\",1,\"\"))))","v":""},{"$f":"IF('Data Entry'!M150 = \"D\",4,IF('Data Entry'!M150 = \"C\",3,IF('Data Entry'!M150 = \"I\",2,IF('Data Entry'!M150 = \"S\",1,\"\"))))","v":""},{"$f":"IF('Data Entry'!O150 = \"D\",4,IF('Data Entry'!O150 = \"C\",3,IF('Data Entry'!O150 = \"I\",2,IF('Data Entry'!O150 = \"S\",1,\"\"))))","v":""},{"$f":"IF('Data Entry'!Q150 = \"D\",4,IF('Data Entry'!Q150 = \"C\",3,IF('Data Entry'!Q150 = \"I\",2,IF('Data Entry'!Q150 = \"S\",1,\"\"))))","v":""},{"$f":"IF('Data Entry'!S150 = \"D\",4,IF('Data Entry'!S150 = \"C\",3,IF('Data Entry'!S150 = \"I\",2,IF('Data Entry'!S150 = \"S\",1,\"\"))))","v":""},{"$f":"IF('Data Entry'!U150 = \"D\",4,IF('Data Entry'!U150 = \"C\",3,IF('Data Entry'!U150 = \"I\",2,IF('Data Entry'!U150 = \"S\",1,\"\"))))","v":""},{"$f":"IF('Data Entry'!W150 = \"D\",4,IF('Data Entry'!W150 = \"C\",3,IF('Data Entry'!W150 = \"I\",2,IF('Data Entry'!W150 = \"S\",1,\"\"))))","v":""},{"$f":"IF('Data Entry'!E195 = \"D\",4,IF('Data Entry'!E195 = \"C\",3,IF('Data Entry'!E195 = \"I\",2,IF('Data Entry'!E195 = \"S\",1,\"\"))))","v":""},{"$f":"IF('Data Entry'!G195 = \"D\",4,IF('Data Entry'!G195 = \"C\",3,IF('Data Entry'!G195 = \"I\",2,IF('Data Entry'!G195 = \"S\",1,\"\"))))","v":""},{"$f":"IF('Data Entry'!I195 = \"D\",4,IF('Data Entry'!I195 = \"C\",3,IF('Data Entry'!I195 = \"I\",2,IF('Data Entry'!I195 = \"S\",1,\"\"))))","v":""},{"$f":"IF('Data Entry'!K195 = \"D\",4,IF('Data Entry'!K195 = \"C\",3,IF('Data Entry'!K195 = \"I\",2,IF('Data Entry'!K195 = \"S\",1,\"\"))))","v":""},{"$f":"IF('Data Entry'!M195 = \"D\",4,IF('Data Entry'!M195 = \"C\",3,IF('Data Entry'!M195 = \"I\",2,IF('Data Entry'!M195 = \"S\",1,\"\"))))","v":""},{"$f":"IF('Data Entry'!O195 = \"D\",4,IF('Data Entry'!O195 = \"C\",3,IF('Data Entry'!O195 = \"I\",2,IF('Data Entry'!O195 = \"S\",1,\"\"))))","v":""},{"$f":"IF('Data Entry'!Q195 = \"D\",4,IF('Data Entry'!Q195 = \"C\",3,IF('Data Entry'!Q195 = \"I\",2,IF('Data Entry'!Q195 = \"S\",1,\"\"))))","v":""},{"$f":"IF('Data Entry'!S195 = \"D\",4,IF('Data Entry'!S195 = \"C\",3,IF('Data Entry'!S195 = \"I\",2,IF('Data Entry'!S195 = \"S\",1,\"\"))))","v":""},{"$f":"IF('Data Entry'!U195 = \"D\",4,IF('Data Entry'!U195 = \"C\",3,IF('Data Entry'!U195 = \"I\",2,IF('Data Entry'!U195 = \"S\",1,\"\"))))","v":""},{"$f":"IF('Data Entry'!W195 = \"D\",4,IF('Data Entry'!W195 = \"C\",3,IF('Data Entry'!W195 = \"I\",2,IF('Data Entry'!W195 = \"S\",1,\"\"))))","v":""}]
[{"$nulls":3},{"$f":"IF('Data Entry'!C16<>\"\",'Data Entry'!C16,\"\")","v":""},"","","","","","","",null,"",{"$f":"IF('Data Entry'!E16 = \"D\",4,IF('Data Entry'!E16 = \"C\",3,IF('Data Entry'!E16 = \"I\",2,IF('Data Entry'!E16 = \"S\",1,\"\"))))","v":""},{"$f":"IF('Data Entry'!G16 = \"D\",4,IF('Data Entry'!G16 = \"C\",3,IF('Data Entry'!G16 = \"I\",2,IF('Data Entry'!G16 = \"S\",1,\"\"))))","v":""},{"$f":"IF('Data Entry'!I16 = \"D\",4,IF('Data Entry'!I16 = \"C\",3,IF('Data Entry'!I16 = \"I\",2,IF('Data Entry'!I16 = \"S\",1,\"\"))))","v":""},{"$f":"IF('Data Entry'!K16 = \"D\",4,IF('Data Entry'!K16 = \"C\",3,IF('Data Entry'!K16 = \"I\",2,IF('Data Entry'!K16 = \"S\",1,\"\"))))","v":""},{"$f":"IF('Data Entry'!M16 = \"D\",4,IF('Data Entry'!M16 = \"C\",3,IF('Data Entry'!M16 = \"I\",2,IF('Data Entry'!M16 = \"S\",1,\"\"))))","v":""},{"$f":"IF('Data Entry'!O16 = \"D\",4,IF('Data Entry'!O16 = \"C\",3,IF('Data Entry'!O16 = \"I\",2,IF('Data Entry'!O16 = \"S\",1,\"\"))))","v":""},{"$f":"IF('Data Entry'!Q16 = \"D\",4,IF('Data Entry'!Q16 = \"C\",3,IF('Data Entry'!Q16 = \"I\",2,IF('Data Entry'!Q16 = \"S\",1,\"\"))))","v":""},{"$f":"IF('Data Entry'!S16 = \"D\",4,IF('Data Entry'!S16 = \"C\",3,IF('Data Entry'!S16 = \"I\",2,IF('Data Entry'!S16 = \"S\",1,\"\"))))","v":""},{"$f":"IF('Data Entry'!U16 = \"D\",4,IF('Data Entry'!U16 = \"C\",3,IF('Data Entry'!U16 = \"I\",2,IF('Data Entry'!U16 = \"S\",1,\"\"))))","v":""},{"$f":"IF('Data Entry'!W16 = \"D\",4,IF('Data Entry'!W16 = \"C\",3,IF('Data Entry'!W16 = \"I\",2,IF('Data Entry'!W16 = \"S\",1,\"\"))))","v":""},{"$f":"IF('Data Entry'!E61 = \"D\",4,IF('Data Entry'!E61 = \"C\",3,IF('Data Entry'!E61 = \"I\",2,IF('Data Entry'!E61 = \"S\",1,\"\"))))","v":""},{"$f":"IF('Data Entry'!G61 = \"D\",4,IF('Data Entry'!G61 = \"C\",3,IF('Data Entry'!G61 = \"I\",2,IF('Data Entry'!G61 = \"S\",1,\"\"))))","v":""},{"$f":"IF('Data Entry'!I61 = \"D\",4,IF('Data Entry'!I61 = \"C\",3,IF('Data Entry'!I61 = \"I\",2,IF('Data Entry'!I61 = \"S\",1,\"\"))))","v":""},{"$f":"IF('Data Entry'!K61 = \"D\",4,IF('Data Entry'!K61 = \"C\",3,IF('Data Entry'!K61 = \"I\",2,IF('Data Entry'!K61 = \"S\",1,\"\"))))","v":""},{"$f":"IF('Data Entry'!M61 = \"D\",4,IF('Data Entry'!M61 = \"C\",3,IF('Data Entry'!M61 = \"I\",2,IF('Data Entry'!M61 = \"S\",1,\"\"))))","v":""},{"$f":"IF('Data Entry'!O61 = \"D\",4,IF('Data Entry'!O61 = \"C\",3,IF('Data Entry'!O61 = \"I\",2,IF('Data Entry'!O61 = \"S\",1,\"\"))))","v":""},{"$f":"IF('Data Entry'!Q61 = \"D\",4,IF('Data Entry'!Q61 = \"C\",3,IF('Data Entry'!Q61 = \"I\",2,IF('Data Entry'!Q61 = \"S\",1,\"\"))))","v":""},{"$f":"IF('Data Entry'!S61 = \"D\",4,IF('Data Entry'!S61 = \"C\",3,IF('Data Entry'!S61 = \"I\",2,IF('Data Entry'!S61 = \"S\",1,\"\"))))","v":""},{"$f":"IF('Data Entry'!U61 = \"D\",4,IF('Data Entry'!U61 = \"C\",3,IF('Data Entry'!U61 = \"I\",2,IF('Data Entry'!U61 = \"S\",1,\"\"))))","v":""},{"$f":"IF('Data Entry'!W61 = \"D\",4,IF('Data Entry'!W61 = \"C\",3,IF('Data Entry'!W61 = \"I\",2,IF('Data Entry'!W61 = \"S\",1,\"\"))))","v":""},{"$f":"IF('Data Entry'!E106 = \"D\",4,IF('Data Entry'!E106 = \"C\",3,IF('Data Entry'!E106 = \"I\",2,IF('Data Entry'!E106 = \"S\",1,\"\"))))","v":""},{"$f":"IF('Data Entry'!G106 = \"D\",4,IF('Data Entry'!G106 = \"C\",3,IF('Data Entry'!G106 = \"I\",2,IF('Data Entry'!G106 = \"S\",1,\"\"))))","v":""},{"$f":"IF('Data Entry'!I106 = \"D\",4,IF('Data Entry'!I106 = \"C\",3,IF('Data Entry'!I106 = \"I\",2,IF('Data Entry'!I106 = \"S\",1,\"\"))))","v":""},{"$f":"IF('Data Entry'!K106 = \"D\",4,IF('Data Entry'!K106 = \"C\",3,IF('Data Entry'!K106 = \"I\",2,IF('Data Entry'!K106 = \"S\",1,\"\"))))","v":""},{"$f":"IF('Data Entry'!M106 = \"D\",4,IF('Data Entry'!M106 = \"C\",3,IF('Data Entry'!M106 = \"I\",2,IF('Data Entry'!M106 = \"S\",1,\"\"))))","v":""},{"$f":"IF('Data Entry'!O106 = \"D\",4,IF('Data Entry'!O106 = \"C\",3,IF('Data Entry'!O106 = \"I\",2,IF('Data Entry'!O106 = \"S\",1,\"\"))))","v":""},{"$f":"IF('Data Entry'!Q106 = \"D\",4,IF('Data Entry'!Q106 = \"C\",3,IF('Data Entry'!Q106 = \"I\",2,IF('Data Entry'!Q106 = \"S\",1,\"\"))))","v":""},{"$f":"IF('Data Entry'!S106 = \"D\",4,IF('Data Entry'!S106 = \"C\",3,IF('Data Entry'!S106 = \"I\",2,IF('Data Entry'!S106 = \"S\",1,\"\"))))","v":""},{"$f":"IF('Data Entry'!U106 = \"D\",4,IF('Data Entry'!U106 = \"C\",3,IF('Data Entry'!U106 = \"I\",2,IF('Data Entry'!U106 = \"S\",1,\"\"))))","v":""},{"$f":"IF('Data Entry'!W106 = \"D\",4,IF('Data Entry'!W106 = \"C\",3,IF('Data Entry'!W106 = \"I\",2,IF('Data Entry'!W106 = \"S\",1,\"\"))))","v":""},{"$f":"IF('Data Entry'!E151 = \"D\",4,IF('Data Entry'!E151 = \"C\",3,IF('Data Entry'!E151 = \"I\",2,IF('Data Entry'!E151 = \"S\",1,\"\"))))","v":""},{"$f":"IF('Data Entry'!G151 = \"D\",4,IF('Data Entry'!G151 = \"C\",3,IF('Data Entry'!G151 = \"I\",2,IF('Data Entry'!G151 = \"S\",1,\"\"))))","v":""},{"$f":"IF('Data Entry'!I151 = \"D\",4,IF('Data Entry'!I151 = \"C\",3,IF('Data Entry'!I151 = \"I\",2,IF('Data Entry'!I151 = \"S\",1,\"\"))))","v":""},{"$f":"IF('Data Entry'!K151 = \"D\",4,IF('Data Entry'!K151 = \"C\",3,IF('Data Entry'!K151 = \"I\",2,IF('Data Entry'!K151 = \"S\",1,\"\"))))","v":""},{"$f":"IF('Data Entry'!M151 = \"D\",4,IF('Data Entry'!M151 = \"C\",3,IF('Data Entry'!M151 = \"I\",2,IF('Data Entry'!M151 = \"S\",1,\"\"))))","v":""},{"$f":"IF('Data Entry'!O151 = \"D\",4,IF('Data Entry'!O151 = \"C\",3,IF('Data Entry'!O151 = \"I\",2,IF('Data Entry'!O151 = \"S\",1,\"\"))))","v":""},{"$f":"IF('Data Entry'!Q151 = \"D\",4,IF('Data Entry'!Q151 = \"C\",3,IF('Data Entry'!Q151 = \"I\",2,IF('Data Entry'!Q151 = \"S\",1,\"\"))))","v":""},{"$f":"IF('Data Entry'!S151 = \"D\",4,IF('Data Entry'!S151 = \"C\",3,IF('Data Entry'!S151 = \"I\",2,IF('Data Entry'!S151 = \"S\",1,\"\"))))","v":""},{"$f":"IF('Data Entry'!U151 = \"D\",4,IF('Data Entry'!U151 = \"C\",3,IF('Data Entry'!U151 = \"I\",2,IF('Data Entry'!U151 = \"S\",1,\"\"))))","v":""},{"$f":"IF('Data Entry'!W151 = \"D\",4,IF('Data Entry'!W151 = \"C\",3,IF('Data Entry'!W151 = \"I\",2,IF('Data Entry'!W151 = \"S\",1,\"\"))))","v":""},{"$f":"IF('Data Entry'!E196 = \"D\",4,IF('Data Entry'!E196 = \"C\",3,IF('Data Entry'!E196 = \"I\",2,IF('Data Entry'!E196 = \"S\",1,\"\"))))","v":""},{"$f":"IF('Data Entry'!G196 = \"D\",4,IF('Data Entry'!G196 = \"C\",3,IF('Data Entry'!G196 = \"I\",2,IF('Data Entry'!G196 = \"S\",1,\"\"))))","v":""},{"$f":"IF('Data Entry'!I196 = \"D\",4,IF('Data Entry'!I196 = \"C\",3,IF('Data Entry'!I196 = \"I\",2,IF('Data Entry'!I196 = \"S\",1,\"\"))))","v":""},{"$f":"IF('Data Entry'!K196 = \"D\",4,IF('Data Entry'!K196 = \"C\",3,IF('Data Entry'!K196 = \"I\",2,IF('Data Entry'!K196 = \"S\",1,\"\"))))","v":""},{"$f":"IF('Data Entry'!M196 = \"D\",4,IF('Data Entry'!M196 = \"C\",3,IF('Data Entry'!M196 = \"I\",2,IF('Data Entry'!M196 = \"S\",1,\"\"))))","v":""},{"$f":"IF('Data Entry'!O196 = \"D\",4,IF('Data Entry'!O196 = \"C\",3,IF('Data Entry'!O196 = \"I\",2,IF('Data Entry'!O196 = \"S\",1,\"\"))))","v":""},{"$f":"IF('Data Entry'!Q196 = \"D\",4,IF('Data Entry'!Q196 = \"C\",3,IF('Data Entry'!Q196 = \"I\",2,IF('Data Entry'!Q196 = \"S\",1,\"\"))))","v":""},{"$f":"IF('Data Entry'!S196 = \"D\",4,IF('Data Entry'!S196 = \"C\",3,IF('Data Entry'!S196 = \"I\",2,IF('Data Entry'!S196 = \"S\",1,\"\"))))","v":""},{"$f":"IF('Data Entry'!U196 = \"D\",4,IF('Data Entry'!U196 = \"C\",3,IF('Data Entry'!U196 = \"I\",2,IF('Data Entry'!U196 = \"S\",1,\"\"))))","v":""},{"$f":"IF('Data Entry'!W196 = \"D\",4,IF('Data Entry'!W196 = \"C\",3,IF('Data Entry'!W196 = \"I\",2,IF('Data Entry'!W196 = \"S\",1,\"\"))))","v":""}]
[{"$nulls":3},{"$f":"IF('Data Entry'!C17<>\"\",'Data Entry'!C17,\"\")","v":""},"","","","","","","",null,"",{"$f":"IF('Data Entry'!E17 = \"D\",4,IF('Data Entry'!E17 = \"C\",3,IF('Data Entry'!E17 = \"I\",2,IF('Data Entry'!E17 = \"S\",1,\"\"))))","v":""},{"$f":"IF('Data Entry'!G17 = \"D\",4,IF('Data Entry'!G17 = \"C\",3,IF('Data Entry'!G17 = \"I\",2,IF('Data Entry'!G17 = \"S\",1,\"\"))))","v":""},{"$f":"IF('Data Entry'!I17 = \"D\",4,IF('Data Entry'!I17 = \"C\",3,IF('Data Entry'!I17 = \"I\",2,IF('Data Entry'!I17 = \"S\",1,\"\"))))","v":""},{"$f":"IF('Data Entry'!K17 = \"D\",4,IF('Data Entry'!K17 = \"C\",3,IF('Data Entry'!K17 = \"I\",2,IF('Data Entry'!K17 = \"S\",1,\"\"))))","v":""},{"$f":"IF('Data Entry'!M17 = \"D\",4,IF('Data Entry'!M17 = \"C\",3,IF('Data Entry'!M17 = \"I\",2,IF('Data Entry'!M17 = \"S\",1,\"\"))))","v":""},{"$f":"IF('Data Entry'!O17 = \"D\",4,IF('Data Entry'!O17 = \"C\",3,IF('Data Entry'!O17 = \"I\",2,IF('Data Entry'!O17 = \"S\",1,\"\"))))","v":""},{"$f":"IF('Data Entry'!Q17 = \"D\",4,IF('Data Entry'!Q17 = \"C\",3,IF('Data Entry'!Q17 = \"I\",2,IF('Data Entry'!Q17 = \"S\",1,\"\"))))","v":""},{"$f":"IF('Data Entry'!S17 = \"D\",4,IF('Data Entry'!S17 = \"C\",3,IF('Data Entry'!S17 = \"I\",2,IF('Data Entry'!S17 = \"S\",1,\"\"))))","v":""},{"$f":"IF('Data Entry'!U17 = \"D\",4,IF('Data Entry'!U17 = \"C\",3,IF('Data Entry'!U17 = \"I\",2,IF('Data Entry'!U17 = \"S\",1,\"\"))))","v":""},{"$f":"IF('Data Entry'!W17 = \"D\",4,IF('Data Entry'!W17 = \"C\",3,IF('Data Entry'!W17 = \"I\",2,IF('Data Entry'!W17 = \"S\",1,\"\"))))","v":""},{"$f":"IF('Data Entry'!E62 = \"D\",4,IF('Data Entry'!E62 = \"C\",3,IF('Data Entry'!E62 = \"I\",2,IF('Data Entry'!E62 = \"S\",1,\"\"))))","v":""},{"$f":"IF('Data Entry'!G62 = \"D\",4,IF('Data Entry'!G62 = \"C\",3,IF('Data Entry'!G62 = \"I\",2,IF('Data Entry'!G62 = \"S\",1,\"\"))))","v":""},{"$f":"IF('Data Entry'!I62 = \"D\",4,IF('Data Entry'!I62 = \"C\",3,IF('Data Entry'!I62 = \"I\",2,IF('Data Entry'!I62 = \"S\",1,\"\"))))","v":""},{"$f":"IF('Data Entry'!K62 = \"D\",4,IF('Data Entry'!K62 = \"C\",3,IF('Data Entry'!K62 = \"I\",2,IF('Data Entry'!K62 = \"S\",1,\"\"))))","v":""},{"$f":"IF('Data Entry'!M62 = \"D\",4,IF('Data Entry'!M62 = \"C\",3,IF('Data Entry'!M62 = \"I\",2,IF('Data Entry'!M62 = \"S\",1,\"\"))))","v":""},{"$f":"IF('Data Entry'!O62 = \"D\",4,IF('Data Entry'!O62 = \"C\",3,IF('Data Entry'!O62 = \"I\",2,IF('Data Entry'!O62 = \"S\",1,\"\"))))","v":""},{"$f":"IF('Data Entry'!Q62 = \"D\",4,IF('Data Entry'!Q62 = \"C\",3,IF('Data Entry'!Q62 = \"I\",2,IF('Data Entry'!Q62 = \"S\",1,\"\"))))","v":""},{"$f":"IF('Data Entry'!S62 = \"D\",4,IF('Data Entry'!S62 = \"C\",3,IF('Data Entry'!S62 = \"I\",2,IF('Data Entry'!S62 = \"S\",1,\"\"))))","v":""},{"$f":"IF('Data Entry'!U62 = \"D\",4,IF('Data Entry'!U62 = \"C\",3,IF('Data Entry'!U62 = \"I\",2,IF('Data Entry'!U62 = \"S\",1,\"\"))))","v":""},{"$f":"IF('Data Entry'!W62 = \"D\",4,IF('Data Entry'!W62 = \"C\",3,IF('Data Entry'!W62 = \"I\",2,IF('Data Entry'!W62 = \"S\",1,\"\"))))","v":""},{"$f":"IF('Data Entry'!E107 = \"D\",4,IF('Data Entry'!E107 = \"C\",3,IF('Data Entry'!E107 = \"I\",2,IF('Data Entry'!E107 = \"S\",1,\"\"))))","v":""},{"$f":"IF('Data Entry'!G107 = \"D\",4,IF('Data Entry'!G107 = \"C\",3,IF('Data Entry'!G107 = \"I\",2,IF('Data Entry'!G107 = \"S\",1,\"\"))))","v":""},{"$f":"IF('Data Entry'!I107 = \"D\",4,IF('Data Entry'!I107 = \"C\",3,IF('Data Entry'!I107 = \"I\",2,IF('Data Entry'!I107 = \"S\",1,\"\"))))","v":""},{"$f":"IF('Data Entry'!K107 = \"D\",4,IF('Data Entry'!K107 = \"C\",3,IF('Data Entry'!K107 = \"I\",2,IF('Data Entry'!K107 = \"S\",1,\"\"))))","v":""},{"$f":"IF('Data Entry'!M107 = \"D\",4,IF('Data Entry'!M107 = \"C\",3,IF('Data Entry'!M107 = \"I\",2,IF('Data Entry'!M107 = \"S\",1,\"\"))))","v":""},{"$f":"IF('Data Entry'!O107 = \"D\",4,IF('Data Entry'!O107 = \"C\",3,IF('Data Entry'!O107 = \"I\",2,IF('Data Entry'!O107 = \"S\",1,\"\"))))","v":""},{"$f":"IF('Data Entry'!Q107 = \"D\",4,IF('Data Entry'!Q107 = \"C\",3,IF('Data Entry'!Q107 = \"I\",2,IF('Data Entry'!Q107 = \"S\",1,\"\"))))","v":""},{"$f":"IF('Data Entry'!S107 = \"D\",4,IF('Data Entry'!S107 = \"C\",3,IF('Data Entry'!S107 = \"I\",2,IF('Data Entry'!S107 = \"S\",1,\"\"))))","v":""},{"$f":"IF('Data Entry'!U107 = \"D\",4,IF('Data Entry'!U107 = \"C\",3,IF('Data Entry'!U107 = \"I\",2,IF('Data Entry'!U107 = \"S\",1,\"\"))))","v":""},{"$f":"IF('Data Entry'!W107 = \"D\",4,IF('Data Entry'!W107 = \"C\",3,IF('Data Entry'!W107 = \"I\",2,IF('Data Entry'!W107 = \"S\",1,\"\"))))","v":""},{"$f":"IF('Data Entry'!E152 = \"D\",4,IF('Data Entry'!E152 = \"C\",3,IF('Data Entry'!E152 = \"I\",2,IF('Data Entry'!E152 = \"S\",1,\"\"))))","v":""},{"$f":"IF('Data Entry'!G152 = \"D\",4,IF('Data Entry'!G152 = \"C\",3,IF('Data Entry'!G152 = \"I\",2,IF('Data Entry'!G152 = \"S\",1,\"\"))))","v":""},{"$f":"IF('Data Entry'!I152 = \"D\",4,IF('Data Entry'!I152 = \"C\",3,IF('Data Entry'!I152 = \"I\",2,IF('Data Entry'!I152 = \"S\",1,\"\"))))","v":""},{"$f":"IF('Data Entry'!K152 = \"D\",4,IF('Data Entry'!K152 = \"C\",3,IF('Data Entry'!K152 = \"I\",2,IF('Data Entry'!K152 = \"S\",1,\"\"))))","v":""},{"$f":"IF('Data Entry'!M152 = \"D\",4,IF('Data Entry'!M152 = \"C\",3,IF('Data Entry'!M152 = \"I\",2,IF('Data Entry'!M152 = \"S\",1,\"\"))))","v":""},{"$f":"IF('Data Entry'!O152 = \"D\",4,IF('Data Entry'!O152 = \"C\",3,IF('Data Entry'!O152 = \"I\",2,IF('Data Entry'!O152 = \"S\",1,\"\"))))","v":""},{"$f":"IF('Data Entry'!Q152 = \"D\",4,IF('Data Entry'!Q152 = \"C\",3,IF('Data Entry'!Q152 = \"I\",2,IF('Data Entry'!Q152 = \"S\",1,\"\"))))","v":""},{"$f":"IF('Data Entry'!S152 = \"D\",4,IF('Data Entry'!S152 = \"C\",3,IF('Data Entry'!S152 = \"I\",2,IF('Data Entry'!S152 = \"S\",1,\"\"))))","v":""},{"$f":"IF('Data Entry'!U152 = \"D\",4,IF('Data Entry'!U152 = \"C\",3,IF('Data Entry'!U152 = \"I\",2,IF('Data Entry'!U152 = \"S\",1,\"\"))))","v":""},{"$f":"IF('Data Entry'!W152 = \"D\",4,IF('Data Entry'!W152 = \"C\",3,IF('Data Entry'!W152 = \"I\",2,IF('Data Entry'!W152 = \"S\",1,\"\"))))","v":""},{"$f":"IF('Data Entry'!E197 = \"D\",4,IF('Data Entry'!E197 = \"C\",3,IF('Data Entry'!E197 = \"I\",2,IF('Data Entry'!E197 = \"S\",1,\"\"))))","v":""},{"$f":"IF('Data Entry'!G197 = \"D\",4,IF('Data Entry'!G197 = \"C\",3,IF('Data Entry'!G197 = \"I\",2,IF('Data Entry'!G197 = \"S\",1,\"\"))))","v":""},{"$f":"IF('Data Entry'!I197 = \"D\",4,IF('Data Entry'!I197 = \"C\",3,IF('Data Entry'!I197 = \"I\",2,IF('Data Entry'!I197 = \"S\",1,\"\"))))","v":""},{"$f":"IF('Data Entry'!K197 = \"D\",4,IF('Data Entry'!K197 = \"C\",3,IF('Data Entry'!K197 = \"I\",2,IF('Data Entry'!K197 = \"S\",1,\"\"))))","v":""},{"$f":"IF('Data Entry'!M197 = \"D\",4,IF('Data Entry'!M197 = \"C\",3,IF('Data Entry'!M197 = \"I\",2,IF('Data Entry'!M197 = \"S\",1,\"\"))))","v":""},{"$f":"IF('Data Entry'!O197 = \"D\",4,IF('Data Entry'!O197 = \"C\",3,IF('Data Entry'!O197 = \"I\",2,IF('Data Entry'!O197 = \"S\",1,\"\"))))","v":""},{"$f":"IF('Data Entry'!Q197 = \"D\",4,IF('Data Entry'!Q197 = \"C\",3,IF('Data Entry'!Q197 = \"I\",2,IF('Data Entry'!Q197 = \"S\",1,\"\"))))","v":""},{"$f":"IF('Data Entry'!S197 = \"D\",4,IF('Data Entry'!S197 = \"C\",3,IF('Data Entry'!S197 = \"I\",2,IF('Data Entry'!S197 = \"S\",1,\"\"))))","v":""},{"$f":"IF('Data Entry'!U197 = \"D\",4,IF('Data Entry'!U197 = \"C\",3,IF('Data Entry'!U197 = \"I\",2,IF('Data Entry'!U197 = \"S\",1,\"\"))))","v":""},{"$f":"IF('Data Entry'!W197 = \"D\",4,IF('Data Entry'!W197 = \"C\",3,IF('Data Entry'!W197 = \"I\",2,IF('Data Entry'!W197 = \"S\",1,\"\"))))","v":""}]
[{"$nulls":3},{"$f":"IF('Data Entry'!C18<>\"\",'Data Entry'!C18,\"\")","v":""},"",{"$f":"IF(COUNT(N41:BK41)>1,_xlfn.MODE.SNGL(N41:BK41),IF(COUNT(N41:BK41)=1,SUM(N41:BK41),\"\"))","v":""},"","","","","",null,"",{"$f":"IF('Data Entry'!E18 = \"D\",4,IF('Data Entry'!E18 = \"C\",3,IF('Data Entry'!E18 = \"I\",2,IF('Data Entry'!E18 = \"S\",1,\"\"))))","v":""},{"$f":"IF('Data Entry'!G18 = \"D\",4,IF('Data Entry'!G18 = \"C\",3,IF('Data Entry'!G18 = \"I\",2,IF('Data Entry'!G18 = \"S\",1,\"\"))))","v":""},{"$f":"IF('Data Entry'!I18 = \"D\",4,IF('Data Entry'!I18 = \"C\",3,IF('Data Entry'!I18 = \"I\",2,IF('Data Entry'!I18 = \"S\",1,\"\"))))","v":""},{"$f":"IF('Data Entry'!K18 = \"D\",4,IF('Data Entry'!K18 = \"C\",3,IF('Data Entry'!K18 = \"I\",2,IF('Data Entry'!K18 = \"S\",1,\"\"))))","v":""},{"$f":"IF('Data Entry'!M18 = \"D\",4,IF('Data Entry'!M18 = \"C\",3,IF('Data Entry'!M18 = \"I\",2,IF('Data Entry'!M18 = \"S\",1,\"\"))))","v":""},{"$f":"IF('Data Entry'!O18 = \"D\",4,IF('Data Entry'!O18 = \"C\",3,IF('Data Entry'!O18 = \"I\",2,IF('Data Entry'!O18 = \"S\",1,\"\"))))","v":""},{"$f":"IF('Data Entry'!Q18 = \"D\",4,IF('Data Entry'!Q18 = \"C\",3,IF('Data Entry'!Q18 = \"I\",2,IF('Data Entry'!Q18 = \"S\",1,\"\"))))","v":""},{"$f":"IF('Data Entry'!S18 = \"D\",4,IF('Data Entry'!S18 = \"C\",3,IF('Data Entry'!S18 = \"I\",2,IF('Data Entry'!S18 = \"S\",1,\"\"))))","v":""},{"$f":"IF('Data Entry'!U18 = \"D\",4,IF('Data Entry'!U18 = \"C\",3,IF('Data Entry'!U18 = \"I\",2,IF('Data Entry'!U18 = \"S\",1,\"\"))))","v":""},{"$f":"IF('Data Entry'!W18 = \"D\",4,IF('Data Entry'!W18 = \"C\",3,IF('Data Entry'!W18 = \"I\",2,IF('Data Entry'!W18 = \"S\",1,\"\"))))","v":""},{"$f":"IF('Data Entry'!E63 = \"D\",4,IF('Data Entry'!E63 = \"C\",3,IF('Data Entry'!E63 = \"I\",2,IF('Data Entry'!E63 = \"S\",1,\"\"))))","v":""},{"$f":"IF('Data Entry'!G63 = \"D\",4,IF('Data Entry'!G63 = \"C\",3,IF('Data Entry'!G63 = \"I\",2,IF('Data Entry'!G63 = \"S\",1,\"\"))))","v":""},{"$f":"IF('Data Entry'!I63 = \"D\",4,IF('Data Entry'!I63 = \"C\",3,IF('Data Entry'!I63 = \"I\",2,IF('Data Entry'!I63 = \"S\",1,\"\"))))","v":""},{"$f":"IF('Data Entry'!K63 = \"D\",4,IF('Data Entry'!K63 = \"C\",3,IF('Data Entry'!K63 = \"I\",2,IF('Data Entry'!K63 = \"S\",1,\"\"))))","v":""},{"$f":"IF('Data Entry'!M63 = \"D\",4,IF('Data Entry'!M63 = \"C\",3,IF('Data Entry'!M63 = \"I\",2,IF('Data Entry'!M63 = \"S\",1,\"\"))))","v":""},{"$f":"IF('Data Entry'!O63 = \"D\",4,IF('Data Entry'!O63 = \"C\",3,IF('Data Entry'!O63 = \"I\",2,IF('Data Entry'!O63 = \"S\",1,\"\"))))","v":""},{"$f":"IF('Data Entry'!Q63 = \"D\",4,IF('Data Entry'!Q63 = \"C\",3,IF('Data Entry'!Q63 = \"I\",2,IF('Data Entry'!Q63 = \"S\",1,\"\"))))","v":""},{"$f":"IF('Data Entry'!S63 = \"D\",4,IF('Data Entry'!S63 = \"C\",3,IF('Data Entry'!S63 = \"I\",2,IF('Data Entry'!S63 = \"S\",1,\"\"))))","v":""},{"$f":"IF('Data Entry'!U63 = \"D\",4,IF('Data Entry'!U63 = \"C\",3,IF('Data Entry'!U63 = \"I\",2,IF('Data Entry'!U63 = \"S\",1,\"\"))))","v":""},{"$f":"IF('Data Entry'!W63 = \"D\",4,IF('Data Entry'!W63 = \"C\",3,IF('Data Entry'!W63 = \"I\",2,IF('Data Entry'!W63 = \"S\",1,\"\"))))","v":""},{"$f":"IF('Data Entry'!E108 = \"D\",4,IF('Data Entry'!E108 = \"C\",3,IF('Data Entry'!E108 = \"I\",2,IF('Data Entry'!E108 = \"S\",1,\"\"))))","v":""},{"$f":"IF('Data Entry'!G108 = \"D\",4,IF('Data Entry'!G108 = \"C\",3,IF('Data Entry'!G108 = \"I\",2,IF('Data Entry'!G108 = \"S\",1,\"\"))))","v":""},{"$f":"IF('Data Entry'!I108 = \"D\",4,IF('Data Entry'!I108 = \"C\",3,IF('Data Entry'!I108 = \"I\",2,IF('Data Entry'!I108 = \"S\",1,\"\"))))","v":""},{"$f":"IF('Data Entry'!K108 = \"D\",4,IF('Data Entry'!K108 = \"C\",3,IF('Data Entry'!K108 = \"I\",2,IF('Data Entry'!K108 = \"S\",1,\"\"))))","v":""},{"$f":"IF('Data Entry'!M108 = \"D\",4,IF('Data Entry'!M108 = \"C\",3,IF('Data Entry'!M108 = \"I\",2,IF('Data Entry'!M108 = \"S\",1,\"\"))))","v":""},{"$f":"IF('Data Entry'!O108 = \"D\",4,IF('Data Entry'!O108 = \"C\",3,IF('Data Entry'!O108 = \"I\",2,IF('Data Entry'!O108 = \"S\",1,\"\"))))","v":""},{"$f":"IF('Data Entry'!Q108 = \"D\",4,IF('Data Entry'!Q108 = \"C\",3,IF('Data Entry'!Q108 = \"I\",2,IF('Data Entry'!Q108 = \"S\",1,\"\"))))","v":""},{"$f":"IF('Data Entry'!S108 = \"D\",4,IF('Data Entry'!S108 = \"C\",3,IF('Data Entry'!S108 = \"I\",2,IF('Data Entry'!S108 = \"S\",1,\"\"))))","v":""},{"$f":"IF('Data Entry'!U108 = \"D\",4,IF('Data Entry'!U108 = \"C\",3,IF('Data Entry'!U108 = \"I\",2,IF('Data Entry'!U108 = \"S\",1,\"\"))))","v":""},{"$f":"IF('Data Entry'!W108 = \"D\",4,IF('Data Entry'!W108 = \"C\",3,IF('Data Entry'!W108 = \"I\",2,IF('Data Entry'!W108 = \"S\",1,\"\"))))","v":""},{"$f":"IF('Data Entry'!E153 = \"D\",4,IF('Data Entry'!E153 = \"C\",3,IF('Data Entry'!E153 = \"I\",2,IF('Data Entry'!E153 = \"S\",1,\"\"))))","v":""},{"$f":"IF('Data Entry'!G153 = \"D\",4,IF('Data Entry'!G153 = \"C\",3,IF('Data Entry'!G153 = \"I\",2,IF('Data Entry'!G153 = \"S\",1,\"\"))))","v":""},{"$f":"IF('Data Entry'!I153 = \"D\",4,IF('Data Entry'!I153 = \"C\",3,IF('Data Entry'!I153 = \"I\",2,IF('Data Entry'!I153 = \"S\",1,\"\"))))","v":""},{"$f":"IF('Data Entry'!K153 = \"D\",4,IF('Data Entry'!K153 = \"C\",3,IF('Data Entry'!K153 = \"I\",2,IF('Data Entry'!K153 = \"S\",1,\"\"))))","v":""},{"$f":"IF('Data Entry'!M153 = \"D\",4,IF('Data Entry'!M153 = \"C\",3,IF('Data Entry'!M153 = \"I\",2,IF('Data Entry'!M153 = \"S\",1,\"\"))))","v":""},{"$f":"IF('Data Entry'!O153 = \"D\",4,IF('Data Entry'!O153 = \"C\",3,IF('Data Entry'!O153 = \"I\",2,IF('Data Entry'!O153 = \"S\",1,\"\"))))","v":""},{"$f":"IF('Data Entry'!Q153 = \"D\",4,IF('Data Entry'!Q153 = \"C\",3,IF('Data Entry'!Q153 = \"I\",2,IF('Data Entry'!Q153 = \"S\",1,\"\"))))","v":""},{"$f":"IF('Data Entry'!S153 = \"D\",4,IF('Data Entry'!S153 = \"C\",3,IF('Data Entry'!S153 = \"I\",2,IF('Data Entry'!S153 = \"S\",1,\"\"))))","v":""},{"$f":"IF('Data Entry'!U153 = \"D\",4,IF('Data Entry'!U153 = \"C\",3,IF('Data Entry'!U153 = \"I\",2,IF('Data Entry'!U153 = \"S\",1,\"\"))))","v":""},{"$f":"IF('Data Entry'!W153 = \"D\",4,IF('Data Entry'!W153 = \"C\",3,IF('Data Entry'!W153 = \"I\",2,IF('Data Entry'!W153 = \"S\",1,\"\"))))","v":""},{"$f":"IF('Data Entry'!E198 = \"D\",4,IF('Data Entry'!E198 = \"C\",3,IF('Data Entry'!E198 = \"I\",2,IF('Data Entry'!E198 = \"S\",1,\"\"))))","v":""},{"$f":"IF('Data Entry'!G198 = \"D\",4,IF('Data Entry'!G198 = \"C\",3,IF('Data Entry'!G198 = \"I\",2,IF('Data Entry'!G198 = \"S\",1,\"\"))))","v":""},{"$f":"IF('Data Entry'!I198 = \"D\",4,IF('Data Entry'!I198 = \"C\",3,IF('Data Entry'!I198 = \"I\",2,IF('Data Entry'!I198 = \"S\",1,\"\"))))","v":""},{"$f":"IF('Data Entry'!K198 = \"D\",4,IF('Data Entry'!K198 = \"C\",3,IF('Data Entry'!K198 = \"I\",2,IF('Data Entry'!K198 = \"S\",1,\"\"))))","v":""},{"$f":"IF('Data Entry'!M198 = \"D\",4,IF('Data Entry'!M198 = \"C\",3,IF('Data Entry'!M198 = \"I\",2,IF('Data Entry'!M198 = \"S\",1,\"\"))))","v":""},{"$f":"IF('Data Entry'!O198 = \"D\",4,IF('Data Entry'!O198 = \"C\",3,IF('Data Entry'!O198 = \"I\",2,IF('Data Entry'!O198 = \"S\",1,\"\"))))","v":""},{"$f":"IF('Data Entry'!Q198 = \"D\",4,IF('Data Entry'!Q198 = \"C\",3,IF('Data Entry'!Q198 = \"I\",2,IF('Data Entry'!Q198 = \"S\",1,\"\"))))","v":""},{"$f":"IF('Data Entry'!S198 = \"D\",4,IF('Data Entry'!S198 = \"C\",3,IF('Data Entry'!S198 = \"I\",2,IF('Data Entry'!S198 = \"S\",1,\"\"))))","v":""},{"$f":"IF('Data Entry'!U198 = \"D\",4,IF('Data Entry'!U198 = \"C\",3,IF('Data Entry'!U198 = \"I\",2,IF('Data Entry'!U198 = \"S\",1,\"\"))))","v":""},{"$f":"IF('Data Entry'!W198 = \"D\",4,IF('Data Entry'!W198 = \"C\",3,IF('Data Entry'!W198 = \"I\",2,IF('Data Entry'!W198 = \"S\",1,\"\"))))","v":""}]
[{"$nulls":3},{"$f":"IF('Data Entry'!C19<>\"\",'Data Entry'!C19,\"\")","v":""},"","","","","","","",null,"",{"$f":"IF('Data Entry'!E19 = \"D\",4,IF('Data Entry'!E19 = \"C\",3,IF('Data Entry'!E19 = \"I\",2,IF('Data Entry'!E19 = \"S\",1,\"\"))))","v":""},{"$f":"IF('Data Entry'!G19 = \"D\",4,IF('Data Entry'!G19 = \"C\",3,IF('Data Entry'!G19 = \"I\",2,IF('Data Entry'!G19 = \"S\",1,\"\"))))","v":""},{"$f":"IF('Data Entry'!I19 = \"D\",4,IF('Data Entry'!I19 = \"C\",3,IF('Data Entry'!I19 = \"I\",2,IF('Data Entry'!I19 = \"S\",1,\"\"))))","v":""},{"$f":"IF('Data Entry'!K19 = \"D\",4,IF('Data Entry'!K19 = \"C\",3,IF('Data Entry'!K19 = \"I\",2,IF('Data Entry'!K19 = \"S\",1,\"\"))))","v":""},{"$f":"IF('Data Entry'!M19 = \"D\",4,IF('Data Entry'!M19 = \"C\",3,IF('Data Entry'!M19 = \"I\",2,IF('Data Entry'!M19 = \"S\",1,\"\"))))","v":""},{"$f":"IF('Data Entry'!O19 = \"D\",4,IF('Data Entry'!O19 = \"C\",3,IF('Data Entry'!O19 = \"I\",2,IF('Data Entry'!O19 = \"S\",1,\"\"))))","v":""},{"$f":"IF('Data Entry'!Q19 = \"D\",4,IF('Data Entry'!Q19 = \"C\",3,IF('Data Entry'!Q19 = \"I\",2,IF('Data Entry'!Q19 = \"S\",1,\"\"))))","v":""},{"$f":"IF('Data Entry'!S19 = \"D\",4,IF('Data Entry'!S19 = \"C\",3,IF('Data Entry'!S19 = \"I\",2,IF('Data Entry'!S19 = \"S\",1,\"\"))))","v":""},{"$f":"IF('Data Entry'!U19 = \"D\",4,IF('Data Entry'!U19 = \"C\",3,IF('Data Entry'!U19 = \"I\",2,IF('Data Entry'!U19 = \"S\",1,\"\"))))","v":""},{"$f":"IF('Data Entry'!W19 = \"D\",4,IF('Data Entry'!W19 = \"C\",3,IF('Data Entry'!W19 = \"I\",2,IF('Data Entry'!W19 = \"S\",1,\"\"))))","v":""},{"$f":"IF('Data Entry'!E64 = \"D\",4,IF('Data Entry'!E64 = \"C\",3,IF('Data Entry'!E64 = \"I\",2,IF('Data Entry'!E64 = \"S\",1,\"\"))))","v":""},{"$f":"IF('Data Entry'!G64 = \"D\",4,IF('Data Entry'!G64 = \"C\",3,IF('Data Entry'!G64 = \"I\",2,IF('Data Entry'!G64 = \"S\",1,\"\"))))","v":""},{"$f":"IF('Data Entry'!I64 = \"D\",4,IF('Data Entry'!I64 = \"C\",3,IF('Data Entry'!I64 = \"I\",2,IF('Data Entry'!I64 = \"S\",1,\"\"))))","v":""},{"$f":"IF('Data Entry'!K64 = \"D\",4,IF('Data Entry'!K64 = \"C\",3,IF('Data Entry'!K64 = \"I\",2,IF('Data Entry'!K64 = \"S\",1,\"\"))))","v":""},{"$f":"IF('Data Entry'!M64 = \"D\",4,IF('Data Entry'!M64 = \"C\",3,IF('Data Entry'!M64 = \"I\",2,IF('Data Entry'!M64 = \"S\",1,\"\"))))","v":""},{"$f":"IF('Data Entry'!O64 = \"D\",4,IF('Data Entry'!O64 = \"C\",3,IF('Data Entry'!O64 = \"I\",2,IF('Data Entry'!O64 = \"S\",1,\"\"))))","v":""},{"$f":"IF('Data Entry'!Q64 = \"D\",4,IF('Data Entry'!Q64 = \"C\",3,IF('Data Entry'!Q64 = \"I\",2,IF('Data Entry'!Q64 = \"S\",1,\"\"))))","v":""},{"$f":"IF('Data Entry'!S64 = \"D\",4,IF('Data Entry'!S64 = \"C\",3,IF('Data Entry'!S64 = \"I\",2,IF('Data Entry'!S64 = \"S\",1,\"\"))))","v":""},{"$f":"IF('Data Entry'!U64 = \"D\",4,IF('Data Entry'!U64 = \"C\",3,IF('Data Entry'!U64 = \"I\",2,IF('Data Entry'!U64 = \"S\",1,\"\"))))","v":""},{"$f":"IF('Data Entry'!W64 = \"D\",4,IF('Data Entry'!W64 = \"C\",3,IF('Data Entry'!W64 = \"I\",2,IF('Data Entry'!W64 = \"S\",1,\"\"))))","v":""},{"$f":"IF('Data Entry'!E109 = \"D\",4,IF('Data Entry'!E109 = \"C\",3,IF('Data Entry'!E109 = \"I\",2,IF('Data Entry'!E109 = \"S\",1,\"\"))))","v":""},{"$f":"IF('Data Entry'!G109 = \"D\",4,IF('Data Entry'!G109 = \"C\",3,IF('Data Entry'!G109 = \"I\",2,IF('Data Entry'!G109 = \"S\",1,\"\"))))","v":""},{"$f":"IF('Data Entry'!I109 = \"D\",4,IF('Data Entry'!I109 = \"C\",3,IF('Data Entry'!I109 = \"I\",2,IF('Data Entry'!I109 = \"S\",1,\"\"))))","v":""},{"$f":"IF('Data Entry'!K109 = \"D\",4,IF('Data Entry'!K109 = \"C\",3,IF('Data Entry'!K109 = \"I\",2,IF('Data Entry'!K109 = \"S\",1,\"\"))))","v":""},{"$f":"IF('Data Entry'!M109 = \"D\",4,IF('Data Entry'!M109 = \"C\",3,IF('Data Entry'!M109 = \"I\",2,IF('Data Entry'!M109 = \"S\",1,\"\"))))","v":""},{"$f":"IF('Data Entry'!O109 = \"D\",4,IF('Data Entry'!O109 = \"C\",3,IF('Data Entry'!O109 = \"I\",2,IF('Data Entry'!O109 = \"S\",1,\"\"))))","v":""},{"$f":"IF('Data Entry'!Q109 = \"D\",4,IF('Data Entry'!Q109 = \"C\",3,IF('Data Entry'!Q109 = \"I\",2,IF('Data Entry'!Q109 = \"S\",1,\"\"))))","v":""},{"$f":"IF('Data Entry'!S109 = \"D\",4,IF('Data Entry'!S109 = \"C\",3,IF('Data Entry'!S109 = \"I\",2,IF('Data Entry'!S109 = \"S\",1,\"\"))))","v":""},{"$f":"IF('Data Entry'!U109 = \"D\",4,IF('Data Entry'!U109 = \"C\",3,IF('Data Entry'!U109 = \"I\",2,IF('Data Entry'!U109 = \"S\",1,\"\"))))","v":""},{"$f":"IF('Data Entry'!W109 = \"D\",4,IF('Data Entry'!W109 = \"C\",3,IF('Data Entry'!W109 = \"I\",2,IF('Data Entry'!W109 = \"S\",1,\"\"))))","v":""},{"$f":"IF('Data Entry'!E154 = \"D\",4,IF('Data Entry'!E154 = \"C\",3,IF('Data Entry'!E154 = \"I\",2,IF('Data Entry'!E154 = \"S\",1,\"\"))))","v":""},{"$f":"IF('Data Entry'!G154 = \"D\",4,IF('Data Entry'!G154 = \"C\",3,IF('Data Entry'!G154 = \"I\",2,IF('Data Entry'!G154 = \"S\",1,\"\"))))","v":""},{"$f":"IF('Data Entry'!I154 = \"D\",4,IF('Data Entry'!I154 = \"C\",3,IF('Data Entry'!I154 = \"I\",2,IF('Data Entry'!I154 = \"S\",1,\"\"))))","v":""},{"$f":"IF('Data Entry'!K154 = \"D\",4,IF('Data Entry'!K154 = \"C\",3,IF('Data Entry'!K154 = \"I\",2,IF('Data Entry'!K154 = \"S\",1,\"\"))))","v":""},{"$f":"IF('Data Entry'!M154 = \"D\",4,IF('Data Entry'!M154 = \"C\",3,IF('Data Entry'!M154 = \"I\",2,IF('Data Entry'!M154 = \"S\",1,\"\"))))","v":""},{"$f":"IF('Data Entry'!O154 = \"D\",4,IF('Data Entry'!O154 = \"C\",3,IF('Data Entry'!O154 = \"I\",2,IF('Data Entry'!O154 = \"S\",1,\"\"))))","v":""},{"$f":"IF('Data Entry'!Q154 = \"D\",4,IF('Data Entry'!Q154 = \"C\",3,IF('Data Entry'!Q154 = \"I\",2,IF('Data Entry'!Q154 = \"S\",1,\"\"))))","v":""},{"$f":"IF('Data Entry'!S154 = \"D\",4,IF('Data Entry'!S154 = \"C\",3,IF('Data Entry'!S154 = \"I\",2,IF('Data Entry'!S154 = \"S\",1,\"\"))))","v":""},{"$f":"IF('Data Entry'!U154 = \"D\",4,IF('Data Entry'!U154 = \"C\",3,IF('Data Entry'!U154 = \"I\",2,IF('Data Entry'!U154 = \"S\",1,\"\"))))","v":""},{"$f":"IF('Data Entry'!W154 = \"D\",4,IF('Data Entry'!W154 = \"C\",3,IF('Data Entry'!W154 = \"I\",2,IF('Data Entry'!W154 = \"S\",1,\"\"))))","v":""},{"$f":"IF('Data Entry'!E199 = \"D\",4,IF('Data Entry'!E199 = \"C\",3,IF('Data Entry'!E199 = \"I\",2,IF('Data Entry'!E199 = \"S\",1,\"\"))))","v":""},{"$f":"IF('Data Entry'!G199 = \"D\",4,IF('Data Entry'!G199 = \"C\",3,IF('Data Entry'!G199 = \"I\",2,IF('Data Entry'!G199 = \"S\",1,\"\"))))","v":""},{"$f":"IF('Data Entry'!I199 = \"D\",4,IF('Data Entry'!I199 = \"C\",3,IF('Data Entry'!I199 = \"I\",2,IF('Data Entry'!I199 = \"S\",1,\"\"))))","v":""},{"$f":"IF('Data Entry'!K199 = \"D\",4,IF('Data Entry'!K199 = \"C\",3,IF('Data Entry'!K199 = \"I\",2,IF('Data Entry'!K199 = \"S\",1,\"\"))))","v":""},{"$f":"IF('Data Entry'!M199 = \"D\",4,IF('Data Entry'!M199 = \"C\",3,IF('Data Entry'!M199 = \"I\",2,IF('Data Entry'!M199 = \"S\",1,\"\"))))","v":""},{"$f":"IF('Data Entry'!O199 = \"D\",4,IF('Data Entry'!O199 = \"C\",3,IF('Data Entry'!O199 = \"I\",2,IF('Data Entry'!O199 = \"S\",1,\"\"))))","v":""},{"$f":"IF('Data Entry'!Q199 = \"D\",4,IF('Data Entry'!Q199 = \"C\",3,IF('Data Entry'!Q199 = \"I\",2,IF('Data Entry'!Q199 = \"S\",1,\"\"))))","v":""},{"$f":"IF('Data Entry'!S199 = \"D\",4,IF('Data Entry'!S199 = \"C\",3,IF('Data Entry'!S199 = \"I\",2,IF('Data Entry'!S199 = \"S\",1,\"\"))))","v":""},{"$f":"IF('Data Entry'!U199 = \"D\",4,IF('Data Entry'!U199 = \"C\",3,IF('Data Entry'!U199 = \"I\",2,IF('Data Entry'!U199 = \"S\",1,\"\"))))","v":""},{"$f":"IF('Data Entry'!W199 = \"D\",4,IF('Data Entry'!W199 = \"C\",3,IF('Data Entry'!W199 = \"I\",2,IF('Data Entry'!W199 = \"S\",1,\"\"))))","v":""}]
[{"$nulls":3},{"$f":"IF('Data Entry'!C20<>\"\",'Data Entry'!C20,\"\")","v":""},{"$f":"IF(D43<>\"\",AVERAGE(N43:BK43),\"\")","v":""},"","","","","","",null,"",{"$f":"IF('Data Entry'!E20 = \"D\",4,IF('Data Entry'!E20 = \"C\",3,IF('Data Entry'!E20 = \"I\",2,IF('Data Entry'!E20 = \"S\",1,\"\"))))","v":""},{"$f":"IF('Data Entry'!G20 = \"D\",4,IF('Data Entry'!G20 = \"C\",3,IF('Data Entry'!G20 = \"I\",2,IF('Data Entry'!G20 = \"S\",1,\"\"))))","v":""},{"$f":"IF('Data Entry'!I20 = \"D\",4,IF('Data Entry'!I20 = \"C\",3,IF('Data Entry'!I20 = \"I\",2,IF('Data Entry'!I20 = \"S\",1,\"\"))))","v":""},{"$f":"IF('Data Entry'!K20 = \"D\",4,IF('Data Entry'!K20 = \"C\",3,IF('Data Entry'!K20 = \"I\",2,IF('Data Entry'!K20 = \"S\",1,\"\"))))","v":""},{"$f":"IF('Data Entry'!M20 = \"D\",4,IF('Data Entry'!M20 = \"C\",3,IF('Data Entry'!M20 = \"I\",2,IF('Data Entry'!M20 = \"S\",1,\"\"))))","v":""},{"$f":"IF('Data Entry'!O20 = \"D\",4,IF('Data Entry'!O20 = \"C\",3,IF('Data Entry'!O20 = \"I\",2,IF('Data Entry'!O20 = \"S\",1,\"\"))))","v":""},{"$f":"IF('Data Entry'!Q20 = \"D\",4,IF('Data Entry'!Q20 = \"C\",3,IF('Data Entry'!Q20 = \"I\",2,IF('Data Entry'!Q20 = \"S\",1,\"\"))))","v":""},{"$f":"IF('Data Entry'!S20 = \"D\",4,IF('Data Entry'!S20 = \"C\",3,IF('Data Entry'!S20 = \"I\",2,IF('Data Entry'!S20 = \"S\",1,\"\"))))","v":""},{"$f":"IF('Data Entry'!U20 = \"D\",4,IF('Data Entry'!U20 = \"C\",3,IF('Data Entry'!U20 = \"I\",2,IF('Data Entry'!U20 = \"S\",1,\"\"))))","v":""},{"$f":"IF('Data Entry'!W20 = \"D\",4,IF('Data Entry'!W20 = \"C\",3,IF('Data Entry'!W20 = \"I\",2,IF('Data Entry'!W20 = \"S\",1,\"\"))))","v":""},{"$f":"IF('Data Entry'!E65 = \"D\",4,IF('Data Entry'!E65 = \"C\",3,IF('Data Entry'!E65 = \"I\",2,IF('Data Entry'!E65 = \"S\",1,\"\"))))","v":""},{"$f":"IF('Data Entry'!G65 = \"D\",4,IF('Data Entry'!G65 = \"C\",3,IF('Data Entry'!G65 = \"I\",2,IF('Data Entry'!G65 = \"S\",1,\"\"))))","v":""},{"$f":"IF('Data Entry'!I65 = \"D\",4,IF('Data Entry'!I65 = \"C\",3,IF('Data Entry'!I65 = \"I\",2,IF('Data Entry'!I65 = \"S\",1,\"\"))))","v":""},{"$f":"IF('Data Entry'!K65 = \"D\",4,IF('Data Entry'!K65 = \"C\",3,IF('Data Entry'!K65 = \"I\",2,IF('Data Entry'!K65 = \"S\",1,\"\"))))","v":""},{"$f":"IF('Data Entry'!M65 = \"D\",4,IF('Data Entry'!M65 = \"C\",3,IF('Data Entry'!M65 = \"I\",2,IF('Data Entry'!M65 = \"S\",1,\"\"))))","v":""},{"$f":"IF('Data Entry'!O65 = \"D\",4,IF('Data Entry'!O65 = \"C\",3,IF('Data Entry'!O65 = \"I\",2,IF('Data Entry'!O65 = \"S\",1,\"\"))))","v":""},{"$f":"IF('Data Entry'!Q65 = \"D\",4,IF('Data Entry'!Q65 = \"C\",3,IF('Data Entry'!Q65 = \"I\",2,IF('Data Entry'!Q65 = \"S\",1,\"\"))))","v":""},{"$f":"IF('Data Entry'!S65 = \"D\",4,IF('Data Entry'!S65 = \"C\",3,IF('Data Entry'!S65 = \"I\",2,IF('Data Entry'!S65 = \"S\",1,\"\"))))","v":""},{"$f":"IF('Data Entry'!U65 = \"D\",4,IF('Data Entry'!U65 = \"C\",3,IF('Data Entry'!U65 = \"I\",2,IF('Data Entry'!U65 = \"S\",1,\"\"))))","v":""},{"$f":"IF('Data Entry'!W65 = \"D\",4,IF('Data Entry'!W65 = \"C\",3,IF('Data Entry'!W65 = \"I\",2,IF('Data Entry'!W65 = \"S\",1,\"\"))))","v":""},{"$f":"IF('Data Entry'!E110 = \"D\",4,IF('Data Entry'!E110 = \"C\",3,IF('Data Entry'!E110 = \"I\",2,IF('Data Entry'!E110 = \"S\",1,\"\"))))","v":""},{"$f":"IF('Data Entry'!G110 = \"D\",4,IF('Data Entry'!G110 = \"C\",3,IF('Data Entry'!G110 = \"I\",2,IF('Data Entry'!G110 = \"S\",1,\"\"))))","v":""},{"$f":"IF('Data Entry'!I110 = \"D\",4,IF('Data Entry'!I110 = \"C\",3,IF('Data Entry'!I110 = \"I\",2,IF('Data Entry'!I110 = \"S\",1,\"\"))))","v":""},{"$f":"IF('Data Entry'!K110 = \"D\",4,IF('Data Entry'!K110 = \"C\",3,IF('Data Entry'!K110 = \"I\",2,IF('Data Entry'!K110 = \"S\",1,\"\"))))","v":""},{"$f":"IF('Data Entry'!M110 = \"D\",4,IF('Data Entry'!M110 = \"C\",3,IF('Data Entry'!M110 = \"I\",2,IF('Data Entry'!M110 = \"S\",1,\"\"))))","v":""},{"$f":"IF('Data Entry'!O110 = \"D\",4,IF('Data Entry'!O110 = \"C\",3,IF('Data Entry'!O110 = \"I\",2,IF('Data Entry'!O110 = \"S\",1,\"\"))))","v":""},{"$f":"IF('Data Entry'!Q110 = \"D\",4,IF('Data Entry'!Q110 = \"C\",3,IF('Data Entry'!Q110 = \"I\",2,IF('Data Entry'!Q110 = \"S\",1,\"\"))))","v":""},{"$f":"IF('Data Entry'!S110 = \"D\",4,IF('Data Entry'!S110 = \"C\",3,IF('Data Entry'!S110 = \"I\",2,IF('Data Entry'!S110 = \"S\",1,\"\"))))","v":""},{"$f":"IF('Data Entry'!U110 = \"D\",4,IF('Data Entry'!U110 = \"C\",3,IF('Data Entry'!U110 = \"I\",2,IF('Data Entry'!U110 = \"S\",1,\"\"))))","v":""},{"$f":"IF('Data Entry'!W110 = \"D\",4,IF('Data Entry'!W110 = \"C\",3,IF('Data Entry'!W110 = \"I\",2,IF('Data Entry'!W110 = \"S\",1,\"\"))))","v":""},{"$f":"IF('Data Entry'!E155 = \"D\",4,IF('Data Entry'!E155 = \"C\",3,IF('Data Entry'!E155 = \"I\",2,IF('Data Entry'!E155 = \"S\",1,\"\"))))","v":""},{"$f":"IF('Data Entry'!G155 = \"D\",4,IF('Data Entry'!G155 = \"C\",3,IF('Data Entry'!G155 = \"I\",2,IF('Data Entry'!G155 = \"S\",1,\"\"))))","v":""},{"$f":"IF('Data Entry'!I155 = \"D\",4,IF('Data Entry'!I155 = \"C\",3,IF('Data Entry'!I155 = \"I\",2,IF('Data Entry'!I155 = \"S\",1,\"\"))))","v":""},{"$f":"IF('Data Entry'!K155 = \"D\",4,IF('Data Entry'!K155 = \"C\",3,IF('Data Entry'!K155 = \"I\",2,IF('Data Entry'!K155 = \"S\",1,\"\"))))","v":""},{"$f":"IF('Data Entry'!M155 = \"D\",4,IF('Data Entry'!M155 = \"C\",3,IF('Data Entry'!M155 = \"I\",2,IF('Data Entry'!M155 = \"S\",1,\"\"))))","v":""},{"$f":"IF('Data Entry'!O155 = \"D\",4,IF('Data Entry'!O155 = \"C\",3,IF('Data Entry'!O155 = \"I\",2,IF('Data Entry'!O155 = \"S\",1,\"\"))))","v":""},{"$f":"IF('Data Entry'!Q155 = \"D\",4,IF('Data Entry'!Q155 = \"C\",3,IF('Data Entry'!Q155 = \"I\",2,IF('Data Entry'!Q155 = \"S\",1,\"\"))))","v":""},{"$f":"IF('Data Entry'!S155 = \"D\",4,IF('Data Entry'!S155 = \"C\",3,IF('Data Entry'!S155 = \"I\",2,IF('Data Entry'!S155 = \"S\",1,\"\"))))","v":""},{"$f":"IF('Data Entry'!U155 = \"D\",4,IF('Data Entry'!U155 = \"C\",3,IF('Data Entry'!U155 = \"I\",2,IF('Data Entry'!U155 = \"S\",1,\"\"))))","v":""},{"$f":"IF('Data Entry'!W155 = \"D\",4,IF('Data Entry'!W155 = \"C\",3,IF('Data Entry'!W155 = \"I\",2,IF('Data Entry'!W155 = \"S\",1,\"\"))))","v":""},{"$f":"IF('Data Entry'!E200 = \"D\",4,IF('Data Entry'!E200 = \"C\",3,IF('Data Entry'!E200 = \"I\",2,IF('Data Entry'!E200 = \"S\",1,\"\"))))","v":""},{"$f":"IF('Data Entry'!G200 = \"D\",4,IF('Data Entry'!G200 = \"C\",3,IF('Data Entry'!G200 = \"I\",2,IF('Data Entry'!G200 = \"S\",1,\"\"))))","v":""},{"$f":"IF('Data Entry'!I200 = \"D\",4,IF('Data Entry'!I200 = \"C\",3,IF('Data Entry'!I200 = \"I\",2,IF('Data Entry'!I200 = \"S\",1,\"\"))))","v":""},{"$f":"IF('Data Entry'!K200 = \"D\",4,IF('Data Entry'!K200 = \"C\",3,IF('Data Entry'!K200 = \"I\",2,IF('Data Entry'!K200 = \"S\",1,\"\"))))","v":""},{"$f":"IF('Data Entry'!M200 = \"D\",4,IF('Data Entry'!M200 = \"C\",3,IF('Data Entry'!M200 = \"I\",2,IF('Data Entry'!M200 = \"S\",1,\"\"))))","v":""},{"$f":"IF('Data Entry'!O200 = \"D\",4,IF('Data Entry'!O200 = \"C\",3,IF('Data Entry'!O200 = \"I\",2,IF('Data Entry'!O200 = \"S\",1,\"\"))))","v":""},{"$f":"IF('Data Entry'!Q200 = \"D\",4,IF('Data Entry'!Q200 = \"C\",3,IF('Data Entry'!Q200 = \"I\",2,IF('Data Entry'!Q200 = \"S\",1,\"\"))))","v":""},{"$f":"IF('Data Entry'!S200 = \"D\",4,IF('Data Entry'!S200 = \"C\",3,IF('Data Entry'!S200 = \"I\",2,IF('Data Entry'!S200 = \"S\",1,\"\"))))","v":""},{"$f":"IF('Data Entry'!U200 = \"D\",4,IF('Data Entry'!U200 = \"C\",3,IF('Data Entry'!U200 = \"I\",2,IF('Data Entry'!U200 = \"S\",1,\"\"))))","v":""},{"$f":"IF('Data Entry'!W200 = \"D\",4,IF('Data Entry'!W200 = \"C\",3,IF('Data Entry'!W200 = \"I\",2,IF('Data Entry'!W200 = \"S\",1,\"\"))))","v":""}]
[{"$nulls":3},{"$f":"IF('Data Entry'!C21<>\"\",'Data Entry'!C21,\"\")","v":""},{"$f":"IF(D44<>\"\",AVERAGE(N44:BK44),\"\")","v":""},"",{"$f":"IF(D44<>\"\",MEDIAN(N44:BK44),\"\")","v":""},"",{"$f":"IF(D44<>\"\",MIN(N44:BK44),\"\")","v":""},{"$f":"IF(D44<>\"\",MAX(N44:BK44),\"\")","v":""},{"$f":"IF(D44<>\"\",_xlfn.STDEV.S(N44:BK44)*$P$1,\"\")","v":""},null,{"$f":"IF(K44<>\"\",K44/E44,\"\")","v":""},{"$f":"IF('Data Entry'!E21 = \"D\",4,IF('Data Entry'!E21 = \"C\",3,IF('Data Entry'!E21 = \"I\",2,IF('Data Entry'!E21 = \"S\",1,\"\"))))","v":""},{"$f":"IF('Data Entry'!G21 = \"D\",4,IF('Data Entry'!G21 = \"C\",3,IF('Data Entry'!G21 = \"I\",2,IF('Data Entry'!G21 = \"S\",1,\"\"))))","v":""},{"$f":"IF('Data Entry'!I21 = \"D\",4,IF('Data Entry'!I21 = \"C\",3,IF('Data Entry'!I21 = \"I\",2,IF('Data Entry'!I21 = \"S\",1,\"\"))))","v":""},{"$f":"IF('Data Entry'!K21 = \"D\",4,IF('Data Entry'!K21 = \"C\",3,IF('Data Entry'!K21 = \"I\",2,IF('Data Entry'!K21 = \"S\",1,\"\"))))","v":""},{"$f":"IF('Data Entry'!M21 = \"D\",4,IF('Data Entry'!M21 = \"C\",3,IF('Data Entry'!M21 = \"I\",2,IF('Data Entry'!M21 = \"S\",1,\"\"))))","v":""},{"$f":"IF('Data Entry'!O21 = \"D\",4,IF('Data Entry'!O21 = \"C\",3,IF('Data Entry'!O21 = \"I\",2,IF('Data Entry'!O21 = \"S\",1,\"\"))))","v":""},{"$f":"IF('Data Entry'!Q21 = \"D\",4,IF('Data Entry'!Q21 = \"C\",3,IF('Data Entry'!Q21 = \"I\",2,IF('Data Entry'!Q21 = \"S\",1,\"\"))))","v":""},{"$f":"IF('Data Entry'!S21 = \"D\",4,IF('Data Entry'!S21 = \"C\",3,IF('Data Entry'!S21 = \"I\",2,IF('Data Entry'!S21 = \"S\",1,\"\"))))","v":""},{"$f":"IF('Data Entry'!U21 = \"D\",4,IF('Data Entry'!U21 = \"C\",3,IF('Data Entry'!U21 = \"I\",2,IF('Data Entry'!U21 = \"S\",1,\"\"))))","v":""},{"$f":"IF('Data Entry'!W21 = \"D\",4,IF('Data Entry'!W21 = \"C\",3,IF('Data Entry'!W21 = \"I\",2,IF('Data Entry'!W21 = \"S\",1,\"\"))))","v":""},{"$f":"IF('Data Entry'!E66 = \"D\",4,IF('Data Entry'!E66 = \"C\",3,IF('Data Entry'!E66 = \"I\",2,IF('Data Entry'!E66 = \"S\",1,\"\"))))","v":""},{"$f":"IF('Data Entry'!G66 = \"D\",4,IF('Data Entry'!G66 = \"C\",3,IF('Data Entry'!G66 = \"I\",2,IF('Data Entry'!G66 = \"S\",1,\"\"))))","v":""},{"$f":"IF('Data Entry'!I66 = \"D\",4,IF('Data Entry'!I66 = \"C\",3,IF('Data Entry'!I66 = \"I\",2,IF('Data Entry'!I66 = \"S\",1,\"\"))))","v":""},{"$f":"IF('Data Entry'!K66 = \"D\",4,IF('Data Entry'!K66 = \"C\",3,IF('Data Entry'!K66 = \"I\",2,IF('Data Entry'!K66 = \"S\",1,\"\"))))","v":""},{"$f":"IF('Data Entry'!M66 = \"D\",4,IF('Data Entry'!M66 = \"C\",3,IF('Data Entry'!M66 = \"I\",2,IF('Data Entry'!M66 = \"S\",1,\"\"))))","v":""},{"$f":"IF('Data Entry'!O66 = \"D\",4,IF('Data Entry'!O66 = \"C\",3,IF('Data Entry'!O66 = \"I\",2,IF('Data Entry'!O66 = \"S\",1,\"\"))))","v":""},{"$f":"IF('Data Entry'!Q66 = \"D\",4,IF('Data Entry'!Q66 = \"C\",3,IF('Data Entry'!Q66 = \"I\",2,IF('Data Entry'!Q66 = \"S\",1,\"\"))))","v":""},{"$f":"IF('Data Entry'!S66 = \"D\",4,IF('Data Entry'!S66 = \"C\",3,IF('Data Entry'!S66 = \"I\",2,IF('Data Entry'!S66 = \"S\",1,\"\"))))","v":""},{"$f":"IF('Data Entry'!U66 = \"D\",4,IF('Data Entry'!U66 = \"C\",3,IF('Data Entry'!U66 = \"I\",2,IF('Data Entry'!U66 = \"S\",1,\"\"))))","v":""},{"$f":"IF('Data Entry'!W66 = \"D\",4,IF('Data Entry'!W66 = \"C\",3,IF('Data Entry'!W66 = \"I\",2,IF('Data Entry'!W66 = \"S\",1,\"\"))))","v":""},{"$f":"IF('Data Entry'!E111 = \"D\",4,IF('Data Entry'!E111 = \"C\",3,IF('Data Entry'!E111 = \"I\",2,IF('Data Entry'!E111 = \"S\",1,\"\"))))","v":""},{"$f":"IF('Data Entry'!G111 = \"D\",4,IF('Data Entry'!G111 = \"C\",3,IF('Data Entry'!G111 = \"I\",2,IF('Data Entry'!G111 = \"S\",1,\"\"))))","v":""},{"$f":"IF('Data Entry'!I111 = \"D\",4,IF('Data Entry'!I111 = \"C\",3,IF('Data Entry'!I111 = \"I\",2,IF('Data Entry'!I111 = \"S\",1,\"\"))))","v":""},{"$f":"IF('Data Entry'!K111 = \"D\",4,IF('Data Entry'!K111 = \"C\",3,IF('Data Entry'!K111 = \"I\",2,IF('Data Entry'!K111 = \"S\",1,\"\"))))","v":""},{"$f":"IF('Data Entry'!M111 = \"D\",4,IF('Data Entry'!M111 = \"C\",3,IF('Data Entry'!M111 = \"I\",2,IF('Data Entry'!M111 = \"S\",1,\"\"))))","v":""},{"$f":"IF('Data Entry'!O111 = \"D\",4,IF('Data Entry'!O111 = \"C\",3,IF('Data Entry'!O111 = \"I\",2,IF('Data Entry'!O111 = \"S\",1,\"\"))))","v":""},{"$f":"IF('Data Entry'!Q111 = \"D\",4,IF('Data Entry'!Q111 = \"C\",3,IF('Data Entry'!Q111 = \"I\",2,IF('Data Entry'!Q111 = \"S\",1,\"\"))))","v":""},{"$f":"IF('Data Entry'!S111 = \"D\",4,IF('Data Entry'!S111 = \"C\",3,IF('Data Entry'!S111 = \"I\",2,IF('Data Entry'!S111 = \"S\",1,\"\"))))","v":""},{"$f":"IF('Data Entry'!U111 = \"D\",4,IF('Data Entry'!U111 = \"C\",3,IF('Data Entry'!U111 = \"I\",2,IF('Data Entry'!U111 = \"S\",1,\"\"))))","v":""},{"$f":"IF('Data Entry'!W111 = \"D\",4,IF('Data Entry'!W111 = \"C\",3,IF('Data Entry'!W111 = \"I\",2,IF('Data Entry'!W111 = \"S\",1,\"\"))))","v":""},{"$f":"IF('Data Entry'!E156 = \"D\",4,IF('Data Entry'!E156 = \"C\",3,IF('Data Entry'!E156 = \"I\",2,IF('Data Entry'!E156 = \"S\",1,\"\"))))","v":""},{"$f":"IF('Data Entry'!G156 = \"D\",4,IF('Data Entry'!G156 = \"C\",3,IF('Data Entry'!G156 = \"I\",2,IF('Data Entry'!G156 = \"S\",1,\"\"))))","v":""},{"$f":"IF('Data Entry'!I156 = \"D\",4,IF('Data Entry'!I156 = \"C\",3,IF('Data Entry'!I156 = \"I\",2,IF('Data Entry'!I156 = \"S\",1,\"\"))))","v":""},{"$f":"IF('Data Entry'!K156 = \"D\",4,IF('Data Entry'!K156 = \"C\",3,IF('Data Entry'!K156 = \"I\",2,IF('Data Entry'!K156 = \"S\",1,\"\"))))","v":""},{"$f":"IF('Data Entry'!M156 = \"D\",4,IF('Data Entry'!M156 = \"C\",3,IF('Data Entry'!M156 = \"I\",2,IF('Data Entry'!M156 = \"S\",1,\"\"))))","v":""},{"$f":"IF('Data Entry'!O156 = \"D\",4,IF('Data Entry'!O156 = \"C\",3,IF('Data Entry'!O156 = \"I\",2,IF('Data Entry'!O156 = \"S\",1,\"\"))))","v":""},{"$f":"IF('Data Entry'!Q156 = \"D\",4,IF('Data Entry'!Q156 = \"C\",3,IF('Data Entry'!Q156 = \"I\",2,IF('Data Entry'!Q156 = \"S\",1,\"\"))))","v":""},{"$f":"IF('Data Entry'!S156 = \"D\",4,IF('Data Entry'!S156 = \"C\",3,IF('Data Entry'!S156 = \"I\",2,IF('Data Entry'!S156 = \"S\",1,\"\"))))","v":""},{"$f":"IF('Data Entry'!U156 = \"D\",4,IF('Data Entry'!U156 = \"C\",3,IF('Data Entry'!U156 = \"I\",2,IF('Data Entry'!U156 = \"S\",1,\"\"))))","v":""},{"$f":"IF('Data Entry'!W156 = \"D\",4,IF('Data Entry'!W156 = \"C\",3,IF('Data Entry'!W156 = \"I\",2,IF('Data Entry'!W156 = \"S\",1,\"\"))))","v":""},{"$f":"IF('Data Entry'!E201 = \"D\",4,IF('Data Entry'!E201 = \"C\",3,IF('Data Entry'!E201 = \"I\",2,IF('Data Entry'!E201 = \"S\",1,\"\"))))","v":""},{"$f":"IF('Data Entry'!G201 = \"D\",4,IF('Data Entry'!G201 = \"C\",3,IF('Data Entry'!G201 = \"I\",2,IF('Data Entry'!G201 = \"S\",1,\"\"))))","v":""},{"$f":"IF('Data Entry'!I201 = \"D\",4,IF('Data Entry'!I201 = \"C\",3,IF('Data Entry'!I201 = \"I\",2,IF('Data Entry'!I201 = \"S\",1,\"\"))))","v":""},{"$f":"IF('Data Entry'!K201 = \"D\",4,IF('Data Entry'!K201 = \"C\",3,IF('Data Entry'!K201 = \"I\",2,IF('Data Entry'!K201 = \"S\",1,\"\"))))","v":""},{"$f":"IF('Data Entry'!M201 = \"D\",4,IF('Data Entry'!M201 = \"C\",3,IF('Data Entry'!M201 = \"I\",2,IF('Data Entry'!M201 = \"S\",1,\"\"))))","v":""},{"$f":"IF('Data Entry'!O201 = \"D\",4,IF('Data Entry'!O201 = \"C\",3,IF('Data Entry'!O201 = \"I\",2,IF('Data Entry'!O201 = \"S\",1,\"\"))))","v":""},{"$f":"IF('Data Entry'!Q201 = \"D\",4,IF('Data Entry'!Q201 = \"C\",3,IF('Data Entry'!Q201 = \"I\",2,IF('Data Entry'!Q201 = \"S\",1,\"\"))))","v":""},{"$f":"IF('Data Entry'!S201 = \"D\",4,IF('Data Entry'!S201 = \"C\",3,IF('Data Entry'!S201 = \"I\",2,IF('Data Entry'!S201 = \"S\",1,\"\"))))","v":""},{"$f":"IF('Data Entry'!U201 = \"D\",4,IF('Data Entry'!U201 = \"C\",3,IF('Data Entry'!U201 = \"I\",2,IF('Data Entry'!U201 = \"S\",1,\"\"))))","v":""},{"$f":"IF('Data Entry'!W201 = \"D\",4,IF('Data Entry'!W201 = \"C\",3,IF('Data Entry'!W201 = \"I\",2,IF('Data Entry'!W201 = \"S\",1,\"\"))))","v":""}]
[{"$nulls":3},{"$f":"IF('Data Entry'!C22<>\"\",'Data Entry'!C22,\"\")","v":""},{"$f":"IF(D45<>\"\",AVERAGE(N45:BK45),\"\")","v":""},"",{"$f":"IF(D45<>\"\",MEDIAN(N45:BK45),\"\")","v":""},"",{"$f":"IF(D45<>\"\",MIN(N45:BK45),\"\")","v":""},{"$f":"IF(D45<>\"\",MAX(N45:BK45),\"\")","v":""},{"$f":"IF(D45<>\"\",_xlfn.STDEV.S(N45:BK45)*$P$1,\"\")","v":""},null,"",{"$f":"IF('Data Entry'!E22 = \"D\",4,IF('Data Entry'!E22 = \"C\",3,IF('Data Entry'!E22 = \"I\",2,IF('Data Entry'!E22 = \"S\",1,\"\"))))","v":""},{"$f":"IF('Data Entry'!G22 = \"D\",4,IF('Data Entry'!G22 = \"C\",3,IF('Data Entry'!G22 = \"I\",2,IF('Data Entry'!G22 = \"S\",1,\"\"))))","v":""},{"$f":"IF('Data Entry'!I22 = \"D\",4,IF('Data Entry'!I22 = \"C\",3,IF('Data Entry'!I22 = \"I\",2,IF('Data Entry'!I22 = \"S\",1,\"\"))))","v":""},{"$f":"IF('Data Entry'!K22 = \"D\",4,IF('Data Entry'!K22 = \"C\",3,IF('Data Entry'!K22 = \"I\",2,IF('Data Entry'!K22 = \"S\",1,\"\"))))","v":""},{"$f":"IF('Data Entry'!M22 = \"D\",4,IF('Data Entry'!M22 = \"C\",3,IF('Data Entry'!M22 = \"I\",2,IF('Data Entry'!M22 = \"S\",1,\"\"))))","v":""},{"$f":"IF('Data Entry'!O22 = \"D\",4,IF('Data Entry'!O22 = \"C\",3,IF('Data Entry'!O22 = \"I\",2,IF('Data Entry'!O22 = \"S\",1,\"\"))))","v":""},{"$f":"IF('Data Entry'!Q22 = \"D\",4,IF('Data Entry'!Q22 = \"C\",3,IF('Data Entry'!Q22 = \"I\",2,IF('Data Entry'!Q22 = \"S\",1,\"\"))))","v":""},{"$f":"IF('Data Entry'!S22 = \"D\",4,IF('Data Entry'!S22 = \"C\",3,IF('Data Entry'!S22 = \"I\",2,IF('Data Entry'!S22 = \"S\",1,\"\"))))","v":""},{"$f":"IF('Data Entry'!U22 = \"D\",4,IF('Data Entry'!U22 = \"C\",3,IF('Data Entry'!U22 = \"I\",2,IF('Data Entry'!U22 = \"S\",1,\"\"))))","v":""},{"$f":"IF('Data Entry'!W22 = \"D\",4,IF('Data Entry'!W22 = \"C\",3,IF('Data Entry'!W22 = \"I\",2,IF('Data Entry'!W22 = \"S\",1,\"\"))))","v":""},{"$f":"IF('Data Entry'!E67 = \"D\",4,IF('Data Entry'!E67 = \"C\",3,IF('Data Entry'!E67 = \"I\",2,IF('Data Entry'!E67 = \"S\",1,\"\"))))","v":""},{"$f":"IF('Data Entry'!G67 = \"D\",4,IF('Data Entry'!G67 = \"C\",3,IF('Data Entry'!G67 = \"I\",2,IF('Data Entry'!G67 = \"S\",1,\"\"))))","v":""},{"$f":"IF('Data Entry'!I67 = \"D\",4,IF('Data Entry'!I67 = \"C\",3,IF('Data Entry'!I67 = \"I\",2,IF('Data Entry'!I67 = \"S\",1,\"\"))))","v":""},{"$f":"IF('Data Entry'!K67 = \"D\",4,IF('Data Entry'!K67 = \"C\",3,IF('Data Entry'!K67 = \"I\",2,IF('Data Entry'!K67 = \"S\",1,\"\"))))","v":""},{"$f":"IF('Data Entry'!M67 = \"D\",4,IF('Data Entry'!M67 = \"C\",3,IF('Data Entry'!M67 = \"I\",2,IF('Data Entry'!M67 = \"S\",1,\"\"))))","v":""},{"$f":"IF('Data Entry'!O67 = \"D\",4,IF('Data Entry'!O67 = \"C\",3,IF('Data Entry'!O67 = \"I\",2,IF('Data Entry'!O67 = \"S\",1,\"\"))))","v":""},{"$f":"IF('Data Entry'!Q67 = \"D\",4,IF('Data Entry'!Q67 = \"C\",3,IF('Data Entry'!Q67 = \"I\",2,IF('Data Entry'!Q67 = \"S\",1,\"\"))))","v":""},{"$f":"IF('Data Entry'!S67 = \"D\",4,IF('Data Entry'!S67 = \"C\",3,IF('Data Entry'!S67 = \"I\",2,IF('Data Entry'!S67 = \"S\",1,\"\"))))","v":""},{"$f":"IF('Data Entry'!U67 = \"D\",4,IF('Data Entry'!U67 = \"C\",3,IF('Data Entry'!U67 = \"I\",2,IF('Data Entry'!U67 = \"S\",1,\"\"))))","v":""},{"$f":"IF('Data Entry'!W67 = \"D\",4,IF('Data Entry'!W67 = \"C\",3,IF('Data Entry'!W67 = \"I\",2,IF('Data Entry'!W67 = \"S\",1,\"\"))))","v":""},{"$f":"IF('Data Entry'!E112 = \"D\",4,IF('Data Entry'!E112 = \"C\",3,IF('Data Entry'!E112 = \"I\",2,IF('Data Entry'!E112 = \"S\",1,\"\"))))","v":""},{"$f":"IF('Data Entry'!G112 = \"D\",4,IF('Data Entry'!G112 = \"C\",3,IF('Data Entry'!G112 = \"I\",2,IF('Data Entry'!G112 = \"S\",1,\"\"))))","v":""},{"$f":"IF('Data Entry'!I112 = \"D\",4,IF('Data Entry'!I112 = \"C\",3,IF('Data Entry'!I112 = \"I\",2,IF('Data Entry'!I112 = \"S\",1,\"\"))))","v":""},{"$f":"IF('Data Entry'!K112 = \"D\",4,IF('Data Entry'!K112 = \"C\",3,IF('Data Entry'!K112 = \"I\",2,IF('Data Entry'!K112 = \"S\",1,\"\"))))","v":""},{"$f":"IF('Data Entry'!M112 = \"D\",4,IF('Data Entry'!M112 = \"C\",3,IF('Data Entry'!M112 = \"I\",2,IF('Data Entry'!M112 = \"S\",1,\"\"))))","v":""},{"$f":"IF('Data Entry'!O112 = \"D\",4,IF('Data Entry'!O112 = \"C\",3,IF('Data Entry'!O112 = \"I\",2,IF('Data Entry'!O112 = \"S\",1,\"\"))))","v":""},{"$f":"IF('Data Entry'!Q112 = \"D\",4,IF('Data Entry'!Q112 = \"C\",3,IF('Data Entry'!Q112 = \"I\",2,IF('Data Entry'!Q112 = \"S\",1,\"\"))))","v":""},{"$f":"IF('Data Entry'!S112 = \"D\",4,IF('Data Entry'!S112 = \"C\",3,IF('Data Entry'!S112 = \"I\",2,IF('Data Entry'!S112 = \"S\",1,\"\"))))","v":""},{"$f":"IF('Data Entry'!U112 = \"D\",4,IF('Data Entry'!U112 = \"C\",3,IF('Data Entry'!U112 = \"I\",2,IF('Data Entry'!U112 = \"S\",1,\"\"))))","v":""},{"$f":"IF('Data Entry'!W112 = \"D\",4,IF('Data Entry'!W112 = \"C\",3,IF('Data Entry'!W112 = \"I\",2,IF('Data Entry'!W112 = \"S\",1,\"\"))))","v":""},{"$f":"IF('Data Entry'!E157 = \"D\",4,IF('Data Entry'!E157 = \"C\",3,IF('Data Entry'!E157 = \"I\",2,IF('Data Entry'!E157 = \"S\",1,\"\"))))","v":""},{"$f":"IF('Data Entry'!G157 = \"D\",4,IF('Data Entry'!G157 = \"C\",3,IF('Data Entry'!G157 = \"I\",2,IF('Data Entry'!G157 = \"S\",1,\"\"))))","v":""},{"$f":"IF('Data Entry'!I157 = \"D\",4,IF('Data Entry'!I157 = \"C\",3,IF('Data Entry'!I157 = \"I\",2,IF('Data Entry'!I157 = \"S\",1,\"\"))))","v":""},{"$f":"IF('Data Entry'!K157 = \"D\",4,IF('Data Entry'!K157 = \"C\",3,IF('Data Entry'!K157 = \"I\",2,IF('Data Entry'!K157 = \"S\",1,\"\"))))","v":""},{"$f":"IF('Data Entry'!M157 = \"D\",4,IF('Data Entry'!M157 = \"C\",3,IF('Data Entry'!M157 = \"I\",2,IF('Data Entry'!M157 = \"S\",1,\"\"))))","v":""},{"$f":"IF('Data Entry'!O157 = \"D\",4,IF('Data Entry'!O157 = \"C\",3,IF('Data Entry'!O157 = \"I\",2,IF('Data Entry'!O157 = \"S\",1,\"\"))))","v":""},{"$f":"IF('Data Entry'!Q157 = \"D\",4,IF('Data Entry'!Q157 = \"C\",3,IF('Data Entry'!Q157 = \"I\",2,IF('Data Entry'!Q157 = \"S\",1,\"\"))))","v":""},{"$f":"IF('Data Entry'!S157 = \"D\",4,IF('Data Entry'!S157 = \"C\",3,IF('Data Entry'!S157 = \"I\",2,IF('Data Entry'!S157 = \"S\",1,\"\"))))","v":""},{"$f":"IF('Data Entry'!U157 = \"D\",4,IF('Data Entry'!U157 = \"C\",3,IF('Data Entry'!U157 = \"I\",2,IF('Data Entry'!U157 = \"S\",1,\"\"))))","v":""},{"$f":"IF('Data Entry'!W157 = \"D\",4,IF('Data Entry'!W157 = \"C\",3,IF('Data Entry'!W157 = \"I\",2,IF('Data Entry'!W157 = \"S\",1,\"\"))))","v":""},{"$f":"IF('Data Entry'!E202 = \"D\",4,IF('Data Entry'!E202 = \"C\",3,IF('Data Entry'!E202 = \"I\",2,IF('Data Entry'!E202 = \"S\",1,\"\"))))","v":""},{"$f":"IF('Data Entry'!G202 = \"D\",4,IF('Data Entry'!G202 = \"C\",3,IF('Data Entry'!G202 = \"I\",2,IF('Data Entry'!G202 = \"S\",1,\"\"))))","v":""},{"$f":"IF('Data Entry'!I202 = \"D\",4,IF('Data Entry'!I202 = \"C\",3,IF('Data Entry'!I202 = \"I\",2,IF('Data Entry'!I202 = \"S\",1,\"\"))))","v":""},{"$f":"IF('Data Entry'!K202 = \"D\",4,IF('Data Entry'!K202 = \"C\",3,IF('Data Entry'!K202 = \"I\",2,IF('Data Entry'!K202 = \"S\",1,\"\"))))","v":""},{"$f":"IF('Data Entry'!M202 = \"D\",4,IF('Data Entry'!M202 = \"C\",3,IF('Data Entry'!M202 = \"I\",2,IF('Data Entry'!M202 = \"S\",1,\"\"))))","v":""},{"$f":"IF('Data Entry'!O202 = \"D\",4,IF('Data Entry'!O202 = \"C\",3,IF('Data Entry'!O202 = \"I\",2,IF('Data Entry'!O202 = \"S\",1,\"\"))))","v":""},{"$f":"IF('Data Entry'!Q202 = \"D\",4,IF('Data Entry'!Q202 = \"C\",3,IF('Data Entry'!Q202 = \"I\",2,IF('Data Entry'!Q202 = \"S\",1,\"\"))))","v":""},{"$f":"IF('Data Entry'!S202 = \"D\",4,IF('Data Entry'!S202 = \"C\",3,IF('Data Entry'!S202 = \"I\",2,IF('Data Entry'!S202 = \"S\",1,\"\"))))","v":""},{"$f":"IF('Data Entry'!U202 = \"D\",4,IF('Data Entry'!U202 = \"C\",3,IF('Data Entry'!U202 = \"I\",2,IF('Data Entry'!U202 = \"S\",1,\"\"))))","v":""},{"$f":"IF('Data Entry'!W202 = \"D\",4,IF('Data Entry'!W202 = \"C\",3,IF('Data Entry'!W202 = \"I\",2,IF('Data Entry'!W202 = \"S\",1,\"\"))))","v":""}]
[{"$nulls":3},{"$f":"IF('Data Entry'!C23<>\"\",'Data Entry'!C23,\"\")","v":""},"","","","","","","",null,"",{"$f":"IF('Data Entry'!E23 = \"D\",4,IF('Data Entry'!E23 = \"C\",3,IF('Data Entry'!E23 = \"I\",2,IF('Data Entry'!E23 = \"S\",1,\"\"))))","v":""},{"$f":"IF('Data Entry'!G23 = \"D\",4,IF('Data Entry'!G23 = \"C\",3,IF('Data Entry'!G23 = \"I\",2,IF('Data Entry'!G23 = \"S\",1,\"\"))))","v":""},{"$f":"IF('Data Entry'!I23 = \"D\",4,IF('Data Entry'!I23 = \"C\",3,IF('Data Entry'!I23 = \"I\",2,IF('Data Entry'!I23 = \"S\",1,\"\"))))","v":""},{"$f":"IF('Data Entry'!K23 = \"D\",4,IF('Data Entry'!K23 = \"C\",3,IF('Data Entry'!K23 = \"I\",2,IF('Data Entry'!K23 = \"S\",1,\"\"))))","v":""},{"$f":"IF('Data Entry'!M23 = \"D\",4,IF('Data Entry'!M23 = \"C\",3,IF('Data Entry'!M23 = \"I\",2,IF('Data Entry'!M23 = \"S\",1,\"\"))))","v":""},{"$f":"IF('Data Entry'!O23 = \"D\",4,IF('Data Entry'!O23 = \"C\",3,IF('Data Entry'!O23 = \"I\",2,IF('Data Entry'!O23 = \"S\",1,\"\"))))","v":""},{"$f":"IF('Data Entry'!Q23 = \"D\",4,IF('Data Entry'!Q23 = \"C\",3,IF('Data Entry'!Q23 = \"I\",2,IF('Data Entry'!Q23 = \"S\",1,\"\"))))","v":""},{"$f":"IF('Data Entry'!S23 = \"D\",4,IF('Data Entry'!S23 = \"C\",3,IF('Data Entry'!S23 = \"I\",2,IF('Data Entry'!S23 = \"S\",1,\"\"))))","v":""},{"$f":"IF('Data Entry'!U23 = \"D\",4,IF('Data Entry'!U23 = \"C\",3,IF('Data Entry'!U23 = \"I\",2,IF('Data Entry'!U23 = \"S\",1,\"\"))))","v":""},{"$f":"IF('Data Entry'!W23 = \"D\",4,IF('Data Entry'!W23 = \"C\",3,IF('Data Entry'!W23 = \"I\",2,IF('Data Entry'!W23 = \"S\",1,\"\"))))","v":""},{"$f":"IF('Data Entry'!E68 = \"D\",4,IF('Data Entry'!E68 = \"C\",3,IF('Data Entry'!E68 = \"I\",2,IF('Data Entry'!E68 = \"S\",1,\"\"))))","v":""},{"$f":"IF('Data Entry'!G68 = \"D\",4,IF('Data Entry'!G68 = \"C\",3,IF('Data Entry'!G68 = \"I\",2,IF('Data Entry'!G68 = \"S\",1,\"\"))))","v":""},{"$f":"IF('Data Entry'!I68 = \"D\",4,IF('Data Entry'!I68 = \"C\",3,IF('Data Entry'!I68 = \"I\",2,IF('Data Entry'!I68 = \"S\",1,\"\"))))","v":""},{"$f":"IF('Data Entry'!K68 = \"D\",4,IF('Data Entry'!K68 = \"C\",3,IF('Data Entry'!K68 = \"I\",2,IF('Data Entry'!K68 = \"S\",1,\"\"))))","v":""},{"$f":"IF('Data Entry'!M68 = \"D\",4,IF('Data Entry'!M68 = \"C\",3,IF('Data Entry'!M68 = \"I\",2,IF('Data Entry'!M68 = \"S\",1,\"\"))))","v":""},{"$f":"IF('Data Entry'!O68 = \"D\",4,IF('Data Entry'!O68 = \"C\",3,IF('Data Entry'!O68 = \"I\",2,IF('Data Entry'!O68 = \"S\",1,\"\"))))","v":""},{"$f":"IF('Data Entry'!Q68 = \"D\",4,IF('Data Entry'!Q68 = \"C\",3,IF('Data Entry'!Q68 = \"I\",2,IF('Data Entry'!Q68 = \"S\",1,\"\"))))","v":""},{"$f":"IF('Data Entry'!S68 = \"D\",4,IF('Data Entry'!S68 = \"C\",3,IF('Data Entry'!S68 = \"I\",2,IF('Data Entry'!S68 = \"S\",1,\"\"))))","v":""},{"$f":"IF('Data Entry'!U68 = \"D\",4,IF('Data Entry'!U68 = \"C\",3,IF('Data Entry'!U68 = \"I\",2,IF('Data Entry'!U68 = \"S\",1,\"\"))))","v":""},{"$f":"IF('Data Entry'!W68 = \"D\",4,IF('Data Entry'!W68 = \"C\",3,IF('Data Entry'!W68 = \"I\",2,IF('Data Entry'!W68 = \"S\",1,\"\"))))","v":""},{"$f":"IF('Data Entry'!E113 = \"D\",4,IF('Data Entry'!E113 = \"C\",3,IF('Data Entry'!E113 = \"I\",2,IF('Data Entry'!E113 = \"S\",1,\"\"))))","v":""},{"$f":"IF('Data Entry'!G113 = \"D\",4,IF('Data Entry'!G113 = \"C\",3,IF('Data Entry'!G113 = \"I\",2,IF('Data Entry'!G113 = \"S\",1,\"\"))))","v":""},{"$f":"IF('Data Entry'!I113 = \"D\",4,IF('Data Entry'!I113 = \"C\",3,IF('Data Entry'!I113 = \"I\",2,IF('Data Entry'!I113 = \"S\",1,\"\"))))","v":""},{"$f":"IF('Data Entry'!K113 = \"D\",4,IF('Data Entry'!K113 = \"C\",3,IF('Data Entry'!K113 = \"I\",2,IF('Data Entry'!K113 = \"S\",1,\"\"))))","v":""},{"$f":"IF('Data Entry'!M113 = \"D\",4,IF('Data Entry'!M113 = \"C\",3,IF('Data Entry'!M113 = \"I\",2,IF('Data Entry'!M113 = \"S\",1,\"\"))))","v":""},{"$f":"IF('Data Entry'!O113 = \"D\",4,IF('Data Entry'!O113 = \"C\",3,IF('Data Entry'!O113 = \"I\",2,IF('Data Entry'!O113 = \"S\",1,\"\"))))","v":""},{"$f":"IF('Data Entry'!Q113 = \"D\",4,IF('Data Entry'!Q113 = \"C\",3,IF('Data Entry'!Q113 = \"I\",2,IF('Data Entry'!Q113 = \"S\",1,\"\"))))","v":""},{"$f":"IF('Data Entry'!S113 = \"D\",4,IF('Data Entry'!S113 = \"C\",3,IF('Data Entry'!S113 = \"I\",2,IF('Data Entry'!S113 = \"S\",1,\"\"))))","v":""},{"$f":"IF('Data Entry'!U113 = \"D\",4,IF('Data Entry'!U113 = \"C\",3,IF('Data Entry'!U113 = \"I\",2,IF('Data Entry'!U113 = \"S\",1,\"\"))))","v":""},{"$f":"IF('Data Entry'!W113 = \"D\",4,IF('Data Entry'!W113 = \"C\",3,IF('Data Entry'!W113 = \"I\",2,IF('Data Entry'!W113 = \"S\",1,\"\"))))","v":""},{"$f":"IF('Data Entry'!E158 = \"D\",4,IF('Data Entry'!E158 = \"C\",3,IF('Data Entry'!E158 = \"I\",2,IF('Data Entry'!E158 = \"S\",1,\"\"))))","v":""},{"$f":"IF('Data Entry'!G158 = \"D\",4,IF('Data Entry'!G158 = \"C\",3,IF('Data Entry'!G158 = \"I\",2,IF('Data Entry'!G158 = \"S\",1,\"\"))))","v":""},{"$f":"IF('Data Entry'!I158 = \"D\",4,IF('Data Entry'!I158 = \"C\",3,IF('Data Entry'!I158 = \"I\",2,IF('Data Entry'!I158 = \"S\",1,\"\"))))","v":""},{"$f":"IF('Data Entry'!K158 = \"D\",4,IF('Data Entry'!K158 = \"C\",3,IF('Data Entry'!K158 = \"I\",2,IF('Data Entry'!K158 = \"S\",1,\"\"))))","v":""},{"$f":"IF('Data Entry'!M158 = \"D\",4,IF('Data Entry'!M158 = \"C\",3,IF('Data Entry'!M158 = \"I\",2,IF('Data Entry'!M158 = \"S\",1,\"\"))))","v":""},{"$f":"IF('Data Entry'!O158 = \"D\",4,IF('Data Entry'!O158 = \"C\",3,IF('Data Entry'!O158 = \"I\",2,IF('Data Entry'!O158 = \"S\",1,\"\"))))","v":""},{"$f":"IF('Data Entry'!Q158 = \"D\",4,IF('Data Entry'!Q158 = \"C\",3,IF('Data Entry'!Q158 = \"I\",2,IF('Data Entry'!Q158 = \"S\",1,\"\"))))","v":""},{"$f":"IF('Data Entry'!S158 = \"D\",4,IF('Data Entry'!S158 = \"C\",3,IF('Data Entry'!S158 = \"I\",2,IF('Data Entry'!S158 = \"S\",1,\"\"))))","v":""},{"$f":"IF('Data Entry'!U158 = \"D\",4,IF('Data Entry'!U158 = \"C\",3,IF('Data Entry'!U158 = \"I\",2,IF('Data Entry'!U158 = \"S\",1,\"\"))))","v":""},{"$f":"IF('Data Entry'!W158 = \"D\",4,IF('Data Entry'!W158 = \"C\",3,IF('Data Entry'!W158 = \"I\",2,IF('Data Entry'!W158 = \"S\",1,\"\"))))","v":""},{"$f":"IF('Data Entry'!E203 = \"D\",4,IF('Data Entry'!E203 = \"C\",3,IF('Data Entry'!E203 = \"I\",2,IF('Data Entry'!E203 = \"S\",1,\"\"))))","v":""},{"$f":"IF('Data Entry'!G203 = \"D\",4,IF('Data Entry'!G203 = \"C\",3,IF('Data Entry'!G203 = \"I\",2,IF('Data Entry'!G203 = \"S\",1,\"\"))))","v":""},{"$f":"IF('Data Entry'!I203 = \"D\",4,IF('Data Entry'!I203 = \"C\",3,IF('Data Entry'!I203 = \"I\",2,IF('Data Entry'!I203 = \"S\",1,\"\"))))","v":""},{"$f":"IF('Data Entry'!K203 = \"D\",4,IF('Data Entry'!K203 = \"C\",3,IF('Data Entry'!K203 = \"I\",2,IF('Data Entry'!K203 = \"S\",1,\"\"))))","v":""},{"$f":"IF('Data Entry'!M203 = \"D\",4,IF('Data Entry'!M203 = \"C\",3,IF('Data Entry'!M203 = \"I\",2,IF('Data Entry'!M203 = \"S\",1,\"\"))))","v":""},{"$f":"IF('Data Entry'!O203 = \"D\",4,IF('Data Entry'!O203 = \"C\",3,IF('Data Entry'!O203 = \"I\",2,IF('Data Entry'!O203 = \"S\",1,\"\"))))","v":""},{"$f":"IF('Data Entry'!Q203 = \"D\",4,IF('Data Entry'!Q203 = \"C\",3,IF('Data Entry'!Q203 = \"I\",2,IF('Data Entry'!Q203 = \"S\",1,\"\"))))","v":""},{"$f":"IF('Data Entry'!S203 = \"D\",4,IF('Data Entry'!S203 = \"C\",3,IF('Data Entry'!S203 = \"I\",2,IF('Data Entry'!S203 = \"S\",1,\"\"))))","v":""},{"$f":"IF('Data Entry'!U203 = \"D\",4,IF('Data Entry'!U203 = \"C\",3,IF('Data Entry'!U203 = \"I\",2,IF('Data Entry'!U203 = \"S\",1,\"\"))))","v":""},{"$f":"IF('Data Entry'!W203 = \"D\",4,IF('Data Entry'!W203 = \"C\",3,IF('Data Entry'!W203 = \"I\",2,IF('Data Entry'!W203 = \"S\",1,\"\"))))","v":""}]
[{"$nulls":3},"Overall",{"$f":"SUM(N47:BK47)","v":0},{"$f":"IF(E47<>0,AVERAGE(N47:BK47)*$P$1,\"\")","v":""},{"$f":"IF(SUM(G30:G46)<>0,SUM(G30:G46),\"\")","v":""},null,{"$f":"IF(COUNT(N47:BK47)<>0,MIN(N47:BK47),\"\")","v":""},{"$f":"IF(COUNT(N47:BK47)<>0,MAX(N47:BK47),\"\")","v":""},{"$f":"IF(COUNT(N47:BK47)<>0,_xlfn.STDEV.S(N47:BK47)*$P$1,\"\")","v":""},null,{"$f":"IF(K47<>\"\",K47/E47,\"\")","v":""},{"$f":"IF(SUM(N30:N46)<>0,SUM(N30:N46),\"\")","v":""},{"$f":"IF(SUM(O30:O46)<>0,SUM(O30:O46),\"\")","v":""},"","","","","","","","","","","","","","","","","","","","","","","",{"$f":"IF(SUM(AM30:AM46)<>0,SUM(AM30:AM46),\"\")","v":""},{"$f":"IF(SUM(AN30:AN46)<>0,SUM(AN30:AN46),\"\")","v":""},{"$f":"IF(SUM(AO30:AO46)<>0,SUM(AO30:AO46),\"\")","v":""},{"$f":"IF(SUM(AP30:AP46)<>0,SUM(AP30:AP46),\"\")","v":""},{"$f":"IF(SUM(AQ30:AQ46)<>0,SUM(AQ30:AQ46),\"\")","v":""},"",{"$f":"IF(SUM(AS30:AS46)<>0,SUM(AS30:AS46),\"\")","v":""},"","","","","","","","","",{"$f":"IF(SUM(BC30:BC46)<>0,SUM(BC30:BC46),\"\")","v":""},"","","","","","","",""]

{"sheet":"REGENERATION CALC","index":7,"n_rows":47,"n_cols":64,"rows_kept":47,"hidden":true,"merged":[[0,1,0,2],[0,3,0,6],[0,7,0,8],[0,9,0,10],[0,11,0,14],[0,15,0,16],[0,17,0,20],[0,21,0,22],[1,1,1,2],[1,3,1,4],[1,7,1,8],[1,9,1,10],[1,11,1,14],[1,15,1,16],[1,17,1,20],[1,21,1,22],[2,1,2,2],[2,3,2,4],[2,5,2,8],[2,9,2,10],[2,17,2,20],[2,21,2,22],[4,1,4,63],[5,1,23,1],[27,2,27,62],[28,2,46,2]]}
[null,"Tract # / Stand ID:",null,{"$f":"'Data Entry'!$D$1","v":0},{"$nulls":3},"Date:",null,{"$f":"'Data Entry'!$J$1","v":"00:00:00"},null,"Prism Factor:",{"$nulls":3},{"$f":"'Data Entry'!$P$1","v":0},null,"Fixed Plot Radius:",{"$nulls":3},{"$f":"'Data Entry'!$V$1","v":0}]
[null,"SI Species:",null,{"$f":"'Data Entry'!D2","v":0},{"$nulls":3},"Stand Age:",null,{"$f":"'Data Entry'!$J$2","v":0},null,"Site Index (base age 50):",{"$nulls":3},{"$f":"'Data Entry'!$P$2","v":0},null,"Number of Plots:",{"$nulls":3},{"$f":"'Data Entry'!$V$2","v":0}]
[null,"Estimated DBH:",null,{"$f":"'Data Entry'!D3","v":0},{"$nulls":13},"Planting Density:",{"$nulls":3},{"$f":"'Data Entry'!$V$3","v":0}]
[]
[null,"Stems per Acre"]
[null,"Regeneration","Species","SUM","TPA3","% of Total",null,null,"Plot Size",null,"Minimum","Maximum","SD1","CV2",1,2,3,4,5,6,7,8,9,10,11,12,13,14,15,16,17,18,19,20,21,22,23,24,25,26,27,28,29,30,31,32,33,34,35,36,37,38,39,40,41,42,43,44,45,46,47,48,49,50]
[null,null,{"$f":"IF('Data Entry'!C26<>\"\",'Data Entry'!C26,\"\")","v":""},{"$f":"SUM(O7:BJ7)","v":0},{"$f":"IF(D7<>0,AVERAGE(O7:BL7)/I7,\"\")","v":""},{"$f":"IF(D7<>0,E7/J7,\"\")","v":""},null,null,{"$f":"(($V$1^2)*PI())/43560","v":0},{"$f":"$E$24","v":""},{"$f":"IF(D7<>0,MIN(O7:BL7)/I7,\"\")","v":""},{"$f":"IF(D7<>0,MAX(O7:BL7)/I7,\"\")","v":""},{"$f":"IF(D7<>0,_xlfn.STDEV.S(O7:BL7)/I7,\"\")","v":""},{"$f":"IFERROR(IF(M7<>\"\",M7/E7,\"\"),\"NO CV\")","v":""},{"$f":"IF('Data Entry'!D26 > 0,'Data Entry'!D26, IF(O$6<=$V$2,0,\"\"))","v":""},{"$f":"IF('Data Entry'!F26 > 0,'Data Entry'!F26, IF(P$6<=$V$2,0,\"\"))","v":""},{"$f":"IF('Data Entry'!H26 > 0,'Data Entry'!H26, IF(Q$6<=$V$2,0,\"\"))","v":""},{"$f":"IF('Data Entry'!J26 > 0,'Data Entry'!J26, IF(R$6<=$V$2,0,\"\"))","v":""},{"$f":"IF('Data Entry'!L26 > 0,'Data Entry'!L26, IF(S$6<=$V$2,0,\"\"))","v":""},{"$f":"IF('Data Entry'!N26 > 0,'Data Entry'!N26, IF(T$6<=$V$2,0,\"\"))","v":""},{"$f":"IF('Data Entry'!P26 > 0,'Data Entry'!P26, IF(U$6<=$V$2,0,\"\"))","v":""},{"$f":"IF('Data Entry'!R26 > 0,'Data Entry'!R26, IF(V$6<=$V$2,0,\"\"))","v":""},{"$f":"IF('Data Entry'!T26 > 0,'Data Entry'!T26, IF(W$6<=$V$2,0,\"\"))","v":""},{"$f":"IF('Data Entry'!V26 > 0,'Data Entry'!V26, IF(X$6<=$V$2,0,\"\"))","v":""},{"$f":"IF('Data Entry'!D71 > 0,'Data Entry'!D71, IF(Y$6<=$V$2,0,\"\"))","v":""},{"$f":"IF('Data Entry'!F71 > 0,'Data Entry'!F71, IF(Z$6<=$V$2,0,\"\"))","v":""},{"$f":"IF('Data Entry'!H71 > 0,'Data Entry'!H71, IF(AA$6<=$V$2,0,\"\"))","v":""},{"$f":"IF('Data Entry'!J71 > 0,'Data Entry'!J71, IF(AB$6<=$V$2,0,\"\"))","v":""},{"$f":"IF('Data Entry'!L71 > 0,'Data Entry'!L71, IF(AC$6<=$V$2,0,\"\"))","v":""},{"$f":"IF('Data Entry'!N71 > 0,'Data Entry'!N71, IF(AD$6<=$V$2,0,\"\"))","v":""},{"$f":"IF('Data Entry'!P71 > 0,'Data Entry'!P71, IF(AE$6<=$V$2,0,\"\"))","v":""},{"$f":"IF('Data Entry'!R71 > 0,'Data Entry'!R71, IF(AF$6<=$V$2,0,\"\"))","v":""},{"$f":"IF('Data Entry'!T71 > 0,'Data Entry'!T71, IF(AG$6<=$V$2,0,\"\"))","v":""},{"$f":"IF('Data Entry'!V71 > 0,'Data Entry'!V71, IF(AH$6<=$V$2,0,\"\"))","v":""},{"$f":"IF('Data Entry'!D116 > 0,'Data Entry'!D116, IF(AI$6<=$V$2,0,\"\"))","v":""},{"$f":"IF('Data Entry'!F116 > 0,'Data Entry'!F116, IF(AJ$6<=$V$2,0,\"\"))","v":""},{"$f":"IF('Data Entry'!H116 > 0,'Data Entry'!H116, IF(AK$6<=$V$2,0,\"\"))","v":""},{"$f":"IF('Data Entry'!J116 > 0,'Data Entry'!J116, IF(AL$6<=$V$2,0,\"\"))","v":""},{"$f":"IF('Data Entry'!L116 > 0,'Data Entry'!L116, IF(AM$6<=$V$2,0,\"\"))","v":""},{"$f":"IF('Data Entry'!N116 > 0,'Data Entry'!N116, IF(AN$6<=$V$2,0,\"\"))","v":""},{"$f":"IF('Data Entry'!P116 > 0,'Data Entry'!P116, IF(AO$6<=$V$2,0,\"\"))","v":""},{"$f":"IF('Data Entry'!R116 > 0,'Data Entry'!R116, IF(AP$6<=$V$2,0,\"\"))","v":""},{"$f":"IF('Data Entry'!T116 > 0,'Data Entry'!T116, IF(AQ$6<=$V$2,0,\"\"))","v":""},{"$f":"IF('Data Entry'!V116 > 0,'Data Entry'!V116, IF(AR$6<=$V$2,0,\"\"))","v":""},{"$f":"IF('Data Entry'!D161 > 0,'Data Entry'!D161, IF(AS$6<=$V$2,0,\"\"))","v":""},{"$f":"IF('Data Entry'!F161 > 0,'Data Entry'!F161, IF(AT$6<=$V$2,0,\"\"))","v":""},{"$f":"IF('Data Entry'!H161 > 0,'Data Entry'!H161, IF(AU$6<=$V$2,0,\"\"))","v":""},{"$f":"IF('Data Entry'!J161 > 0,'Data Entry'!J161, IF(AV$6<=$V$2,0,\"\"))","v":""},{"$f":"IF('Data Entry'!L161 > 0,'Data Entry'!L161, IF(AW$6<=$V$2,0,\"\"))","v":""},{"$f":"IF('Data Entry'!N161 > 0,'Data Entry'!N161, IF(AX$6<=$V$2,0,\"\"))","v":""},{"$f":"IF('Data Entry'!P161 > 0,'Data Entry'!P161, IF(AY$6<=$V$2,0,\"\"))","v":""},{"$f":"IF('Data Entry'!R161 > 0,'Data Entry'!R161, IF(AZ$6<=$V$2,0,\"\"))","v":""},{"$f":"IF('Data Entry'!T161 > 0,'Data Entry'!T161, IF(BA$6<=$V$2,0,\"\"))","v":""},{"$f":"IF('Data Entry'!V161 > 0,'Data Entry'!V161, IF(BB$6<=$V$2,0,\"\"))","v":""},{"$f":"IF('Data Entry'!D206 > 0,'Data Entry'!D206, IF(BC$6<=$V$2,0,\"\"))","v":""},{"$f":"IF('Data Entry'!F206 > 0,'Data Entry'!F206, IF(BD$6<=$V$2,0,\"\"))","v":""},{"$f":"IF('Data Entry'!H206 > 0,'Data Entry'!H206, IF(BE$6<=$V$2,0,\"\"))","v":""},{"$f":"IF('Data Entry'!J206 > 0,'Data Entry'!J206, IF(BF$6<=$V$2,0,\"\"))","v":""},{"$f":"IF('Data Entry'!L206 > 0,'Data Entry'!L206, IF(BG$6<=$V$2,0,\"\"))","v":""},{"$f":"IF('Data Entry'!N206 > 0,'Data Entry'!N206, IF(BH$6<=$V$2,0,\"\"))","v":""},{"$f":"IF('Data Entry'!P206 > 0,'Data Entry'!P206, IF(BI$6<=$V$2,0,\"\"))","v":""},{"$f":"IF('Data Entry'!R206 > 0,'Data Entry'!R206, IF(BJ$6<=$V$2,0,\"\"))","v":""},{"$f":"IF('Data Entry'!T206 > 0,'Data Entry'!T206, IF(BK$6<=$V$2,0,\"\"))","v":""},{"$f":"IF('Data Entry'!V206 > 0,'Data Entry'!V206, IF(BL$6<=$V$2,0,\"\"))","v":""}]
[null,null,{"$f":"IF('Data Entry'!C27<>\"\",'Data Entry'!C27,\"\")","v":""},{"$f":"SUM(O8:BL8)","v":0},{"$f":"IF(D8<>0,AVERAGE(O8:BL8)/I8,\"\")","v":""},"",null,null,{"$f":"(($V$1^2)*PI())/43560","v":0},{"$f":"$E$24","v":""},{"$f":"IF(D8<>0,MIN(O8:BL8)/I8,\"\")","v":""},{"$f":"IF(D8<>0,MAX(O8:BL8)/I8,\"\")","v":""},{"$f":"IF(D8<>0,_xlfn.STDEV.S(O8:BL8)/I8,\"\")","v":""},"",{"$f":"IF('Data Entry'!D27 > 0,'Data Entry'!D27, IF(O$6<=$V$2,0,\"\"))","v":""},{"$f":"IF('Data Entry'!F27 > 0,'Data Entry'!F27, IF(P$6<=$V$2,0,\"\"))","v":""},{"$f":"IF('Data Entry'!H27 > 0,'Data Entry'!H27, IF(Q$6<=$V$2,0,\"\"))","v":""},{"$f":"IF('Data Entry'!J27 > 0,'Data Entry'!J27, IF(R$6<=$V$2,0,\"\"))","v":""},{"$f":"IF('Data Entry'!L27 > 0,'Data Entry'!L27, IF(S$6<=$V$2,0,\"\"))","v":""},{"$f":"IF('Data Entry'!N27 > 0,'Data Entry'!N27, IF(T$6<=$V$2,0,\"\"))","v":""},{"$f":"IF('Data Entry'!P27 > 0,'Data Entry'!P27, IF(U$6<=$V$2,0,\"\"))","v":""},{"$f":"IF('Data Entry'!R27 > 0,'Data Entry'!R27, IF(V$6<=$V$2,0,\"\"))","v":""},{"$f":"IF('Data Entry'!T27 > 0,'Data Entry'!T27, IF(W$6<=$V$2,0,\"\"))","v":""},{"$f":"IF('Data Entry'!V27 > 0,'Data Entry'!V27, IF(X$6<=$V$2,0,\"\"))","v":""},{"$f":"IF('Data Entry'!D72 > 0,'Data Entry'!D72, IF(Y$6<=$V$2,0,\"\"))","v":""},{"$f":"IF('Data Entry'!F72 > 0,'Data Entry'!F72, IF(Z$6<=$V$2,0,\"\"))","v":""},{"$f":"IF('Data Entry'!H72 > 0,'Data Entry'!H72, IF(AA$6<=$V$2,0,\"\"))","v":""},{"$f":"IF('Data Entry'!J72 > 0,'Data Entry'!J72, IF(AB$6<=$V$2,0,\"\"))","v":""},{"$f":"IF('Data Entry'!L72 > 0,'Data Entry'!L72, IF(AC$6<=$V$2,0,\"\"))","v":""},{"$f":"IF('Data Entry'!N72 > 0,'Data Entry'!N72, IF(AD$6<=$V$2,0,\"\"))","v":""},{"$f":"IF('Data Entry'!P72 > 0,'Data Entry'!P72, IF(AE$6<=$V$2,0,\"\"))","v":""},{"$f":"IF('Data Entry'!R72 > 0,'Data Entry'!R72, IF(AF$6<=$V$2,0,\"\"))","v":""},{"$f":"IF('Data Entry'!T72 > 0,'Data Entry'!T72, IF(AG$6<=$V$2,0,\"\"))","v":""},{"$f":"IF('Data Entry'!V72 > 0,'Data Entry'!V72, IF(AH$6<=$V$2,0,\"\"))","v":""},{"$f":"IF('Data Entry'!D117 > 0,'Data Entry'!D117, IF(AI$6<=$V$2,0,\"\"))","v":""},{"$f":"IF('Data Entry'!F117 > 0,'Data Entry'!F117, IF(AJ$6<=$V$2,0,\"\"))","v":""},{"$f":"IF('Data Entry'!H117 > 0,'Data Entry'!H117, IF(AK$6<=$V$2,0,\"\"))","v":""},{"$f":"IF('Data Entry'!J117 > 0,'Data Entry'!J117, IF(AL$6<=$V$2,0,\"\"))","v":""},{"$f":"IF('Data Entry'!L117 > 0,'Data Entry'!L117, IF(AM$6<=$V$2,0,\"\"))","v":""},{"$f":"IF('Data Entry'!N117 > 0,'Data Entry'!N117, IF(AN$6<=$V$2,0,\"\"))","v":""},{"$f":"IF('Data Entry'!P117 > 0,'Data Entry'!P117, IF(AO$6<=$V$2,0,\"\"))","v":""},{"$f":"IF('Data Entry'!R117 > 0,'Data Entry'!R117, IF(AP$6<=$V$2,0,\"\"))","v":""},{"$f":"IF('Data Entry'!T117 > 0,'Data Entry'!T117, IF(AQ$6<=$V$2,0,\"\"))","v":""},{"$f":"IF('Data Entry'!V117 > 0,'Data Entry'!V117, IF(AR$6<=$V$2,0,\"\"))","v":""},{"$f":"IF('Data Entry'!D162 > 0,'Data Entry'!D162, IF(AS$6<=$V$2,0,\"\"))","v":""},{"$f":"IF('Data Entry'!F162 > 0,'Data Entry'!F162, IF(AT$6<=$V$2,0,\"\"))","v":""},{"$f":"IF('Data Entry'!H162 > 0,'Data Entry'!H162, IF(AU$6<=$V$2,0,\"\"))","v":""},{"$f":"IF('Data Entry'!J162 > 0,'Data Entry'!J162, IF(AV$6<=$V$2,0,\"\"))","v":""},{"$f":"IF('Data Entry'!L162 > 0,'Data Entry'!L162, IF(AW$6<=$V$2,0,\"\"))","v":""},{"$f":"IF('Data Entry'!N162 > 0,'Data Entry'!N162, IF(AX$6<=$V$2,0,\"\"))","v":""},{"$f":"IF('Data Entry'!P162 > 0,'Data Entry'!P162, IF(AY$6<=$V$2,0,\"\"))","v":""},{"$f":"IF('Data Entry'!R162 > 0,'Data Entry'!R162, IF(AZ$6<=$V$2,0,\"\"))","v":""},{"$f":"IF('Data Entry'!T162 > 0,'Data Entry'!T162, IF(BA$6<=$V$2,0,\"\"))","v":""},{"$f":"IF('Data Entry'!V162 > 0,'Data Entry'!V162, IF(BB$6<=$V$2,0,\"\"))","v":""},{"$f":"IF('Data Entry'!D207 > 0,'Data Entry'!D207, IF(BC$6<=$V$2,0,\"\"))","v":""},{"$f":"IF('Data Entry'!F207 > 0,'Data Entry'!F207, IF(BD$6<=$V$2,0,\"\"))","v":""},{"$f":"IF('Data Entry'!H207 > 0,'Data Entry'!H207, IF(BE$6<=$V$2,0,\"\"))","v":""},{"$f":"IF('Data Entry'!J207 > 0,'Data Entry'!J207, IF(BF$6<=$V$2,0,\"\"))","v":""},{"$f":"IF('Data Entry'!L207 > 0,'Data Entry'!L207, IF(BG$6<=$V$2,0,\"\"))","v":""},{"$f":"IF('Data Entry'!N207 > 0,'Data Entry'!N207, IF(BH$6<=$V$2,0,\"\"))","v":""},{"$f":"IF('Data Entry'!P207 > 0,'Data Entry'!P207, IF(BI$6<=$V$2,0,\"\"))","v":""},{"$f":"IF('Data Entry'!R207 > 0,'Data Entry'!R207, IF(BJ$6<=$V$2,0,\"\"))","v":""},{"$f":"IF('Data Entry'!T207 > 0,'Data Entry'!T207, IF(BK$6<=$V$2,0,\"\"))","v":""},{"$f":"IF('Data Entry'!V207 > 0,'Data Entry'!V207, IF(BL$6<=$V$2,0,\"\"))","v":""}]
[null,null,{"$f":"IF('Data Entry'!C28<>\"\",'Data Entry'!C28,\"\")","v":""},0,"","",null,null,0,"","","","",{"$f":"IFERROR(IF(M9<>\"\",M9/E9,\"\"),\"NO CV\")","v":""},{"$f":"IF('Data Entry'!D28 > 0,'Data Entry'!D28, IF(O$6<=$V$2,0,\"\"))","v":""},{"$f":"IF('Data Entry'!F28 > 0,'Data Entry'!F28, IF(P$6<=$V$2,0,\"\"))","v":""},{"$f":"IF('Data Entry'!H28 > 0,'Data Entry'!H28, IF(Q$6<=$V$2,0,\"\"))","v":""},{"$f":"IF('Data Entry'!J28 > 0,'Data Entry'!J28, IF(R$6<=$V$2,0,\"\"))","v":""},{"$f":"IF('Data Entry'!L28 > 0,'Data Entry'!L28, IF(S$6<=$V$2,0,\"\"))","v":""},{"$f":"IF('Data Entry'!N28 > 0,'Data Entry'!N28, IF(T$6<=$V$2,0,\"\"))","v":""},{"$f":"IF('Data Entry'!P28 > 0,'Data Entry'!P28, IF(U$6<=$V$2,0,\"\"))","v":""},{"$f":"IF('Data Entry'!R28 > 0,'Data Entry'!R28, IF(V$6<=$V$2,0,\"\"))","v":""},{"$f":"IF('Data Entry'!T28 > 0,'Data Entry'!T28, IF(W$6<=$V$2,0,\"\"))","v":""},{"$f":"IF('Data Entry'!V28 > 0,'Data Entry'!V28, IF(X$6<=$V$2,0,\"\"))","v":""},{"$f":"IF('Data Entry'!D73 > 0,'Data Entry'!D73, IF(Y$6<=$V$2,0,\"\"))","v":""},{"$f":"IF('Data Entry'!F73 > 0,'Data Entry'!F73, IF(Z$6<=$V$2,0,\"\"))","v":""},{"$f":"IF('Data Entry'!H73 > 0,'Data Entry'!H73, IF(AA$6<=$V$2,0,\"\"))","v":""},{"$f":"IF('Data Entry'!J73 > 0,'Data Entry'!J73, IF(AB$6<=$V$2,0,\"\"))","v":""},{"$f":"IF('Data Entry'!L73 > 0,'Data Entry'!L73, IF(AC$6<=$V$2,0,\"\"))","v":""},{"$f":"IF('Data Entry'!N73 > 0,'Data Entry'!N73, IF(AD$6<=$V$2,0,\"\"))","v":""},{"$f":"IF('Data Entry'!P73 > 0,'Data Entry'!P73, IF(AE$6<=$V$2,0,\"\"))","v":""},{"$f":"IF('Data Entry'!R73 > 0,'Data Entry'!R73, IF(AF$6<=$V$2,0,\"\"))","v":""},{"$f":"IF('Data Entry'!T73 > 0,'Data Entry'!T73, IF(AG$6<=$V$2,0,\"\"))","v":""},{"$f":"IF('Data Entry'!V73 > 0,'Data Entry'!V73, IF(AH$6<=$V$2,0,\"\"))","v":""},{"$f":"IF('Data Entry'!D118 > 0,'Data Entry'!D118, IF(AI$6<=$V$2,0,\"\"))","v":""},{"$f":"IF('Data Entry'!F118 > 0,'Data Entry'!F118, IF(AJ$6<=$V$2,0,\"\"))","v":""},{"$f":"IF('Data Entry'!H118 > 0,'Data Entry'!H118, IF(AK$6<=$V$2,0,\"\"))","v":""},{"$f":"IF('Data Entry'!J118 > 0,'Data Entry'!J118, IF(AL$6<=$V$2,0,\"\"))","v":""},{"$f":"IF('Data Entry'!L118 > 0,'Data Entry'!L118, IF(AM$6<=$V$2,0,\"\"))","v":""},{"$f":"IF('Data Entry'!N118 > 0,'Data Entry'!N118, IF(AN$6<=$V$2,0,\"\"))","v":""},{"$f":"IF('Data Entry'!P118 > 0,'Data Entry'!P118, IF(AO$6<=$V$2,0,\"\"))","v":""},{"$f":"IF('Data Entry'!R118 > 0,'Data Entry'!R118, IF(AP$6<=$V$2,0,\"\"))","v":""},{"$f":"IF('Data Entry'!T118 > 0,'Data Entry'!T118, IF(AQ$6<=$V$2,0,\"\"))","v":""},{"$f":"IF('Data Entry'!V118 > 0,'Data Entry'!V118, IF(AR$6<=$V$2,0,\"\"))","v":""},{"$f":"IF('Data Entry'!D163 > 0,'Data Entry'!D163, IF(AS$6<=$V$2,0,\"\"))","v":""},{"$f":"IF('Data Entry'!F163 > 0,'Data Entry'!F163, IF(AT$6<=$V$2,0,\"\"))","v":""},{"$f":"IF('Data Entry'!H163 > 0,'Data Entry'!H163, IF(AU$6<=$V$2,0,\"\"))","v":""},{"$f":"IF('Data Entry'!J163 > 0,'Data Entry'!J163, IF(AV$6<=$V$2,0,\"\"))","v":""},{"$f":"IF('Data Entry'!L163 > 0,'Data Entry'!L163, IF(AW$6<=$V$2,0,\"\"))","v":""},{"$f":"IF('Data Entry'!N163 > 0,'Data Entry'!N163, IF(AX$6<=$V$2,0,\"\"))","v":""},{"$f":"IF('Data Entry'!P163 > 0,'Data Entry'!P163, IF(AY$6<=$V$2,0,\"\"))","v":""},{"$f":"IF('Data Entry'!R163 > 0,'Data Entry'!R163, IF(AZ$6<=$V$2,0,\"\"))","v":""},{"$f":"IF('Data Entry'!T163 > 0,'Data Entry'!T163, IF(BA$6<=$V$2,0,\"\"))","v":""},{"$f":"IF('Data Entry'!V163 > 0,'Data Entry'!V163, IF(BB$6<=$V$2,0,\"\"))","v":""},{"$f":"IF('Data Entry'!D208 > 0,'Data Entry'!D208, IF(BC$6<=$V$2,0,\"\"))","v":""},{"$f":"IF('Data Entry'!F208 > 0,'Data Entry'!F208, IF(BD$6<=$V$2,0,\"\"))","v":""},{"$f":"IF('Data Entry'!H208 > 0,'Data Entry'!H208, IF(BE$6<=$V$2,0,\"\"))","v":""},{"$f":"IF('Data Entry'!J208 > 0,'Data Entry'!J208, IF(BF$6<=$V$2,0,\"\"))","v":""},{"$f":"IF('Data Entry'!L208 > 0,'Data Entry'!L208, IF(BG$6<=$V$2,0,\"\"))","v":""},{"$f":"IF('Data Entry'!N208 > 0,'Data Entry'!N208, IF(BH$6<=$V$2,0,\"\"))","v":""},{"$f":"IF('Data Entry'!P208 > 0,'Data Entry'!P208, IF(BI$6<=$V$2,0,\"\"))","v":""},{"$f":"IF('Data Entry'!R208 > 0,'Data Entry'!R208, IF(BJ$6<=$V$2,0,\"\"))","v":""},{"$f":"IF('Data Entry'!T208 > 0,'Data Entry'!T208, IF(BK$6<=$V$2,0,\"\"))","v":""},{"$f":"IF('Data Entry'!V208 > 0,'Data Entry'!V208, IF(BL$6<=$V$2,0,\"\"))","v":""}]
[null,null,{"$f":"IF('Data Entry'!C29<>\"\",'Data Entry'!C29,\"\")","v":""},0,"","",null,null,0,"","","","",{"$f":"IFERROR(IF(M10<>\"\",M10/E10,\"\"),\"NO CV\")","v":""},{"$f":"IF('Data Entry'!D29 > 0,'Data Entry'!D29, IF(O$6<=$V$2,0,\"\"))","v":""},{"$f":"IF('Data Entry'!F29 > 0,'Data Entry'!F29, IF(P$6<=$V$2,0,\"\"))","v":""},{"$f":"IF('Data Entry'!H29 > 0,'Data Entry'!H29, IF(Q$6<=$V$2,0,\"\"))","v":""},{"$f":"IF('Data Entry'!J29 > 0,'Data Entry'!J29, IF(R$6<=$V$2,0,\"\"))","v":""},{"$f":"IF('Data Entry'!L29 > 0,'Data Entry'!L29, IF(S$6<=$V$2,0,\"\"))","v":""},{"$f":"IF('Data Entry'!N29 > 0,'Data Entry'!N29, IF(T$6<=$V$2,0,\"\"))","v":""},{"$f":"IF('Data Entry'!P29 > 0,'Data Entry'!P29, IF(U$6<=$V$2,0,\"\"))","v":""},{"$f":"IF('Data Entry'!R29 > 0,'Data Entry'!R29, IF(V$6<=$V$2,0,\"\"))","v":""},{"$f":"IF('Data Entry'!T29 > 0,'Data Entry'!T29, IF(W$6<=$V$2,0,\"\"))","v":""},{"$f":"IF('Data Entry'!V29 > 0,'Data Entry'!V29, IF(X$6<=$V$2,0,\"\"))","v":""},{"$f":"IF('Data Entry'!D74 > 0,'Data Entry'!D74, IF(Y$6<=$V$2,0,\"\"))","v":""},{"$f":"IF('Data Entry'!F74 > 0,'Data Entry'!F74, IF(Z$6<=$V$2,0,\"\"))","v":""},{"$f":"IF('Data Entry'!H74 > 0,'Data Entry'!H74, IF(AA$6<=$V$2,0,\"\"))","v":""},{"$f":"IF('Data Entry'!J74 > 0,'Data Entry'!J74, IF(AB$6<=$V$2,0,\"\"))","v":""},{"$f":"IF('Data Entry'!L74 > 0,'Data Entry'!L74, IF(AC$6<=$V$2,0,\"\"))","v":""},{"$f":"IF('Data Entry'!N74 > 0,'Data Entry'!N74, IF(AD$6<=$V$2,0,\"\"))","v":""},{"$f":"IF('Data Entry'!P74 > 0,'Data Entry'!P74, IF(AE$6<=$V$2,0,\"\"))","v":""},{"$f":"IF('Data Entry'!R74 > 0,'Data Entry'!R74, IF(AF$6<=$V$2,0,\"\"))","v":""},{"$f":"IF('Data Entry'!T74 > 0,'Data Entry'!T74, IF(AG$6<=$V$2,0,\"\"))","v":""},{"$f":"IF('Data Entry'!V74 > 0,'Data Entry'!V74, IF(AH$6<=$V$2,0,\"\"))","v":""},{"$f":"IF('Data Entry'!D119 > 0,'Data Entry'!D119, IF(AI$6<=$V$2,0,\"\"))","v":""},{"$f":"IF('Data Entry'!F119 > 0,'Data Entry'!F119, IF(AJ$6<=$V$2,0,\"\"))","v":""},{"$f":"IF('Data Entry'!H119 > 0,'Data Entry'!H119, IF(AK$6<=$V$2,0,\"\"))","v":""},{"$f":"IF('Data Entry'!J119 > 0,'Data Entry'!J119, IF(AL$6<=$V$2,0,\"\"))","v":""},{"$f":"IF('Data Entry'!L119 > 0,'Data Entry'!L119, IF(AM$6<=$V$2,0,\"\"))","v":""},{"$f":"IF('Data Entry'!N119 > 0,'Data Entry'!N119, IF(AN$6<=$V$2,0,\"\"))","v":""},{"$f":"IF('Data Entry'!P119 > 0,'Data Entry'!P119, IF(AO$6<=$V$2,0,\"\"))","v":""},{"$f":"IF('Data Entry'!R119 > 0,'Data Entry'!R119, IF(AP$6<=$V$2,0,\"\"))","v":""},{"$f":"IF('Data Entry'!T119 > 0,'Data Entry'!T119, IF(AQ$6<=$V$2,0,\"\"))","v":""},{"$f":"IF('Data Entry'!V119 > 0,'Data Entry'!V119, IF(AR$6<=$V$2,0,\"\"))","v":""},{"$f":"IF('Data Entry'!D164 > 0,'Data Entry'!D164, IF(AS$6<=$V$2,0,\"\"))","v":""},{"$f":"IF('Data Entry'!F164 > 0,'Data Entry'!F164, IF(AT$6<=$V$2,0,\"\"))","v":""},{"$f":"IF('Data Entry'!H164 > 0,'Data Entry'!H164, IF(AU$6<=$V$2,0,\"\"))","v":""},{"$f":"IF('Data Entry'!J164 > 0,'Data Entry'!J164, IF(AV$6<=$V$2,0,\"\"))","v":""},{"$f":"IF('Data Entry'!L164 > 0,'Data Entry'!L164, IF(AW$6<=$V$2,0,\"\"))","v":""},{"$f":"IF('Data Entry'!N164 > 0,'Data Entry'!N164, IF(AX$6<=$V$2,0,\"\"))","v":""},{"$f":"IF('Data Entry'!P164 > 0,'Data Entry'!P164, IF(AY$6<=$V$2,0,\"\"))","v":""},{"$f":"IF('Data Entry'!R164 > 0,'Data Entry'!R164, IF(AZ$6<=$V$2,0,\"\"))","v":""},{"$f":"IF('Data Entry'!T164 > 0,'Data Entry'!T164, IF(BA$6<=$V$2,0,\"\"))","v":""},{"$f":"IF('Data Entry'!V164 > 0,'Data Entry'!V164, IF(BB$6<=$V$2,0,\"\"))","v":""},{"$f":"IF('Data Entry'!D209 > 0,'Data Entry'!D209, IF(BC$6<=$V$2,0,\"\"))","v":""},{"$f":"IF('Data Entry'!F209 > 0,'Data Entry'!F209, IF(BD$6<=$V$2,0,\"\"))","v":""},{"$f":"IF('Data Entry'!H209 > 0,'Data Entry'!H209, IF(BE$6<=$V$2,0,\"\"))","v":""},{"$f":"IF('Data Entry'!J209 > 0,'Data Entry'!J209, IF(BF$6<=$V$2,0,\"\"))","v":""},{"$f":"IF('Data Entry'!L209 > 0,'Data Entry'!L209, IF(BG$6<=$V$2,0,\"\"))","v":""},{"$f":"IF('Data Entry'!N209 > 0,'Data Entry'!N209, IF(BH$6<=$V$2,0,\"\"))","v":""},{"$f":"IF('Data Entry'!P209 > 0,'Data Entry'!P209, IF(BI$6<=$V$2,0,\"\"))","v":""},{"$f":"IF('Data Entry'!R209 > 0,'Data Entry'!R209, IF(BJ$6<=$V$2,0,\"\"))","v":""},{"$f":"IF('Data Entry'!T209 > 0,'Data Entry'!T209, IF(BK$6<=$V$2,0,\"\"))","v":""},{"$f":"IF('Data Entry'!V209 > 0,'Data Entry'!V209, IF(BL$6<=$V$2,0,\"\"))","v":""}]
[null,null,{"$f":"IF('Data Entry'!C30<>\"\",'Data Entry'!C30,\"\")","v":""},0,"","",null,null,0,"","","","","",{"$f":"IF('Data Entry'!D30 > 0,'Data Entry'!D30, IF(O$6<=$V$2,0,\"\"))","v":""},{"$f":"IF('Data Entry'!F30 > 0,'Data Entry'!F30, IF(P$6<=$V$2,0,\"\"))","v":""},{"$f":"IF('Data Entry'!H30 > 0,'Data Entry'!H30, IF(Q$6<=$V$2,0,\"\"))","v":""},{"$f":"IF('Data Entry'!J30 > 0,'Data Entry'!J30, IF(R$6<=$V$2,0,\"\"))","v":""},{"$f":"IF('Data Entry'!L30 > 0,'Data Entry'!L30, IF(S$6<=$V$2,0,\"\"))","v":""},{"$f":"IF('Data Entry'!N30 > 0,'Data Entry'!N30, IF(T$6<=$V$2,0,\"\"))","v":""},{"$f":"IF('Data Entry'!P30 > 0,'Data Entry'!P30, IF(U$6<=$V$2,0,\"\"))","v":""},{"$f":"IF('Data Entry'!R30 > 0,'Data Entry'!R30, IF(V$6<=$V$2,0,\"\"))","v":""},{"$f":"IF('Data Entry'!T30 > 0,'Data Entry'!T30, IF(W$6<=$V$2,0,\"\"))","v":""},{"$f":"IF('Data Entry'!V30 > 0,'Data Entry'!V30, IF(X$6<=$V$2,0,\"\"))","v":""},{"$f":"IF('Data Entry'!D75 > 0,'Data Entry'!D75, IF(Y$6<=$V$2,0,\"\"))","v":""},{"$f":"IF('Data Entry'!F75 > 0,'Data Entry'!F75, IF(Z$6<=$V$2,0,\"\"))","v":""},{"$f":"IF('Data Entry'!H75 > 0,'Data Entry'!H75, IF(AA$6<=$V$2,0,\"\"))","v":""},{"$f":"IF('Data Entry'!J75 > 0,'Data Entry'!J75, IF(AB$6<=$V$2,0,\"\"))","v":""},{"$f":"IF('Data Entry'!L75 > 0,'Data Entry'!L75, IF(AC$6<=$V$2,0,\"\"))","v":""},{"$f":"IF('Data Entry'!N75 > 0,'Data Entry'!N75, IF(AD$6<=$V$2,0,\"\"))","v":""},{"$f":"IF('Data Entry'!P75 > 0,'Data Entry'!P75, IF(AE$6<=$V$2,0,\"\"))","v":""},{"$f":"IF('Data Entry'!R75 > 0,'Data Entry'!R75, IF(AF$6<=$V$2,0,\"\"))","v":""},{"$f":"IF('Data Entry'!T75 > 0,'Data Entry'!T75, IF(AG$6<=$V$2,0,\"\"))","v":""},{"$f":"IF('Data Entry'!V75 > 0,'Data Entry'!V75, IF(AH$6<=$V$2,0,\"\"))","v":""},{"$f":"IF('Data Entry'!D120 > 0,'Data Entry'!D120, IF(AI$6<=$V$2,0,\"\"))","v":""},{"$f":"IF('Data Entry'!F120 > 0,'Data Entry'!F120, IF(AJ$6<=$V$2,0,\"\"))","v":""},{"$f":"IF('Data Entry'!H120 > 0,'Data Entry'!H120, IF(AK$6<=$V$2,0,\"\"))","v":""},{"$f":"IF('Data Entry'!J120 > 0,'Data Entry'!J120, IF(AL$6<=$V$2,0,\"\"))","v":""},{"$f":"IF('Data Entry'!L120 > 0,'Data Entry'!L120, IF(AM$6<=$V$2,0,\"\"))","v":""},{"$f":"IF('Data Entry'!N120 > 0,'Data Entry'!N120, IF(AN$6<=$V$2,0,\"\"))","v":""},{"$f":"IF('Data Entry'!P120 > 0,'Data Entry'!P120, IF(AO$6<=$V$2,0,\"\"))","v":""},{"$f":"IF('Data Entry'!R120 > 0,'Data Entry'!R120, IF(AP$6<=$V$2,0,\"\"))","v":""},{"$f":"IF('Data Entry'!T120 > 0,'Data Entry'!T120, IF(AQ$6<=$V$2,0,\"\"))","v":""},{"$f":"IF('Data Entry'!V120 > 0,'Data Entry'!V120, IF(AR$6<=$V$2,0,\"\"))","v":""},{"$f":"IF('Data Entry'!D165 > 0,'Data Entry'!D165, IF(AS$6<=$V$2,0,\"\"))","v":""},{"$f":"IF('Data Entry'!F165 > 0,'Data Entry'!F165, IF(AT$6<=$V$2,0,\"\"))","v":""},{"$f":"IF('Data Entry'!H165 > 0,'Data Entry'!H165, IF(AU$6<=$V$2,0,\"\"))","v":""},{"$f":"IF('Data Entry'!J165 > 0,'Data Entry'!J165, IF(AV$6<=$V$2,0,\"\"))","v":""},{"$f":"IF('Data Entry'!L165 > 0,'Data Entry'!L165, IF(AW$6<=$V$2,0,\"\"))","v":""},{"$f":"IF('Data Entry'!N165 > 0,'Data Entry'!N165, IF(AX$6<=$V$2,0,\"\"))","v":""},{"$f":"IF('Data Entry'!P165 > 0,'Data Entry'!P165, IF(AY$6<=$V$2,0,\"\"))","v":""},{"$f":"IF('Data Entry'!R165 > 0,'Data Entry'!R165, IF(AZ$6<=$V$2,0,\"\"))","v":""},{"$f":"IF('Data Entry'!T165 > 0,'Data Entry'!T165, IF(BA$6<=$V$2,0,\"\"))","v":""},{"$f":"IF('Data Entry'!V165 > 0,'Data Entry'!V165, IF(BB$6<=$V$2,0,\"\"))","v":""},{"$f":"IF('Data Entry'!D210 > 0,'Data Entry'!D210, IF(BC$6<=$V$2,0,\"\"))","v":""},{"$f":"IF('Data Entry'!F210 > 0,'Data Entry'!F210, IF(BD$6<=$V$2,0,\"\"))","v":""},{"$f":"IF('Data Entry'!H210 > 0,'Data Entry'!H210, IF(BE$6<=$V$2,0,\"\"))","v":""},{"$f":"IF('Data Entry'!J210 > 0,'Data Entry'!J210, IF(BF$6<=$V$2,0,\"\"))","v":""},{"$f":"IF('Data Entry'!L210 > 0,'Data Entry'!L210, IF(BG$6<=$V$2,0,\"\"))","v":""},{"$f":"IF('Data Entry'!N210 > 0,'Data Entry'!N210, IF(BH$6<=$V$2,0,\"\"))","v":""},{"$f":"IF('Data Entry'!P210 > 0,'Data Entry'!P210, IF(BI$6<=$V$2,0,\"\"))","v":""},{"$f":"IF('Data Entry'!R210 > 0,'Data Entry'!R210, IF(BJ$6<=$V$2,0,\"\"))","v":""},{"$f":"IF('Data Entry'!T210 > 0,'Data Entry'!T210, IF(BK$6<=$V$2,0,\"\"))","v":""},{"$f":"IF('Data Entry'!V210 > 0,'Data Entry'!V210, IF(BL$6<=$V$2,0,\"\"))","v":""}]
[null,null,{"$f":"IF('Data Entry'!C31<>\"\",'Data Entry'!C31,\"\")","v":""},0,"","",null,null,0,"","","","","",{"$f":"IF('Data Entry'!D31 > 0,'Data Entry'!D31, IF(O$6<=$V$2,0,\"\"))","v":""},{"$f":"IF('Data Entry'!F31 > 0,'Data Entry'!F31, IF(P$6<=$V$2,0,\"\"))","v":""},{"$f":"IF('Data Entry'!H31 > 0,'Data Entry'!H31, IF(Q$6<=$V$2,0,\"\"))","v":""},{"$f":"IF('Data Entry'!J31 > 0,'Data Entry'!J31, IF(R$6<=$V$2,0,\"\"))","v":""},{"$f":"IF('Data Entry'!L31 > 0,'Data Entry'!L31, IF(S$6<=$V$2,0,\"\"))","v":""},{"$f":"IF('Data Entry'!N31 > 0,'Data Entry'!N31, IF(T$6<=$V$2,0,\"\"))","v":""},{"$f":"IF('Data Entry'!P31 > 0,'Data Entry'!P31, IF(U$6<=$V$2,0,\"\"))","v":""},{"$f":"IF('Data Entry'!R31 > 0,'Data Entry'!R31, IF(V$6<=$V$2,0,\"\"))","v":""},{"$f":"IF('Data Entry'!T31 > 0,'Data Entry'!T31, IF(W$6<=$V$2,0,\"\"))","v":""},{"$f":"IF('Data Entry'!V31 > 0,'Data Entry'!V31, IF(X$6<=$V$2,0,\"\"))","v":""},{"$f":"IF('Data Entry'!D76 > 0,'Data Entry'!D76, IF(Y$6<=$V$2,0,\"\"))","v":""},{"$f":"IF('Data Entry'!F76 > 0,'Data Entry'!F76, IF(Z$6<=$V$2,0,\"\"))","v":""},{"$f":"IF('Data Entry'!H76 > 0,'Data Entry'!H76, IF(AA$6<=$V$2,0,\"\"))","v":""},{"$f":"IF('Data Entry'!J76 > 0,'Data Entry'!J76, IF(AB$6<=$V$2,0,\"\"))","v":""},{"$f":"IF('Data Entry'!L76 > 0,'Data Entry'!L76, IF(AC$6<=$V$2,0,\"\"))","v":""},{"$f":"IF('Data Entry'!N76 > 0,'Data Entry'!N76, IF(AD$6<=$V$2,0,\"\"))","v":""},{"$f":"IF('Data Entry'!P76 > 0,'Data Entry'!P76, IF(AE$6<=$V$2,0,\"\"))","v":""},{"$f":"IF('Data Entry'!R76 > 0,'Data Entry'!R76, IF(AF$6<=$V$2,0,\"\"))","v":""},{"$f":"IF('Data Entry'!T76 > 0,'Data Entry'!T76, IF(AG$6<=$V$2,0,\"\"))","v":""},{"$f":"IF('Data Entry'!V76 > 0,'Data Entry'!V76, IF(AH$6<=$V$2,0,\"\"))","v":""},{"$f":"IF('Data Entry'!D121 > 0,'Data Entry'!D121, IF(AI$6<=$V$2,0,\"\"))","v":""},{"$f":"IF('Data Entry'!F121 > 0,'Data Entry'!F121, IF(AJ$6<=$V$2,0,\"\"))","v":""},{"$f":"IF('Data Entry'!H121 > 0,'Data Entry'!H121, IF(AK$6<=$V$2,0,\"\"))","v":""},{"$f":"IF('Data Entry'!J121 > 0,'Data Entry'!J121, IF(AL$6<=$V$2,0,\"\"))","v":""},{"$f":"IF('Data Entry'!L121 > 0,'Data Entry'!L121, IF(AM$6<=$V$2,0,\"\"))","v":""},{"$f":"IF('Data Entry'!N121 > 0,'Data Entry'!N121, IF(AN$6<=$V$2,0,\"\"))","v":""},{"$f":"IF('Data Entry'!P121 > 0,'Data Entry'!P121, IF(AO$6<=$V$2,0,\"\"))","v":""},{"$f":"IF('Data Entry'!R121 > 0,'Data Entry'!R121, IF(AP$6<=$V$2,0,\"\"))","v":""},{"$f":"IF('Data Entry'!T121 > 0,'Data Entry'!T121, IF(AQ$6<=$V$2,0,\"\"))","v":""},{"$f":"IF('Data Entry'!V121 > 0,'Data Entry'!V121, IF(AR$6<=$V$2,0,\"\"))","v":""},{"$f":"IF('Data Entry'!D166 > 0,'Data Entry'!D166, IF(AS$6<=$V$2,0,\"\"))","v":""},{"$f":"IF('Data Entry'!F166 > 0,'Data Entry'!F166, IF(AT$6<=$V$2,0,\"\"))","v":""},{"$f":"IF('Data Entry'!H166 > 0,'Data Entry'!H166, IF(AU$6<=$V$2,0,\"\"))","v":""},{"$f":"IF('Data Entry'!J166 > 0,'Data Entry'!J166, IF(AV$6<=$V$2,0,\"\"))","v":""},{"$f":"IF('Data Entry'!L166 > 0,'Data Entry'!L166, IF(AW$6<=$V$2,0,\"\"))","v":""},{"$f":"IF('Data Entry'!N166 > 0,'Data Entry'!N166, IF(AX$6<=$V$2,0,\"\"))","v":""},{"$f":"IF('Data Entry'!P166 > 0,'Data Entry'!P166, IF(AY$6<=$V$2,0,\"\"))","v":""},{"$f":"IF('Data Entry'!R166 > 0,'Data Entry'!R166, IF(AZ$6<=$V$2,0,\"\"))","v":""},{"$f":"IF('Data Entry'!T166 > 0,'Data Entry'!T166, IF(BA$6<=$V$2,0,\"\"))","v":""},{"$f":"IF('Data Entry'!V166 > 0,'Data Entry'!V166, IF(BB$6<=$V$2,0,\"\"))","v":""},{"$f":"IF('Data Entry'!D211 > 0,'Data Entry'!D211, IF(BC$6<=$V$2,0,\"\"))","v":""},{"$f":"IF('Data Entry'!F211 > 0,'Data Entry'!F211, IF(BD$6<=$V$2,0,\"\"))","v":""},{"$f":"IF('Data Entry'!H211 > 0,'Data Entry'!H211, IF(BE$6<=$V$2,0,\"\"))","v":""},{"$f":"IF('Data Entry'!J211 > 0,'Data Entry'!J211, IF(BF$6<=$V$2,0,\"\"))","v":""},{"$f":"IF('Data Entry'!L211 > 0,'Data Entry'!L211, IF(BG$6<=$V$2,0,\"\"))","v":""},{"$f":"IF('Data Entry'!N211 > 0,'Data Entry'!N211, IF(BH$6<=$V$2,0,\"\"))","v":""},{"$f":"IF('Data Entry'!P211 > 0,'Data Entry'!P211, IF(BI$6<=$V$2,0,\"\"))","v":""},{"$f":"IF('Data Entry'!R211 > 0,'Data Entry'!R211, IF(BJ$6<=$V$2,0,\"\"))","v":""},{"$f":"IF('Data Entry'!T211 > 0,'Data Entry'!T211, IF(BK$6<=$V$2,0,\"\"))","v":""},{"$f":"IF('Data Entry'!V211 > 0,'Data Entry'!V211, IF(BL$6<=$V$2,0,\"\"))","v":""}]
[null,null,{"$f":"IF('Data Entry'!C32<>\"\",'Data Entry'!C32,\"\")","v":""},0,"","",null,null,0,"","","","","",{"$f":"IF('Data Entry'!D32 > 0,'Data Entry'!D32, IF(O$6<=$V$2,0,\"\"))","v":""},{"$f":"IF('Data Entry'!F32 > 0,'Data Entry'!F32, IF(P$6<=$V$2,0,\"\"))","v":""},{"$f":"IF('Data Entry'!H32 > 0,'Data Entry'!H32, IF(Q$6<=$V$2,0,\"\"))","v":""},{"$f":"IF('Data Entry'!J32 > 0,'Data Entry'!J32, IF(R$6<=$V$2,0,\"\"))","v":""},{"$f":"IF('Data Entry'!L32 > 0,'Data Entry'!L32, IF(S$6<=$V$2,0,\"\"))","v":""},{"$f":"IF('Data Entry'!N32 > 0,'Data Entry'!N32, IF(T$6<=$V$2,0,\"\"))","v":""},{"$f":"IF('Data Entry'!P32 > 0,'Data Entry'!P32, IF(U$6<=$V$2,0,\"\"))","v":""},{"$f":"IF('Data Entry'!R32 > 0,'Data Entry'!R32, IF(V$6<=$V$2,0,\"\"))","v":""},{"$f":"IF('Data Entry'!T32 > 0,'Data Entry'!T32, IF(W$6<=$V$2,0,\"\"))","v":""},{"$f":"IF('Data Entry'!V32 > 0,'Data Entry'!V32, IF(X$6<=$V$2,0,\"\"))","v":""},{"$f":"IF('Data Entry'!D77 > 0,'Data Entry'!D77, IF(Y$6<=$V$2,0,\"\"))","v":""},{"$f":"IF('Data Entry'!F77 > 0,'Data Entry'!F77, IF(Z$6<=$V$2,0,\"\"))","v":""},{"$f":"IF('Data Entry'!H77 > 0,'Data Entry'!H77, IF(AA$6<=$V$2,0,\"\"))","v":""},{"$f":"IF('Data Entry'!J77 > 0,'Data Entry'!J77, IF(AB$6<=$V$2,0,\"\"))","v":""},{"$f":"IF('Data Entry'!L77 > 0,'Data Entry'!L77, IF(AC$6<=$V$2,0,\"\"))","v":""},{"$f":"IF('Data Entry'!N77 > 0,'Data Entry'!N77, IF(AD$6<=$V$2,0,\"\"))","v":""},{"$f":"IF('Data Entry'!P77 > 0,'Data Entry'!P77, IF(AE$6<=$V$2,0,\"\"))","v":""},{"$f":"IF('Data Entry'!R77 > 0,'Data Entry'!R77, IF(AF$6<=$V$2,0,\"\"))","v":""},{"$f":"IF('Data Entry'!T77 > 0,'Data Entry'!T77, IF(AG$6<=$V$2,0,\"\"))","v":""},{"$f":"IF('Data Entry'!V77 > 0,'Data Entry'!V77, IF(AH$6<=$V$2,0,\"\"))","v":""},{"$f":"IF('Data Entry'!D122 > 0,'Data Entry'!D122, IF(AI$6<=$V$2,0,\"\"))","v":""},{"$f":"IF('Data Entry'!F122 > 0,'Data Entry'!F122, IF(AJ$6<=$V$2,0,\"\"))","v":""},{"$f":"IF('Data Entry'!H122 > 0,'Data Entry'!H122, IF(AK$6<=$V$2,0,\"\"))","v":""},{"$f":"IF('Data Entry'!J122 > 0,'Data Entry'!J122, IF(AL$6<=$V$2,0,\"\"))","v":""},{"$f":"IF('Data Entry'!L122 > 0,'Data Entry'!L122, IF(AM$6<=$V$2,0,\"\"))","v":""},{"$f":"IF('Data Entry'!N122 > 0,'Data Entry'!N122, IF(AN$6<=$V$2,0,\"\"))","v":""},{"$f":"IF('Data Entry'!P122 > 0,'Data Entry'!P122, IF(AO$6<=$V$2,0,\"\"))","v":""},{"$f":"IF('Data Entry'!R122 > 0,'Data Entry'!R122, IF(AP$6<=$V$2,0,\"\"))","v":""},{"$f":"IF('Data Entry'!T122 > 0,'Data Entry'!T122, IF(AQ$6<=$V$2,0,\"\"))","v":""},{"$f":"IF('Data Entry'!V122 > 0,'Data Entry'!V122, IF(AR$6<=$V$2,0,\"\"))","v":""},{"$f":"IF('Data Entry'!D167 > 0,'Data Entry'!D167, IF(AS$6<=$V$2,0,\"\"))","v":""},{"$f":"IF('Data Entry'!F167 > 0,'Data Entry'!F167, IF(AT$6<=$V$2,0,\"\"))","v":""},{"$f":"IF('Data Entry'!H167 > 0,'Data Entry'!H167, IF(AU$6<=$V$2,0,\"\"))","v":""},{"$f":"IF('Data Entry'!J167 > 0,'Data Entry'!J167, IF(AV$6<=$V$2,0,\"\"))","v":""},{"$f":"IF('Data Entry'!L167 > 0,'Data Entry'!L167, IF(AW$6<=$V$2,0,\"\"))","v":""},{"$f":"IF('Data Entry'!N167 > 0,'Data Entry'!N167, IF(AX$6<=$V$2,0,\"\"))","v":""},{"$f":"IF('Data Entry'!P167 > 0,'Data Entry'!P167, IF(AY$6<=$V$2,0,\"\"))","v":""},{"$f":"IF('Data Entry'!R167 > 0,'Data Entry'!R167, IF(AZ$6<=$V$2,0,\"\"))","v":""},{"$f":"IF('Data Entry'!T167 > 0,'Data Entry'!T167, IF(BA$6<=$V$2,0,\"\"))","v":""},{"$f":"IF('Data Entry'!V167 > 0,'Data Entry'!V167, IF(BB$6<=$V$2,0,\"\"))","v":""},{"$f":"IF('Data Entry'!D212 > 0,'Data Entry'!D212, IF(BC$6<=$V$2,0,\"\"))","v":""},{"$f":"IF('Data Entry'!F212 > 0,'Data Entry'!F212, IF(BD$6<=$V$2,0,\"\"))","v":""},{"$f":"IF('Data Entry'!H212 > 0,'Data Entry'!H212, IF(BE$6<=$V$2,0,\"\"))","v":""},{"$f":"IF('Data Entry'!J212 > 0,'Data Entry'!J212, IF(BF$6<=$V$2,0,\"\"))","v":""},{"$f":"IF('Data Entry'!L212 > 0,'Data Entry'!L212, IF(BG$6<=$V$2,0,\"\"))","v":""},{"$f":"IF('Data Entry'!N212 > 0,'Data Entry'!N212, IF(BH$6<=$V$2,0,\"\"))","v":""},{"$f":"IF('Data Entry'!P212 > 0,'Data Entry'!P212, IF(BI$6<=$V$2,0,\"\"))","v":""},{"$f":"IF('Data Entry'!R212 > 0,'Data Entry'!R212, IF(BJ$6<=$V$2,0,\"\"))","v":""},{"$f":"IF('Data Entry'!T212 > 0,'Data Entry'!T212, IF(BK$6<=$V$2,0,\"\"))","v":""},{"$f":"IF('Data Entry'!V212 > 0,'Data Entry'!V212, IF(BL$6<=$V$2,0,\"\"))","v":""}]
[null,null,{"$f":"IF('Data Entry'!C33<>\"\",'Data Entry'!C33,\"\")","v":""},0,"","",null,null,0,"","","","","",{"$f":"IF('Data Entry'!D33 > 0,'Data Entry'!D33, IF(O$6<=$V$2,0,\"\"))","v":""},{"$f":"IF('Data Entry'!F33 > 0,'Data Entry'!F33, IF(P$6<=$V$2,0,\"\"))","v":""},{"$f":"IF('Data Entry'!H33 > 0,'Data Entry'!H33, IF(Q$6<=$V$2,0,\"\"))","v":""},{"$f":"IF('Data Entry'!J33 > 0,'Data Entry'!J33, IF(R$6<=$V$2,0,\"\"))","v":""},{"$f":"IF('Data Entry'!L33 > 0,'Data Entry'!L33, IF(S$6<=$V$2,0,\"\"))","v":""},{"$f":"IF('Data Entry'!N33 > 0,'Data Entry'!N33, IF(T$6<=$V$2,0,\"\"))","v":""},{"$f":"IF('Data Entry'!P33 > 0,'Data Entry'!P33, IF(U$6<=$V$2,0,\"\"))","v":""},{"$f":"IF('Data Entry'!R33 > 0,'Data Entry'!R33, IF(V$6<=$V$2,0,\"\"))","v":""},{"$f":"IF('Data Entry'!T33 > 0,'Data Entry'!T33, IF(W$6<=$V$2,0,\"\"))","v":""},{"$f":"IF('Data Entry'!V33 > 0,'Data Entry'!V33, IF(X$6<=$V$2,0,\"\"))","v":""},{"$f":"IF('Data Entry'!D78 > 0,'Data Entry'!D78, IF(Y$6<=$V$2,0,\"\"))","v":""},{"$f":"IF('Data Entry'!F78 > 0,'Data Entry'!F78, IF(Z$6<=$V$2,0,\"\"))","v":""},{"$f":"IF('Data Entry'!H78 > 0,'Data Entry'!H78, IF(AA$6<=$V$2,0,\"\"))","v":""},{"$f":"IF('Data Entry'!J78 > 0,'Data Entry'!J78, IF(AB$6<=$V$2,0,\"\"))","v":""},{"$f":"IF('Data Entry'!L78 > 0,'Data Entry'!L78, IF(AC$6<=$V$2,0,\"\"))","v":""},{"$f":"IF('Data Entry'!N78 > 0,'Data Entry'!N78, IF(AD$6<=$V$2,0,\"\"))","v":""},{"$f":"IF('Data Entry'!P78 > 0,'Data Entry'!P78, IF(AE$6<=$V$2,0,\"\"))","v":""},{"$f":"IF('Data Entry'!R78 > 0,'Data Entry'!R78, IF(AF$6<=$V$2,0,\"\"))","v":""},{"$f":"IF('Data Entry'!T78 > 0,'Data Entry'!T78, IF(AG$6<=$V$2,0,\"\"))","v":""},{"$f":"IF('Data Entry'!V78 > 0,'Data Entry'!V78, IF(AH$6<=$V$2,0,\"\"))","v":""},{"$f":"IF('Data Entry'!D123 > 0,'Data Entry'!D123, IF(AI$6<=$V$2,0,\"\"))","v":""},{"$f":"IF('Data Entry'!F123 > 0,'Data Entry'!F123, IF(AJ$6<=$V$2,0,\"\"))","v":""},{"$f":"IF('Data Entry'!H123 > 0,'Data Entry'!H123, IF(AK$6<=$V$2,0,\"\"))","v":""},{"$f":"IF('Data Entry'!J123 > 0,'Data Entry'!J123, IF(AL$6<=$V$2,0,\"\"))","v":""},{"$f":"IF('Data Entry'!L123 > 0,'Data Entry'!L123, IF(AM$6<=$V$2,0,\"\"))","v":""},{"$f":"IF('Data Entry'!N123 > 0,'Data Entry'!N123, IF(AN$6<=$V$2,0,\"\"))","v":""},{"$f":"IF('Data Entry'!P123 > 0,'Data Entry'!P123, IF(AO$6<=$V$2,0,\"\"))","v":""},{"$f":"IF('Data Entry'!R123 > 0,'Data Entry'!R123, IF(AP$6<=$V$2,0,\"\"))","v":""},{"$f":"IF('Data Entry'!T123 > 0,'Data Entry'!T123, IF(AQ$6<=$V$2,0,\"\"))","v":""},{"$f":"IF('Data Entry'!V123 > 0,'Data Entry'!V123, IF(AR$6<=$V$2,0,\"\"))","v":""},{"$f":"IF('Data Entry'!D168 > 0,'Data Entry'!D168, IF(AS$6<=$V$2,0,\"\"))","v":""},{"$f":"IF('Data Entry'!F168 > 0,'Data Entry'!F168, IF(AT$6<=$V$2,0,\"\"))","v":""},{"$f":"IF('Data Entry'!H168 > 0,'Data Entry'!H168, IF(AU$6<=$V$2,0,\"\"))","v":""},{"$f":"IF('Data Entry'!J168 > 0,'Data Entry'!J168, IF(AV$6<=$V$2,0,\"\"))","v":""},{"$f":"IF('Data Entry'!L168 > 0,'Data Entry'!L168, IF(AW$6<=$V$2,0,\"\"))","v":""},{"$f":"IF('Data Entry'!N168 > 0,'Data Entry'!N168, IF(AX$6<=$V$2,0,\"\"))","v":""},{"$f":"IF('Data Entry'!P168 > 0,'Data Entry'!P168, IF(AY$6<=$V$2,0,\"\"))","v":""},{"$f":"IF('Data Entry'!R168 > 0,'Data Entry'!R168, IF(AZ$6<=$V$2,0,\"\"))","v":""},{"$f":"IF('Data Entry'!T168 > 0,'Data Entry'!T168, IF(BA$6<=$V$2,0,\"\"))","v":""},{"$f":"IF('Data Entry'!V168 > 0,'Data Entry'!V168, IF(BB$6<=$V$2,0,\"\"))","v":""},{"$f":"IF('Data Entry'!D213 > 0,'Data Entry'!D213, IF(BC$6<=$V$2,0,\"\"))","v":""},{"$f":"IF('Data Entry'!F213 > 0,'Data Entry'!F213, IF(BD$6<=$V$2,0,\"\"))","v":""},{"$f":"IF('Data Entry'!H213 > 0,'Data Entry'!H213, IF(BE$6<=$V$2,0,\"\"))","v":""},{"$f":"IF('Data Entry'!J213 > 0,'Data Entry'!J213, IF(BF$6<=$V$2,0,\"\"))","v":""},{"$f":"IF('Data Entry'!L213 > 0,'Data Entry'!L213, IF(BG$6<=$V$2,0,\"\"))","v":""},{"$f":"IF('Data Entry'!N213 > 0,'Data Entry'!N213, IF(BH$6<=$V$2,0,\"\"))","v":""},{"$f":"IF('Data Entry'!P213 > 0,'Data Entry'!P213, IF(BI$6<=$V$2,0,\"\"))","v":""},{"$f":"IF('Data Entry'!R213 > 0,'Data Entry'!R213, IF(BJ$6<=$V$2,0,\"\"))","v":""},{"$f":"IF('Data Entry'!T213 > 0,'Data Entry'!T213, IF(BK$6<=$V$2,0,\"\"))","v":""},{"$f":"IF('Data Entry'!V213 > 0,'Data Entry'!V213, IF(BL$6<=$V$2,0,\"\"))","v":""}]
[null,null,{"$f":"IF('Data Entry'!C34<>\"\",'Data Entry'!C34,\"\")","v":""},0,"","",null,null,0,"","","","",{"$f":"IFERROR(IF(M15<>\"\",M15/E15,\"\"),\"NO CV\")","v":""},{"$f":"IF('Data Entry'!D34 > 0,'Data Entry'!D34, IF(O$6<=$V$2,0,\"\"))","v":""},{"$f":"IF('Data Entry'!F34 > 0,'Data Entry'!F34, IF(P$6<=$V$2,0,\"\"))","v":""},{"$f":"IF('Data Entry'!H34 > 0,'Data Entry'!H34, IF(Q$6<=$V$2,0,\"\"))","v":""},{"$f":"IF('Data Entry'!J34 > 0,'Data Entry'!J34, IF(R$6<=$V$2,0,\"\"))","v":""},{"$f":"IF('Data Entry'!L34 > 0,'Data Entry'!L34, IF(S$6<=$V$2,0,\"\"))","v":""},{"$f":"IF('Data Entry'!N34 > 0,'Data Entry'!N34, IF(T$6<=$V$2,0,\"\"))","v":""},{"$f":"IF('Data Entry'!P34 > 0,'Data Entry'!P34, IF(U$6<=$V$2,0,\"\"))","v":""},{"$f":"IF('Data Entry'!R34 > 0,'Data Entry'!R34, IF(V$6<=$V$2,0,\"\"))","v":""},{"$f":"IF('Data Entry'!T34 > 0,'Data Entry'!T34, IF(W$6<=$V$2,0,\"\"))","v":""},{"$f":"IF('Data Entry'!V34 > 0,'Data Entry'!V34, IF(X$6<=$V$2,0,\"\"))","v":""},{"$f":"IF('Data Entry'!D79 > 0,'Data Entry'!D79, IF(Y$6<=$V$2,0,\"\"))","v":""},{"$f":"IF('Data Entry'!F79 > 0,'Data Entry'!F79, IF(Z$6<=$V$2,0,\"\"))","v":""},{"$f":"IF('Data Entry'!H79 > 0,'Data Entry'!H79, IF(AA$6<=$V$2,0,\"\"))","v":""},{"$f":"IF('Data Entry'!J79 > 0,'Data Entry'!J79, IF(AB$6<=$V$2,0,\"\"))","v":""},{"$f":"IF('Data Entry'!L79 > 0,'Data Entry'!L79, IF(AC$6<=$V$2,0,\"\"))","v":""},{"$f":"IF('Data Entry'!N79 > 0,'Data Entry'!N79, IF(AD$6<=$V$2,0,\"\"))","v":""},{"$f":"IF('Data Entry'!P79 > 0,'Data Entry'!P79, IF(AE$6<=$V$2,0,\"\"))","v":""},{"$f":"IF('Data Entry'!R79 > 0,'Data Entry'!R79, IF(AF$6<=$V$2,0,\"\"))","v":""},{"$f":"IF('Data Entry'!T79 > 0,'Data Entry'!T79, IF(AG$6<=$V$2,0,\"\"))","v":""},{"$f":"IF('Data Entry'!V79 > 0,'Data Entry'!V79, IF(AH$6<=$V$2,0,\"\"))","v":""},{"$f":"IF('Data Entry'!D124 > 0,'Data Entry'!D124, IF(AI$6<=$V$2,0,\"\"))","v":""},{"$f":"IF('Data Entry'!F124 > 0,'Data Entry'!F124, IF(AJ$6<=$V$2,0,\"\"))","v":""},{"$f":"IF('Data Entry'!H124 > 0,'Data Entry'!H124, IF(AK$6<=$V$2,0,\"\"))","v":""},{"$f":"IF('Data Entry'!J124 > 0,'Data Entry'!J124, IF(AL$6<=$V$2,0,\"\"))","v":""},{"$f":"IF('Data Entry'!L124 > 0,'Data Entry'!L124, IF(AM$6<=$V$2,0,\"\"))","v":""},{"$f":"IF('Data Entry'!N124 > 0,'Data Entry'!N124, IF(AN$6<=$V$2,0,\"\"))","v":""},{"$f":"IF('Data Entry'!P124 > 0,'Data Entry'!P124, IF(AO$6<=$V$2,0,\"\"))","v":""},{"$f":"IF('Data Entry'!R124 > 0,'Data Entry'!R124, IF(AP$6<=$V$2,0,\"\"))","v":""},{"$f":"IF('Data Entry'!T124 > 0,'Data Entry'!T124, IF(AQ$6<=$V$2,0,\"\"))","v":""},{"$f":"IF('Data Entry'!V124 > 0,'Data Entry'!V124, IF(AR$6<=$V$2,0,\"\"))","v":""},{"$f":"IF('Data Entry'!D169 > 0,'Data Entry'!D169, IF(AS$6<=$V$2,0,\"\"))","v":""},{"$f":"IF('Data Entry'!F169 > 0,'Data Entry'!F169, IF(AT$6<=$V$2,0,\"\"))","v":""},{"$f":"IF('Data Entry'!H169 > 0,'Data Entry'!H169, IF(AU$6<=$V$2,0,\"\"))","v":""},{"$f":"IF('Data Entry'!J169 > 0,'Data Entry'!J169, IF(AV$6<=$V$2,0,\"\"))","v":""},{"$f":"IF('Data Entry'!L169 > 0,'Data Entry'!L169, IF(AW$6<=$V$2,0,\"\"))","v":""},{"$f":"IF('Data Entry'!N169 > 0,'Data Entry'!N169, IF(AX$6<=$V$2,0,\"\"))","v":""},{"$f":"IF('Data Entry'!P169 > 0,'Data Entry'!P169, IF(AY$6<=$V$2,0,\"\"))","v":""},{"$f":"IF('Data Entry'!R169 > 0,'Data Entry'!R169, IF(AZ$6<=$V$2,0,\"\"))","v":""},{"$f":"IF('Data Entry'!T169 > 0,'Data Entry'!T169, IF(BA$6<=$V$2,0,\"\"))","v":""},{"$f":"IF('Data Entry'!V169 > 0,'Data Entry'!V169, IF(BB$6<=$V$2,0,\"\"))","v":""},{"$f":"IF('Data Entry'!D214 > 0,'Data Entry'!D214, IF(BC$6<=$V$2,0,\"\"))","v":""},{"$f":"IF('Data Entry'!F214 > 0,'Data Entry'!F214, IF(BD$6<=$V$2,0,\"\"))","v":""},{"$f":"IF('Data Entry'!H214 > 0,'Data Entry'!H214, IF(BE$6<=$V$2,0,\"\"))","v":""},{"$f":"IF('Data Entry'!J214 > 0,'Data Entry'!J214, IF(BF$6<=$V$2,0,\"\"))","v":""},{"$f":"IF('Data Entry'!L214 > 0,'Data Entry'!L214, IF(BG$6<=$V$2,0,\"\"))","v":""},{"$f":"IF('Data Entry'!N214 > 0,'Data Entry'!N214, IF(BH$6<=$V$2,0,\"\"))","v":""},{"$f":"IF('Data Entry'!P214 > 0,'Data Entry'!P214, IF(BI$6<=$V$2,0,\"\"))","v":""},{"$f":"IF('Data Entry'!R214 > 0,'Data Entry'!R214, IF(BJ$6<=$V$2,0,\"\"))","v":""},{"$f":"IF('Data Entry'!T214 > 0,'Data Entry'!T214, IF(BK$6<=$V$2,0,\"\"))","v":""},{"$f":"IF('Data Entry'!V214 > 0,'Data Entry'!V214, IF(BL$6<=$V$2,0,\"\"))","v":""}]
[null,null,{"$f":"IF('Data Entry'!C35<>\"\",'Data Entry'!C35,\"\")","v":""},0,"","",null,null,0,"","","","",{"$f":"IFERROR(IF(M16<>\"\",M16/E16,\"\"),\"NO CV\")","v":""},{"$f":"IF('Data Entry'!D35 > 0,'Data Entry'!D35, IF(O$6<=$V$2,0,\"\"))","v":""},{"$f":"IF('Data Entry'!F35 > 0,'Data Entry'!F35, IF(P$6<=$V$2,0,\"\"))","v":""},{"$f":"IF('Data Entry'!H35 > 0,'Data Entry'!H35, IF(Q$6<=$V$2,0,\"\"))","v":""},{"$f":"IF('Data Entry'!J35 > 0,'Data Entry'!J35, IF(R$6<=$V$2,0,\"\"))","v":""},{"$f":"IF('Data Entry'!L35 > 0,'Data Entry'!L35, IF(S$6<=$V$2,0,\"\"))","v":""},{"$f":"IF('Data Entry'!N35 > 0,'Data Entry'!N35, IF(T$6<=$V$2,0,\"\"))","v":""},{"$f":"IF('Data Entry'!P35 > 0,'Data Entry'!P35, IF(U$6<=$V$2,0,\"\"))","v":""},{"$f":"IF('Data Entry'!R35 > 0,'Data Entry'!R35, IF(V$6<=$V$2,0,\"\"))","v":""},{"$f":"IF('Data Entry'!T35 > 0,'Data Entry'!T35, IF(W$6<=$V$2,0,\"\"))","v":""},{"$f":"IF('Data Entry'!V35 > 0,'Data Entry'!V35, IF(X$6<=$V$2,0,\"\"))","v":""},{"$f":"IF('Data Entry'!D80 > 0,'Data Entry'!D80, IF(Y$6<=$V$2,0,\"\"))","v":""},{"$f":"IF('Data Entry'!F80 > 0,'Data Entry'!F80, IF(Z$6<=$V$2,0,\"\"))","v":""},{"$f":"IF('Data Entry'!H80 > 0,'Data Entry'!H80, IF(AA$6<=$V$2,0,\"\"))","v":""},{"$f":"IF('Data Entry'!J80 > 0,'Data Entry'!J80, IF(AB$6<=$V$2,0,\"\"))","v":""},{"$f":"IF('Data Entry'!L80 > 0,'Data Entry'!L80, IF(AC$6<=$V$2,0,\"\"))","v":""},{"$f":"IF('Data Entry'!N80 > 0,'Data Entry'!N80, IF(AD$6<=$V$2,0,\"\"))","v":""},{"$f":"IF('Data Entry'!P80 > 0,'Data Entry'!P80, IF(AE$6<=$V$2,0,\"\"))","v":""},{"$f":"IF('Data Entry'!R80 > 0,'Data Entry'!R80, IF(AF$6<=$V$2,0,\"\"))","v":""},{"$f":"IF('Data Entry'!T80 > 0,'Data Entry'!T80, IF(AG$6<=$V$2,0,\"\"))","v":""},{"$f":"IF('Data Entry'!V80 > 0,'Data Entry'!V80, IF(AH$6<=$V$2,0,\"\"))","v":""},{"$f":"IF('Data Entry'!D125 > 0,'Data Entry'!D125, IF(AI$6<=$V$2,0,\"\"))","v":""},{"$f":"IF('Data Entry'!F125 > 0,'Data Entry'!F125, IF(AJ$6<=$V$2,0,\"\"))","v":""},{"$f":"IF('Data Entry'!H125 > 0,'Data Entry'!H125, IF(AK$6<=$V$2,0,\"\"))","v":""},{"$f":"IF('Data Entry'!J125 > 0,'Data Entry'!J125, IF(AL$6<=$V$2,0,\"\"))","v":""},{"$f":"IF('Data Entry'!L125 > 0,'Data Entry'!L125, IF(AM$6<=$V$2,0,\"\"))","v":""},{"$f":"IF('Data Entry'!N125 > 0,'Data Entry'!N125, IF(AN$6<=$V$2,0,\"\"))","v":""},{"$f":"IF('Data Entry'!P125 > 0,'Data Entry'!P125, IF(AO$6<=$V$2,0,\"\"))","v":""},{"$f":"IF('Data Entry'!R125 > 0,'Data Entry'!R125, IF(AP$6<=$V$2,0,\"\"))","v":""},{"$f":"IF('Data Entry'!T125 > 0,'Data Entry'!T125, IF(AQ$6<=$V$2,0,\"\"))","v":""},{"$f":"IF('Data Entry'!V125 > 0,'Data Entry'!V125, IF(AR$6<=$V$2,0,\"\"))","v":""},{"$f":"IF('Data Entry'!D170 > 0,'Data Entry'!D170, IF(AS$6<=$V$2,0,\"\"))","v":""},{"$f":"IF('Data Entry'!F170 > 0,'Data Entry'!F170, IF(AT$6<=$V$2,0,\"\"))","v":""},{"$f":"IF('Data Entry'!H170 > 0,'Data Entry'!H170, IF(AU$6<=$V$2,0,\"\"))","v":""},{"$f":"IF('Data Entry'!J170 > 0,'Data Entry'!J170, IF(AV$6<=$V$2,0,\"\"))","v":""},{"$f":"IF('Data Entry'!L170 > 0,'Data Entry'!L170, IF(AW$6<=$V$2,0,\"\"))","v":""},{"$f":"IF('Data Entry'!N170 > 0,'Data Entry'!N170, IF(AX$6<=$V$2,0,\"\"))","v":""},{"$f":"IF('Data Entry'!P170 > 0,'Data Entry'!P170, IF(AY$6<=$V$2,0,\"\"))","v":""},{"$f":"IF('Data Entry'!R170 > 0,'Data Entry'!R170, IF(AZ$6<=$V$2,0,\"\"))","v":""},{"$f":"IF('Data Entry'!T170 > 0,'Data Entry'!T170, IF(BA$6<=$V$2,0,\"\"))","v":""},{"$f":"IF('Data Entry'!V170 > 0,'Data Entry'!V170, IF(BB$6<=$V$2,0,\"\"))","v":""},{"$f":"IF('Data Entry'!D215 > 0,'Data Entry'!D215, IF(BC$6<=$V$2,0,\"\"))","v":""},{"$f":"IF('Data Entry'!F215 > 0,'Data Entry'!F215, IF(BD$6<=$V$2,0,\"\"))","v":""},{"$f":"IF('Data Entry'!H215 > 0,'Data Entry'!H215, IF(BE$6<=$V$2,0,\"\"))","v":""},{"$f":"IF('Data Entry'!J215 > 0,'Data Entry'!J215, IF(BF$6<=$V$2,0,\"\"))","v":""},{"$f":"IF('Data Entry'!L215 > 0,'Data Entry'!L215, IF(BG$6<=$V$2,0,\"\"))","v":""},{"$f":"IF('Data Entry'!N215 > 0,'Data Entry'!N215, IF(BH$6<=$V$2,0,\"\"))","v":""},{"$f":"IF('Data Entry'!P215 > 0,'Data Entry'!P215, IF(BI$6<=$V$2,0,\"\"))","v":""},{"$f":"IF('Data Entry'!R215 > 0,'Data Entry'!R215, IF(BJ$6<=$V$2,0,\"\"))","v":""},{"$f":"IF('Data Entry'!T215 > 0,'Data Entry'!T215, IF(BK$6<=$V$2,0,\"\"))","v":""},{"$f":"IF('Data Entry'!V215 > 0,'Data Entry'!V215, IF(BL$6<=$V$2,0,\"\"))","v":""}]
[null,null,{"$f":"IF('Data Entry'!C36<>\"\",'Data Entry'!C36,\"\")","v":""},0,"","",null,null,0,"","","","","",{"$f":"IF('Data Entry'!D36 > 0,'Data Entry'!D36, IF(O$6<=$V$2,0,\"\"))","v":""},{"$f":"IF('Data Entry'!F36 > 0,'Data Entry'!F36, IF(P$6<=$V$2,0,\"\"))","v":""},{"$f":"IF('Data Entry'!H36 > 0,'Data Entry'!H36, IF(Q$6<=$V$2,0,\"\"))","v":""},{"$f":"IF('Data Entry'!J36 > 0,'Data Entry'!J36, IF(R$6<=$V$2,0,\"\"))","v":""},{"$f":"IF('Data Entry'!L36 > 0,'Data Entry'!L36, IF(S$6<=$V$2,0,\"\"))","v":""},{"$f":"IF('Data Entry'!N36 > 0,'Data Entry'!N36, IF(T$6<=$V$2,0,\"\"))","v":""},{"$f":"IF('Data Entry'!P36 > 0,'Data Entry'!P36, IF(U$6<=$V$2,0,\"\"))","v":""},{"$f":"IF('Data Entry'!R36 > 0,'Data Entry'!R36, IF(V$6<=$V$2,0,\"\"))","v":""},{"$f":"IF('Data Entry'!T36 > 0,'Data Entry'!T36, IF(W$6<=$V$2,0,\"\"))","v":""},{"$f":"IF('Data Entry'!V36 > 0,'Data Entry'!V36, IF(X$6<=$V$2,0,\"\"))","v":""},{"$f":"IF('Data Entry'!D81 > 0,'Data Entry'!D81, IF(Y$6<=$V$2,0,\"\"))","v":""},{"$f":"IF('Data Entry'!F81 > 0,'Data Entry'!F81, IF(Z$6<=$V$2,0,\"\"))","v":""},{"$f":"IF('Data Entry'!H81 > 0,'Data Entry'!H81, IF(AA$6<=$V$2,0,\"\"))","v":""},{"$f":"IF('Data Entry'!J81 > 0,'Data Entry'!J81, IF(AB$6<=$V$2,0,\"\"))","v":""},{"$f":"IF('Data Entry'!L81 > 0,'Data Entry'!L81, IF(AC$6<=$V$2,0,\"\"))","v":""},{"$f":"IF('Data Entry'!N81 > 0,'Data Entry'!N81, IF(AD$6<=$V$2,0,\"\"))","v":""},{"$f":"IF('Data Entry'!P81 > 0,'Data Entry'!P81, IF(AE$6<=$V$2,0,\"\"))","v":""},{"$f":"IF('Data Entry'!R81 > 0,'Data Entry'!R81, IF(AF$6<=$V$2,0,\"\"))","v":""},{"$f":"IF('Data Entry'!T81 > 0,'Data Entry'!T81, IF(AG$6<=$V$2,0,\"\"))","v":""},{"$f":"IF('Data Entry'!V81 > 0,'Data Entry'!V81, IF(AH$6<=$V$2,0,\"\"))","v":""},{"$f":"IF('Data Entry'!D126 > 0,'Data Entry'!D126, IF(AI$6<=$V$2,0,\"\"))","v":""},{"$f":"IF('Data Entry'!F126 > 0,'Data Entry'!F126, IF(AJ$6<=$V$2,0,\"\"))","v":""},{"$f":"IF('Data Entry'!H126 > 0,'Data Entry'!H126, IF(AK$6<=$V$2,0,\"\"))","v":""},{"$f":"IF('Data Entry'!J126 > 0,'Data Entry'!J126, IF(AL$6<=$V$2,0,\"\"))","v":""},{"$f":"IF('Data Entry'!L126 > 0,'Data Entry'!L126, IF(AM$6<=$V$2,0,\"\"))","v":""},{"$f":"IF('Data Entry'!N126 > 0,'Data Entry'!N126, IF(AN$6<=$V$2,0,\"\"))","v":""},{"$f":"IF('Data Entry'!P126 > 0,'Data Entry'!P126, IF(AO$6<=$V$2,0,\"\"))","v":""},{"$f":"IF('Data Entry'!R126 > 0,'Data Entry'!R126, IF(AP$6<=$V$2,0,\"\"))","v":""},{"$f":"IF('Data Entry'!T126 > 0,'Data Entry'!T126, IF(AQ$6<=$V$2,0,\"\"))","v":""},{"$f":"IF('Data Entry'!V126 > 0,'Data Entry'!V126, IF(AR$6<=$V$2,0,\"\"))","v":""},{"$f":"IF('Data Entry'!D171 > 0,'Data Entry'!D171, IF(AS$6<=$V$2,0,\"\"))","v":""},{"$f":"IF('Data Entry'!F171 > 0,'Data Entry'!F171, IF(AT$6<=$V$2,0,\"\"))","v":""},{"$f":"IF('Data Entry'!H171 > 0,'Data Entry'!H171, IF(AU$6<=$V$2,0,\"\"))","v":""},{"$f":"IF('Data Entry'!J171 > 0,'Data Entry'!J171, IF(AV$6<=$V$2,0,\"\"))","v":""},{"$f":"IF('Data Entry'!L171 > 0,'Data Entry'!L171, IF(AW$6<=$V$2,0,\"\"))","v":""},{"$f":"IF('Data Entry'!N171 > 0,'Data Entry'!N171, IF(AX$6<=$V$2,0,\"\"))","v":""},{"$f":"IF('Data Entry'!P171 > 0,'Data Entry'!P171, IF(AY$6<=$V$2,0,\"\"))","v":""},{"$f":"IF('Data Entry'!R171 > 0,'Data Entry'!R171, IF(AZ$6<=$V$2,0,\"\"))","v":""},{"$f":"IF('Data Entry'!T171 > 0,'Data Entry'!T171, IF(BA$6<=$V$2,0,\"\"))","v":""},{"$f":"IF('Data Entry'!V171 > 0,'Data Entry'!V171, IF(BB$6<=$V$2,0,\"\"))","v":""},{"$f":"IF('Data Entry'!D216 > 0,'Data Entry'!D216, IF(BC$6<=$V$2,0,\"\"))","v":""},{"$f":"IF('Data Entry'!F216 > 0,'Data Entry'!F216, IF(BD$6<=$V$2,0,\"\"))","v":""},{"$f":"IF('Data Entry'!H216 > 0,'Data Entry'!H216, IF(BE$6<=$V$2,0,\"\"))","v":""},{"$f":"IF('Data Entry'!J216 > 0,'Data Entry'!J216, IF(BF$6<=$V$2,0,\"\"))","v":""},{"$f":"IF('Data Entry'!L216 > 0,'Data Entry'!L216, IF(BG$6<=$V$2,0,\"\"))","v":""},{"$f":"IF('Data Entry'!N216 > 0,'Data Entry'!N216, IF(BH$6<=$V$2,0,\"\"))","v":""},{"$f":"IF('Data Entry'!P216 > 0,'Data Entry'!P216, IF(BI$6<=$V$2,0,\"\"))","v":""},{"$f":"IF('Data Entry'!R216 > 0,'Data Entry'!R216, IF(BJ$6<=$V$2,0,\"\"))","v":""},{"$f":"IF('Data Entry'!T216 > 0,'Data Entry'!T216, IF(BK$6<=$V$2,0,\"\"))","v":""},{"$f":"IF('Data Entry'!V216 > 0,'Data Entry'!V216, IF(BL$6<=$V$2,0,\"\"))","v":""}]
[null,null,{"$f":"IF('Data Entry'!C37<>\"\",'Data Entry'!C37,\"\")","v":""},0,"","",null,null,0,"","","","","",{"$f":"IF('Data Entry'!D37 > 0,'Data Entry'!D37, IF(O$6<=$V$2,0,\"\"))","v":""},{"$f":"IF('Data Entry'!F37 > 0,'Data Entry'!F37, IF(P$6<=$V$2,0,\"\"))","v":""},{"$f":"IF('Data Entry'!H37 > 0,'Data Entry'!H37, IF(Q$6<=$V$2,0,\"\"))","v":""},{"$f":"IF('Data Entry'!J37 > 0,'Data Entry'!J37, IF(R$6<=$V$2,0,\"\"))","v":""},{"$f":"IF('Data Entry'!L37 > 0,'Data Entry'!L37, IF(S$6<=$V$2,0,\"\"))","v":""},{"$f":"IF('Data Entry'!N37 > 0,'Data Entry'!N37, IF(T$6<=$V$2,0,\"\"))","v":""},{"$f":"IF('Data Entry'!P37 > 0,'Data Entry'!P37, IF(U$6<=$V$2,0,\"\"))","v":""},{"$f":"IF('Data Entry'!R37 > 0,'Data Entry'!R37, IF(V$6<=$V$2,0,\"\"))","v":""},{"$f":"IF('Data Entry'!T37 > 0,'Data Entry'!T37, IF(W$6<=$V$2,0,\"\"))","v":""},{"$f":"IF('Data Entry'!V37 > 0,'Data Entry'!V37, IF(X$6<=$V$2,0,\"\"))","v":""},{"$f":"IF('Data Entry'!D82 > 0,'Data Entry'!D82, IF(Y$6<=$V$2,0,\"\"))","v":""},{"$f":"IF('Data Entry'!F82 > 0,'Data Entry'!F82, IF(Z$6<=$V$2,0,\"\"))","v":""},{"$f":"IF('Data Entry'!H82 > 0,'Data Entry'!H82, IF(AA$6<=$V$2,0,\"\"))","v":""},{"$f":"IF('Data Entry'!J82 > 0,'Data Entry'!J82, IF(AB$6<=$V$2,0,\"\"))","v":""},{"$f":"IF('Data Entry'!L82 > 0,'Data Entry'!L82, IF(AC$6<=$V$2,0,\"\"))","v":""},{"$f":"IF('Data Entry'!N82 > 0,'Data Entry'!N82, IF(AD$6<=$V$2,0,\"\"))","v":""},{"$f":"IF('Data Entry'!P82 > 0,'Data Entry'!P82, IF(AE$6<=$V$2,0,\"\"))","v":""},{"$f":"IF('Data Entry'!R82 > 0,'Data Entry'!R82, IF(AF$6<=$V$2,0,\"\"))","v":""},{"$f":"IF('Data Entry'!T82 > 0,'Data Entry'!T82, IF(AG$6<=$V$2,0,\"\"))","v":""},{"$f":"IF('Data Entry'!V82 > 0,'Data Entry'!V82, IF(AH$6<=$V$2,0,\"\"))","v":""},{"$f":"IF('Data Entry'!D127 > 0,'Data Entry'!D127, IF(AI$6<=$V$2,0,\"\"))","v":""},{"$f":"IF('Data Entry'!F127 > 0,'Data Entry'!F127, IF(AJ$6<=$V$2,0,\"\"))","v":""},{"$f":"IF('Data Entry'!H127 > 0,'Data Entry'!H127, IF(AK$6<=$V$2,0,\"\"))","v":""},{"$f":"IF('Data Entry'!J127 > 0,'Data Entry'!J127, IF(AL$6<=$V$2,0,\"\"))","v":""},{"$f":"IF('Data Entry'!L127 > 0,'Data Entry'!L127, IF(AM$6<=$V$2,0,\"\"))","v":""},{"$f":"IF('Data Entry'!N127 > 0,'Data Entry'!N127, IF(AN$6<=$V$2,0,\"\"))","v":""},{"$f":"IF('Data Entry'!P127 > 0,'Data Entry'!P127, IF(AO$6<=$V$2,0,\"\"))","v":""},{"$f":"IF('Data Entry'!R127 > 0,'Data Entry'!R127, IF(AP$6<=$V$2,0,\"\"))","v":""},{"$f":"IF('Data Entry'!T127 > 0,'Data Entry'!T127, IF(AQ$6<=$V$2,0,\"\"))","v":""},{"$f":"IF('Data Entry'!V127 > 0,'Data Entry'!V127, IF(AR$6<=$V$2,0,\"\"))","v":""},{"$f":"IF('Data Entry'!D172 > 0,'Data Entry'!D172, IF(AS$6<=$V$2,0,\"\"))","v":""},{"$f":"IF('Data Entry'!F172 > 0,'Data Entry'!F172, IF(AT$6<=$V$2,0,\"\"))","v":""},{"$f":"IF('Data Entry'!H172 > 0,'Data Entry'!H172, IF(AU$6<=$V$2,0,\"\"))","v":""},{"$f":"IF('Data Entry'!J172 > 0,'Data Entry'!J172, IF(AV$6<=$V$2,0,\"\"))","v":""},{"$f":"IF('Data Entry'!L172 > 0,'Data Entry'!L172, IF(AW$6<=$V$2,0,\"\"))","v":""},{"$f":"IF('Data Entry'!N172 > 0,'Data Entry'!N172, IF(AX$6<=$V$2,0,\"\"))","v":""},{"$f":"IF('Data Entry'!P172 > 0,'Data Entry'!P172, IF(AY$6<=$V$2,0,\"\"))","v":""},{"$f":"IF('Data Entry'!R172 > 0,'Data Entry'!R172, IF(AZ$6<=$V$2,0,\"\"))","v":""},{"$f":"IF('Data Entry'!T172 > 0,'Data Entry'!T172, IF(BA$6<=$V$2,0,\"\"))","v":""},{"$f":"IF('Data Entry'!V172 > 0,'Data Entry'!V172, IF(BB$6<=$V$2,0,\"\"))","v":""},{"$f":"IF('Data Entry'!D217 > 0,'Data Entry'!D217, IF(BC$6<=$V$2,0,\"\"))","v":""},{"$f":"IF('Data Entry'!F217 > 0,'Data Entry'!F217, IF(BD$6<=$V$2,0,\"\"))","v":""},{"$f":"IF('Data Entry'!H217 > 0,'Data Entry'!H217, IF(BE$6<=$V$2,0,\"\"))","v":""},{"$f":"IF('Data Entry'!J217 > 0,'Data Entry'!J217, IF(BF$6<=$V$2,0,\"\"))","v":""},{"$f":"IF('Data Entry'!L217 > 0,'Data Entry'!L217, IF(BG$6<=$V$2,0,\"\"))","v":""},{"$f":"IF('Data Entry'!N217 > 0,'Data Entry'!N217, IF(BH$6<=$V$2,0,\"\"))","v":""},{"$f":"IF('Data Entry'!P217 > 0,'Data Entry'!P217, IF(BI$6<=$V$2,0,\"\"))","v":""},{"$f":"IF('Data Entry'!R217 > 0,'Data Entry'!R217, IF(BJ$6<=$V$2,0,\"\"))","v":""},{"$f":"IF('Data Entry'!T217 > 0,'Data Entry'!T217, IF(BK$6<=$V$2,0,\"\"))","v":""},{"$f":"IF('Data Entry'!V217 > 0,'Data Entry'!V217, IF(BL$6<=$V$2,0,\"\"))","v":""}]
[null,null,{"$f":"IF('Data Entry'!C38<>\"\",'Data Entry'!C38,\"\")","v":""},0,"","",null,null,0,"","","","","",{"$f":"IF('Data Entry'!D38 > 0,'Data Entry'!D38, IF(O$6<=$V$2,0,\"\"))","v":""},{"$f":"IF('Data Entry'!F38 > 0,'Data Entry'!F38, IF(P$6<=$V$2,0,\"\"))","v":""},{"$f":"IF('Data Entry'!H38 > 0,'Data Entry'!H38, IF(Q$6<=$V$2,0,\"\"))","v":""},{"$f":"IF('Data Entry'!J38 > 0,'Data Entry'!J38, IF(R$6<=$V$2,0,\"\"))","v":""},{"$f":"IF('Data Entry'!L38 > 0,'Data Entry'!L38, IF(S$6<=$V$2,0,\"\"))","v":""},{"$f":"IF('Data Entry'!N38 > 0,'Data Entry'!N38, IF(T$6<=$V$2,0,\"\"))","v":""},{"$f":"IF('Data Entry'!P38 > 0,'Data Entry'!P38, IF(U$6<=$V$2,0,\"\"))","v":""},{"$f":"IF('Data Entry'!R38 > 0,'Data Entry'!R38, IF(V$6<=$V$2,0,\"\"))","v":""},{"$f":"IF('Data Entry'!T38 > 0,'Data Entry'!T38, IF(W$6<=$V$2,0,\"\"))","v":""},{"$f":"IF('Data Entry'!V38 > 0,'Data Entry'!V38, IF(X$6<=$V$2,0,\"\"))","v":""},{"$f":"IF('Data Entry'!D83 > 0,'Data Entry'!D83, IF(Y$6<=$V$2,0,\"\"))","v":""},{"$f":"IF('Data Entry'!F83 > 0,'Data Entry'!F83, IF(Z$6<=$V$2,0,\"\"))","v":""},{"$f":"IF('Data Entry'!H83 > 0,'Data Entry'!H83, IF(AA$6<=$V$2,0,\"\"))","v":""},{"$f":"IF('Data Entry'!J83 > 0,'Data Entry'!J83, IF(AB$6<=$V$2,0,\"\"))","v":""},{"$f":"IF('Data Entry'!L83 > 0,'Data Entry'!L83, IF(AC$6<=$V$2,0,\"\"))","v":""},{"$f":"IF('Data Entry'!N83 > 0,'Data Entry'!N83, IF(AD$6<=$V$2,0,\"\"))","v":""},{"$f":"IF('Data Entry'!P83 > 0,'Data Entry'!P83, IF(AE$6<=$V$2,0,\"\"))","v":""},{"$f":"IF('Data Entry'!R83 > 0,'Data Entry'!R83, IF(AF$6<=$V$2,0,\"\"))","v":""},{"$f":"IF('Data Entry'!T83 > 0,'Data Entry'!T83, IF(AG$6<=$V$2,0,\"\"))","v":""},{"$f":"IF('Data Entry'!V83 > 0,'Data Entry'!V83, IF(AH$6<=$V$2,0,\"\"))","v":""},{"$f":"IF('Data Entry'!D128 > 0,'Data Entry'!D128, IF(AI$6<=$V$2,0,\"\"))","v":""},{"$f":"IF('Data Entry'!F128 > 0,'Data Entry'!F128, IF(AJ$6<=$V$2,0,\"\"))","v":""},{"$f":"IF('Data Entry'!H128 > 0,'Data Entry'!H128, IF(AK$6<=$V$2,0,\"\"))","v":""},{"$f":"IF('Data Entry'!J128 > 0,'Data Entry'!J128, IF(AL$6<=$V$2,0,\"\"))","v":""},{"$f":"IF('Data Entry'!L128 > 0,'Data Entry'!L128, IF(AM$6<=$V$2,0,\"\"))","v":""},{"$f":"IF('Data Entry'!N128 > 0,'Data Entry'!N128, IF(AN$6<=$V$2,0,\"\"))","v":""},{"$f":"IF('Data Entry'!P128 > 0,'Data Entry'!P128, IF(AO$6<=$V$2,0,\"\"))","v":""},{"$f":"IF('Data Entry'!R128 > 0,'Data Entry'!R128, IF(AP$6<=$V$2,0,\"\"))","v":""},{"$f":"IF('Data Entry'!T128 > 0,'Data Entry'!T128, IF(AQ$6<=$V$2,0,\"\"))","v":""},{"$f":"IF('Data Entry'!V128 > 0,'Data Entry'!V128, IF(AR$6<=$V$2,0,\"\"))","v":""},{"$f":"IF('Data Entry'!D173 > 0,'Data Entry'!D173, IF(AS$6<=$V$2,0,\"\"))","v":""},{"$f":"IF('Data Entry'!F173 > 0,'Data Entry'!F173, IF(AT$6<=$V$2,0,\"\"))","v":""},{"$f":"IF('Data Entry'!H173 > 0,'Data Entry'!H173, IF(AU$6<=$V$2,0,\"\"))","v":""},{"$f":"IF('Data Entry'!J173 > 0,'Data Entry'!J173, IF(AV$6<=$V$2,0,\"\"))","v":""},{"$f":"IF('Data Entry'!L173 > 0,'Data Entry'!L173, IF(AW$6<=$V$2,0,\"\"))","v":""},{"$f":"IF('Data Entry'!N173 > 0,'Data Entry'!N173, IF(AX$6<=$V$2,0,\"\"))","v":""},{"$f":"IF('Data Entry'!P173 > 0,'Data Entry'!P173, IF(AY$6<=$V$2,0,\"\"))","v":""},{"$f":"IF('Data Entry'!R173 > 0,'Data Entry'!R173, IF(AZ$6<=$V$2,0,\"\"))","v":""},{"$f":"IF('Data Entry'!T173 > 0,'Data Entry'!T173, IF(BA$6<=$V$2,0,\"\"))","v":""},{"$f":"IF('Data Entry'!V173 > 0,'Data Entry'!V173, IF(BB$6<=$V$2,0,\"\"))","v":""},{"$f":"IF('Data Entry'!D218 > 0,'Data Entry'!D218, IF(BC$6<=$V$2,0,\"\"))","v":""},{"$f":"IF('Data Entry'!F218 > 0,'Data Entry'!F218, IF(BD$6<=$V$2,0,\"\"))","v":""},{"$f":"IF('Data Entry'!H218 > 0,'Data Entry'!H218, IF(BE$6<=$V$2,0,\"\"))","v":""},{"$f":"IF('Data Entry'!J218 > 0,'Data Entry'!J218, IF(BF$6<=$V$2,0,\"\"))","v":""},{"$f":"IF('Data Entry'!L218 > 0,'Data Entry'!L218, IF(BG$6<=$V$2,0,\"\"))","v":""},{"$f":"IF('Data Entry'!N218 > 0,'Data Entry'!N218, IF(BH$6<=$V$2,0,\"\"))","v":""},{"$f":"IF('Data Entry'!P218 > 0,'Data Entry'!P218, IF(BI$6<=$V$2,0,\"\"))","v":""},{"$f":"IF('Data Entry'!R218 > 0,'Data Entry'!R218, IF(BJ$6<=$V$2,0,\"\"))","v":""},{"$f":"IF('Data Entry'!T218 > 0,'Data Entry'!T218, IF(BK$6<=$V$2,0,\"\"))","v":""},{"$f":"IF('Data Entry'!V218 > 0,'Data Entry'!V218, IF(BL$6<=$V$2,0,\"\"))","v":""}]
[null,null,{"$f":"IF('Data Entry'!C39<>\"\",'Data Entry'!C39,\"\")","v":""},0,"","",null,null,0,"","","","","",{"$f":"IF('Data Entry'!D39 > 0,'Data Entry'!D39, IF(O$6<=$V$2,0,\"\"))","v":""},{"$f":"IF('Data Entry'!F39 > 0,'Data Entry'!F39, IF(P$6<=$V$2,0,\"\"))","v":""},{"$f":"IF('Data Entry'!H39 > 0,'Data Entry'!H39, IF(Q$6<=$V$2,0,\"\"))","v":""},{"$f":"IF('Data Entry'!J39 > 0,'Data Entry'!J39, IF(R$6<=$V$2,0,\"\"))","v":""},{"$f":"IF('Data Entry'!L39 > 0,'Data Entry'!L39, IF(S$6<=$V$2,0,\"\"))","v":""},{"$f":"IF('Data Entry'!N39 > 0,'Data Entry'!N39, IF(T$6<=$V$2,0,\"\"))","v":""},{"$f":"IF('Data Entry'!P39 > 0,'Data Entry'!P39, IF(U$6<=$V$2,0,\"\"))","v":""},{"$f":"IF('Data Entry'!R39 > 0,'Data Entry'!R39, IF(V$6<=$V$2,0,\"\"))","v":""},{"$f":"IF('Data Entry'!T39 > 0,'Data Entry'!T39, IF(W$6<=$V$2,0,\"\"))","v":""},{"$f":"IF('Data Entry'!V39 > 0,'Data Entry'!V39, IF(X$6<=$V$2,0,\"\"))","v":""},{"$f":"IF('Data Entry'!D84 > 0,'Data Entry'!D84, IF(Y$6<=$V$2,0,\"\"))","v":""},{"$f":"IF('Data Entry'!F84 > 0,'Data Entry'!F84, IF(Z$6<=$V$2,0,\"\"))","v":""},{"$f":"IF('Data Entry'!H84 > 0,'Data Entry'!H84, IF(AA$6<=$V$2,0,\"\"))","v":""},{"$f":"IF('Data Entry'!J84 > 0,'Data Entry'!J84, IF(AB$6<=$V$2,0,\"\"))","v":""},{"$f":"IF('Data Entry'!L84 > 0,'Data Entry'!L84, IF(AC$6<=$V$2,0,\"\"))","v":""},{"$f":"IF('Data Entry'!N84 > 0,'Data Entry'!N84, IF(AD$6<=$V$2,0,\"\"))","v":""},{"$f":"IF('Data Entry'!P84 > 0,'Data Entry'!P84, IF(AE$6<=$V$2,0,\"\"))","v":""},{"$f":"IF('Data Entry'!R84 > 0,'Data Entry'!R84, IF(AF$6<=$V$2,0,\"\"))","v":""},{"$f":"IF('Data Entry'!T84 > 0,'Data Entry'!T84, IF(AG$6<=$V$2,0,\"\"))","v":""},{"$f":"IF('Data Entry'!V84 > 0,'Data Entry'!V84, IF(AH$6<=$V$2,0,\"\"))","v":""},{"$f":"IF('Data Entry'!D129 > 0,'Data Entry'!D129, IF(AI$6<=$V$2,0,\"\"))","v":""},{"$f":"IF('Data Entry'!F129 > 0,'Data Entry'!F129, IF(AJ$6<=$V$2,0,\"\"))","v":""},{"$f":"IF('Data Entry'!H129 > 0,'Data Entry'!H129, IF(AK$6<=$V$2,0,\"\"))","v":""},{"$f":"IF('Data Entry'!J129 > 0,'Data Entry'!J129, IF(AL$6<=$V$2,0,\"\"))","v":""},{"$f":"IF('Data Entry'!L129 > 0,'Data Entry'!L129, IF(AM$6<=$V$2,0,\"\"))","v":""},{"$f":"IF('Data Entry'!N129 > 0,'Data Entry'!N129, IF(AN$6<=$V$2,0,\"\"))","v":""},{"$f":"IF('Data Entry'!P129 > 0,'Data Entry'!P129, IF(AO$6<=$V$2,0,\"\"))","v":""},{"$f":"IF('Data Entry'!R129 > 0,'Data Entry'!R129, IF(AP$6<=$V$2,0,\"\"))","v":""},{"$f":"IF('Data Entry'!T129 > 0,'Data Entry'!T129, IF(AQ$6<=$V$2,0,\"\"))","v":""},{"$f":"IF('Data Entry'!V129 > 0,'Data Entry'!V129, IF(AR$6<=$V$2,0,\"\"))","v":""},{"$f":"IF('Data Entry'!D174 > 0,'Data Entry'!D174, IF(AS$6<=$V$2,0,\"\"))","v":""},{"$f":"IF('Data Entry'!F174 > 0,'Data Entry'!F174, IF(AT$6<=$V$2,0,\"\"))","v":""},{"$f":"IF('Data Entry'!H174 > 0,'Data Entry'!H174, IF(AU$6<=$V$2,0,\"\"))","v":""},{"$f":"IF('Data Entry'!J174 > 0,'Data Entry'!J174, IF(AV$6<=$V$2,0,\"\"))","v":""},{"$f":"IF('Data Entry'!L174 > 0,'Data Entry'!L174, IF(AW$6<=$V$2,0,\"\"))","v":""},{"$f":"IF('Data Entry'!N174 > 0,'Data Entry'!N174, IF(AX$6<=$V$2,0,\"\"))","v":""},{"$f":"IF('Data Entry'!P174 > 0,'Data Entry'!P174, IF(AY$6<=$V$2,0,\"\"))","v":""},{"$f":"IF('Data Entry'!R174 > 0,'Data Entry'!R174, IF(AZ$6<=$V$2,0,\"\"))","v":""},{"$f":"IF('Data Entry'!T174 > 0,'Data Entry'!T174, IF(BA$6<=$V$2,0,\"\"))","v":""},{"$f":"IF('Data Entry'!V174 > 0,'Data Entry'!V174, IF(BB$6<=$V$2,0,\"\"))","v":""},{"$f":"IF('Data Entry'!D219 > 0,'Data Entry'!D219, IF(BC$6<=$V$2,0,\"\"))","v":""},{"$f":"IF('Data Entry'!F219 > 0,'Data Entry'!F219, IF(BD$6<=$V$2,0,\"\"))","v":""},{"$f":"IF('Data Entry'!H219 > 0,'Data Entry'!H219, IF(BE$6<=$V$2,0,\"\"))","v":""},{"$f":"IF('Data Entry'!J219 > 0,'Data Entry'!J219, IF(BF$6<=$V$2,0,\"\"))","v":""},{"$f":"IF('Data Entry'!L219 > 0,'Data Entry'!L219, IF(BG$6<=$V$2,0,\"\"))","v":""},{"$f":"IF('Data Entry'!N219 > 0,'Data Entry'!N219, IF(BH$6<=$V$2,0,\"\"))","v":""},{"$f":"IF('Data Entry'!P219 > 0,'Data Entry'!P219, IF(BI$6<=$V$2,0,\"\"))","v":""},{"$f":"IF('Data Entry'!R219 > 0,'Data Entry'!R219, IF(BJ$6<=$V$2,0,\"\"))","v":""},{"$f":"IF('Data Entry'!T219 > 0,'Data Entry'!T219, IF(BK$6<=$V$2,0,\"\"))","v":""},{"$f":"IF('Data Entry'!V219 > 0,'Data Entry'!V219, IF(BL$6<=$V$2,0,\"\"))","v":""}]
[null,null,{"$f":"IF('Data Entry'!C40<>\"\",'Data Entry'!C40,\"\")","v":""},0,"","",null,null,0,"","","","","",{"$f":"IF('Data Entry'!D40 > 0,'Data Entry'!D40, IF(O$6<=$V$2,0,\"\"))","v":""},{"$f":"IF('Data Entry'!F40 > 0,'Data Entry'!F40, IF(P$6<=$V$2,0,\"\"))","v":""},{"$f":"IF('Data Entry'!H40 > 0,'Data Entry'!H40, IF(Q$6<=$V$2,0,\"\"))","v":""},{"$f":"IF('Data Entry'!J40 > 0,'Data Entry'!J40, IF(R$6<=$V$2,0,\"\"))","v":""},{"$f":"IF('Data Entry'!L40 > 0,'Data Entry'!L40, IF(S$6<=$V$2,0,\"\"))","v":""},{"$f":"IF('Data Entry'!N40 > 0,'Data Entry'!N40, IF(T$6<=$V$2,0,\"\"))","v":""},{"$f":"IF('Data Entry'!P40 > 0,'Data Entry'!P40, IF(U$6<=$V$2,0,\"\"))","v":""},{"$f":"IF('Data Entry'!R40 > 0,'Data Entry'!R40, IF(V$6<=$V$2,0,\"\"))","v":""},{"$f":"IF('Data Entry'!T40 > 0,'Data Entry'!T40, IF(W$6<=$V$2,0,\"\"))","v":""},{"$f":"IF('Data Entry'!V40 > 0,'Data Entry'!V40, IF(X$6<=$V$2,0,\"\"))","v":""},{"$f":"IF('Data Entry'!D85 > 0,'Data Entry'!D85, IF(Y$6<=$V$2,0,\"\"))","v":""},{"$f":"IF('Data Entry'!F85 > 0,'Data Entry'!F85, IF(Z$6<=$V$2,0,\"\"))","v":""},{"$f":"IF('Data Entry'!H85 > 0,'Data Entry'!H85, IF(AA$6<=$V$2,0,\"\"))","v":""},{"$f":"IF('Data Entry'!J85 > 0,'Data Entry'!J85, IF(AB$6<=$V$2,0,\"\"))","v":""},{"$f":"IF('Data Entry'!L85 > 0,'Data Entry'!L85, IF(AC$6<=$V$2,0,\"\"))","v":""},{"$f":"IF('Data Entry'!N85 > 0,'Data Entry'!N85, IF(AD$6<=$V$2,0,\"\"))","v":""},{"$f":"IF('Data Entry'!P85 > 0,'Data Entry'!P85, IF(AE$6<=$V$2,0,\"\"))","v":""},{"$f":"IF('Data Entry'!R85 > 0,'Data Entry'!R85, IF(AF$6<=$V$2,0,\"\"))","v":""},{"$f":"IF('Data Entry'!T85 > 0,'Data Entry'!T85, IF(AG$6<=$V$2,0,\"\"))","v":""},{"$f":"IF('Data Entry'!V85 > 0,'Data Entry'!V85, IF(AH$6<=$V$2,0,\"\"))","v":""},{"$f":"IF('Data Entry'!D130 > 0,'Data Entry'!D130, IF(AI$6<=$V$2,0,\"\"))","v":""},{"$f":"IF('Data Entry'!F130 > 0,'Data Entry'!F130, IF(AJ$6<=$V$2,0,\"\"))","v":""},{"$f":"IF('Data Entry'!H130 > 0,'Data Entry'!H130, IF(AK$6<=$V$2,0,\"\"))","v":""},{"$f":"IF('Data Entry'!J130 > 0,'Data Entry'!J130, IF(AL$6<=$V$2,0,\"\"))","v":""},{"$f":"IF('Data Entry'!L130 > 0,'Data Entry'!L130, IF(AM$6<=$V$2,0,\"\"))","v":""},{"$f":"IF('Data Entry'!N130 > 0,'Data Entry'!N130, IF(AN$6<=$V$2,0,\"\"))","v":""},{"$f":"IF('Data Entry'!P130 > 0,'Data Entry'!P130, IF(AO$6<=$V$2,0,\"\"))","v":""},{"$f":"IF('Data Entry'!R130 > 0,'Data Entry'!R130, IF(AP$6<=$V$2,0,\"\"))","v":""},{"$f":"IF('Data Entry'!T130 > 0,'Data Entry'!T130, IF(AQ$6<=$V$2,0,\"\"))","v":""},{"$f":"IF('Data Entry'!V130 > 0,'Data Entry'!V130, IF(AR$6<=$V$2,0,\"\"))","v":""},{"$f":"IF('Data Entry'!D175 > 0,'Data Entry'!D175, IF(AS$6<=$V$2,0,\"\"))","v":""},{"$f":"IF('Data Entry'!F175 > 0,'Data Entry'!F175, IF(AT$6<=$V$2,0,\"\"))","v":""},{"$f":"IF('Data Entry'!H175 > 0,'Data Entry'!H175, IF(AU$6<=$V$2,0,\"\"))","v":""},{"$f":"IF('Data Entry'!J175 > 0,'Data Entry'!J175, IF(AV$6<=$V$2,0,\"\"))","v":""},{"$f":"IF('Data Entry'!L175 > 0,'Data Entry'!L175, IF(AW$6<=$V$2,0,\"\"))","v":""},{"$f":"IF('Data Entry'!N175 > 0,'Data Entry'!N175, IF(AX$6<=$V$2,0,\"\"))","v":""},{"$f":"IF('Data Entry'!P175 > 0,'Data Entry'!P175, IF(AY$6<=$V$2,0,\"\"))","v":""},{"$f":"IF('Data Entry'!R175 > 0,'Data Entry'!R175, IF(AZ$6<=$V$2,0,\"\"))","v":""},{"$f":"IF('Data Entry'!T175 > 0,'Data Entry'!T175, IF(BA$6<=$V$2,0,\"\"))","v":""},{"$f":"IF('Data Entry'!V175 > 0,'Data Entry'!V175, IF(BB$6<=$V$2,0,\"\"))","v":""},{"$f":"IF('Data Entry'!D220 > 0,'Data Entry'!D220, IF(BC$6<=$V$2,0,\"\"))","v":""},{"$f":"IF('Data Entry'!F220 > 0,'Data Entry'!F220, IF(BD$6<=$V$2,0,\"\"))","v":""},{"$f":"IF('Data Entry'!H220 > 0,'Data Entry'!H220, IF(BE$6<=$V$2,0,\"\"))","v":""},{"$f":"IF('Data Entry'!J220 > 0,'Data Entry'!J220, IF(BF$6<=$V$2,0,\"\"))","v":""},{"$f":"IF('Data Entry'!L220 > 0,'Data Entry'!L220, IF(BG$6<=$V$2,0,\"\"))","v":""},{"$f":"IF('Data Entry'!N220 > 0,'Data Entry'!N220, IF(BH$6<=$V$2,0,\"\"))","v":""},{"$f":"IF('Data Entry'!P220 > 0,'Data Entry'!P220, IF(BI$6<=$V$2,0,\"\"))","v":""},{"$f":"IF('Data Entry'!R220 > 0,'Data Entry'!R220, IF(BJ$6<=$V$2,0,\"\"))","v":""},{"$f":"IF('Data Entry'!T220 > 0,'Data Entry'!T220, IF(BK$6<=$V$2,0,\"\"))","v":""},{"$f":"IF('Data Entry'!V220 > 0,'Data Entry'!V220, IF(BL$6<=$V$2,0,\"\"))","v":""}]
[null,null,{"$f":"IF('Data Entry'!C41<>\"\",'Data Entry'!C41,\"\")","v":""},0,"","",null,null,0,"","","","","",{"$f":"IF('Data Entry'!D41 > 0,'Data Entry'!D41, IF(O$6<=$V$2,0,\"\"))","v":""},{"$f":"IF('Data Entry'!F41 > 0,'Data Entry'!F41, IF(P$6<=$V$2,0,\"\"))","v":""},{"$f":"IF('Data Entry'!H41 > 0,'Data Entry'!H41, IF(Q$6<=$V$2,0,\"\"))","v":""},{"$f":"IF('Data Entry'!J41 > 0,'Data Entry'!J41, IF(R$6<=$V$2,0,\"\"))","v":""},{"$f":"IF('Data Entry'!L41 > 0,'Data Entry'!L41, IF(S$6<=$V$2,0,\"\"))","v":""},{"$f":"IF('Data Entry'!N41 > 0,'Data Entry'!N41, IF(T$6<=$V$2,0,\"\"))","v":""},{"$f":"IF('Data Entry'!P41 > 0,'Data Entry'!P41, IF(U$6<=$V$2,0,\"\"))","v":""},{"$f":"IF('Data Entry'!R41 > 0,'Data Entry'!R41, IF(V$6<=$V$2,0,\"\"))","v":""},{"$f":"IF('Data Entry'!T41 > 0,'Data Entry'!T41, IF(W$6<=$V$2,0,\"\"))","v":""},{"$f":"IF('Data Entry'!V41 > 0,'Data Entry'!V41, IF(X$6<=$V$2,0,\"\"))","v":""},{"$f":"IF('Data Entry'!D86 > 0,'Data Entry'!D86, IF(Y$6<=$V$2,0,\"\"))","v":""},{"$f":"IF('Data Entry'!F86 > 0,'Data Entry'!F86, IF(Z$6<=$V$2,0,\"\"))","v":""},{"$f":"IF('Data Entry'!H86 > 0,'Data Entry'!H86, IF(AA$6<=$V$2,0,\"\"))","v":""},{"$f":"IF('Data Entry'!J86 > 0,'Data Entry'!J86, IF(AB$6<=$V$2,0,\"\"))","v":""},{"$f":"IF('Data Entry'!L86 > 0,'Data Entry'!L86, IF(AC$6<=$V$2,0,\"\"))","v":""},{"$f":"IF('Data Entry'!N86 > 0,'Data Entry'!N86, IF(AD$6<=$V$2,0,\"\"))","v":""},{"$f":"IF('Data Entry'!P86 > 0,'Data Entry'!P86, IF(AE$6<=$V$2,0,\"\"))","v":""},{"$f":"IF('Data Entry'!R86 > 0,'Data Entry'!R86, IF(AF$6<=$V$2,0,\"\"))","v":""},{"$f":"IF('Data Entry'!T86 > 0,'Data Entry'!T86, IF(AG$6<=$V$2,0,\"\"))","v":""},{"$f":"IF('Data Entry'!V86 > 0,'Data Entry'!V86, IF(AH$6<=$V$2,0,\"\"))","v":""},{"$f":"IF('Data Entry'!D131 > 0,'Data Entry'!D131, IF(AI$6<=$V$2,0,\"\"))","v":""},{"$f":"IF('Data Entry'!F131 > 0,'Data Entry'!F131, IF(AJ$6<=$V$2,0,\"\"))","v":""},{"$f":"IF('Data Entry'!H131 > 0,'Data Entry'!H131, IF(AK$6<=$V$2,0,\"\"))","v":""},{"$f":"IF('Data Entry'!J131 > 0,'Data Entry'!J131, IF(AL$6<=$V$2,0,\"\"))","v":""},{"$f":"IF('Data Entry'!L131 > 0,'Data Entry'!L131, IF(AM$6<=$V$2,0,\"\"))","v":""},{"$f":"IF('Data Entry'!N131 > 0,'Data Entry'!N131, IF(AN$6<=$V$2,0,\"\"))","v":""},{"$f":"IF('Data Entry'!P131 > 0,'Data Entry'!P131, IF(AO$6<=$V$2,0,\"\"))","v":""},{"$f":"IF('Data Entry'!R131 > 0,'Data Entry'!R131, IF(AP$6<=$V$2,0,\"\"))","v":""},{"$f":"IF('Data Entry'!T131 > 0,'Data Entry'!T131, IF(AQ$6<=$V$2,0,\"\"))","v":""},{"$f":"IF('Data Entry'!V131 > 0,'Data Entry'!V131, IF(AR$6<=$V$2,0,\"\"))","v":""},{"$f":"IF('Data Entry'!D176 > 0,'Data Entry'!D176, IF(AS$6<=$V$2,0,\"\"))","v":""},{"$f":"IF('Data Entry'!F176 > 0,'Data Entry'!F176, IF(AT$6<=$V$2,0,\"\"))","v":""},{"$f":"IF('Data Entry'!H176 > 0,'Data Entry'!H176, IF(AU$6<=$V$2,0,\"\"))","v":""},{"$f":"IF('Data Entry'!J176 > 0,'Data Entry'!J176, IF(AV$6<=$V$2,0,\"\"))","v":""},{"$f":"IF('Data Entry'!L176 > 0,'Data Entry'!L176, IF(AW$6<=$V$2,0,\"\"))","v":""},{"$f":"IF('Data Entry'!N176 > 0,'Data Entry'!N176, IF(AX$6<=$V$2,0,\"\"))","v":""},{"$f":"IF('Data Entry'!P176 > 0,'Data Entry'!P176, IF(AY$6<=$V$2,0,\"\"))","v":""},{"$f":"IF('Data Entry'!R176 > 0,'Data Entry'!R176, IF(AZ$6<=$V$2,0,\"\"))","v":""},{"$f":"IF('Data Entry'!T176 > 0,'Data Entry'!T176, IF(BA$6<=$V$2,0,\"\"))","v":""},{"$f":"IF('Data Entry'!V176 > 0,'Data Entry'!V176, IF(BB$6<=$V$2,0,\"\"))","v":""},{"$f":"IF('Data Entry'!D221 > 0,'Data Entry'!D221, IF(BC$6<=$V$2,0,\"\"))","v":""},{"$f":"IF('Data Entry'!F221 > 0,'Data Entry'!F221, IF(BD$6<=$V$2,0,\"\"))","v":""},{"$f":"IF('Data Entry'!H221 > 0,'Data Entry'!H221, IF(BE$6<=$V$2,0,\"\"))","v":""},{"$f":"IF('Data Entry'!J221 > 0,'Data Entry'!J221, IF(BF$6<=$V$2,0,\"\"))","v":""},{"$f":"IF('Data Entry'!L221 > 0,'Data Entry'!L221, IF(BG$6<=$V$2,0,\"\"))","v":""},{"$f":"IF('Data Entry'!N221 > 0,'Data Entry'!N221, IF(BH$6<=$V$2,0,\"\"))","v":""},{"$f":"IF('Data Entry'!P221 > 0,'Data Entry'!P221, IF(BI$6<=$V$2,0,\"\"))","v":""},{"$f":"IF('Data Entry'!R221 > 0,'Data Entry'!R221, IF(BJ$6<=$V$2,0,\"\"))","v":""},{"$f":"IF('Data Entry'!T221 > 0,'Data Entry'!T221, IF(BK$6<=$V$2,0,\"\"))","v":""},{"$f":"IF('Data Entry'!V221 > 0,'Data Entry'!V221, IF(BL$6<=$V$2,0,\"\"))","v":""}]
[null,null,{"$f":"IF('Data Entry'!C42<>\"\",'Data Entry'!C42,\"\")","v":""},0,"","",null,null,0,"","","","","",{"$f":"IF('Data Entry'!D42 > 0,'Data Entry'!D42, IF(O$6<=$V$2,0,\"\"))","v":""},{"$f":"IF('Data Entry'!F42 > 0,'Data Entry'!F42, IF(P$6<=$V$2,0,\"\"))","v":""},{"$f":"IF('Data Entry'!H42 > 0,'Data Entry'!H42, IF(Q$6<=$V$2,0,\"\"))","v":""},{"$f":"IF('Data Entry'!J42 > 0,'Data Entry'!J42, IF(R$6<=$V$2,0,\"\"))","v":""},{"$f":"IF('Data Entry'!L42 > 0,'Data Entry'!L42, IF(S$6<=$V$2,0,\"\"))","v":""},{"$f":"IF('Data Entry'!N42 > 0,'Data Entry'!N42, IF(T$6<=$V$2,0,\"\"))","v":""},{"$f":"IF('Data Entry'!P42 > 0,'Data Entry'!P42, IF(U$6<=$V$2,0,\"\"))","v":""},{"$f":"IF('Data Entry'!R42 > 0,'Data Entry'!R42, IF(V$6<=$V$2,0,\"\"))","v":""},{"$f":"IF('Data Entry'!T42 > 0,'Data Entry'!T42, IF(W$6<=$V$2,0,\"\"))","v":""},{"$f":"IF('Data Entry'!V42 > 0,'Data Entry'!V42, IF(X$6<=$V$2,0,\"\"))","v":""},{"$f":"IF('Data Entry'!D87 > 0,'Data Entry'!D87, IF(Y$6<=$V$2,0,\"\"))","v":""},{"$f":"IF('Data Entry'!F87 > 0,'Data Entry'!F87, IF(Z$6<=$V$2,0,\"\"))","v":""},{"$f":"IF('Data Entry'!H87 > 0,'Data Entry'!H87, IF(AA$6<=$V$2,0,\"\"))","v":""},{"$f":"IF('Data Entry'!J87 > 0,'Data Entry'!J87, IF(AB$6<=$V$2,0,\"\"))","v":""},{"$f":"IF('Data Entry'!L87 > 0,'Data Entry'!L87, IF(AC$6<=$V$2,0,\"\"))","v":""},{"$f":"IF('Data Entry'!N87 > 0,'Data Entry'!N87, IF(AD$6<=$V$2,0,\"\"))","v":""},{"$f":"IF('Data Entry'!P87 > 0,'Data Entry'!P87, IF(AE$6<=$V$2,0,\"\"))","v":""},{"$f":"IF('Data Entry'!R87 > 0,'Data Entry'!R87, IF(AF$6<=$V$2,0,\"\"))","v":""},{"$f":"IF('Data Entry'!T87 > 0,'Data Entry'!T87, IF(AG$6<=$V$2,0,\"\"))","v":""},{"$f":"IF('Data Entry'!V87 > 0,'Data Entry'!V87, IF(AH$6<=$V$2,0,\"\"))","v":""},{"$f":"IF('Data Entry'!D132 > 0,'Data Entry'!D132, IF(AI$6<=$V$2,0,\"\"))","v":""},{"$f":"IF('Data Entry'!F132 > 0,'Data Entry'!F132, IF(AJ$6<=$V$2,0,\"\"))","v":""},{"$f":"IF('Data Entry'!H132 > 0,'Data Entry'!H132, IF(AK$6<=$V$2,0,\"\"))","v":""},{"$f":"IF('Data Entry'!J132 > 0,'Data Entry'!J132, IF(AL$6<=$V$2,0,\"\"))","v":""},{"$f":"IF('Data Entry'!L132 > 0,'Data Entry'!L132, IF(AM$6<=$V$2,0,\"\"))","v":""},{"$f":"IF('Data Entry'!N132 > 0,'Data Entry'!N132, IF(AN$6<=$V$2,0,\"\"))","v":""},{"$f":"IF('Data Entry'!P132 > 0,'Data Entry'!P132, IF(AO$6<=$V$2,0,\"\"))","v":""},{"$f":"IF('Data Entry'!R132 > 0,'Data Entry'!R132, IF(AP$6<=$V$2,0,\"\"))","v":""},{"$f":"IF('Data Entry'!T132 > 0,'Data Entry'!T132, IF(AQ$6<=$V$2,0,\"\"))","v":""},{"$f":"IF('Data Entry'!V132 > 0,'Data Entry'!V132, IF(AR$6<=$V$2,0,\"\"))","v":""},{"$f":"IF('Data Entry'!D177 > 0,'Data Entry'!D177, IF(AS$6<=$V$2,0,\"\"))","v":""},{"$f":"IF('Data Entry'!F177 > 0,'Data Entry'!F177, IF(AT$6<=$V$2,0,\"\"))","v":""},{"$f":"IF('Data Entry'!H177 > 0,'Data Entry'!H177, IF(AU$6<=$V$2,0,\"\"))","v":""},{"$f":"IF('Data Entry'!J177 > 0,'Data Entry'!J177, IF(AV$6<=$V$2,0,\"\"))","v":""},{"$f":"IF('Data Entry'!L177 > 0,'Data Entry'!L177, IF(AW$6<=$V$2,0,\"\"))","v":""},{"$f":"IF('Data Entry'!N177 > 0,'Data Entry'!N177, IF(AX$6<=$V$2,0,\"\"))","v":""},{"$f":"IF('Data Entry'!P177 > 0,'Data Entry'!P177, IF(AY$6<=$V$2,0,\"\"))","v":""},{"$f":"IF('Data Entry'!R177 > 0,'Data Entry'!R177, IF(AZ$6<=$V$2,0,\"\"))","v":""},{"$f":"IF('Data Entry'!T177 > 0,'Data Entry'!T177, IF(BA$6<=$V$2,0,\"\"))","v":""},{"$f":"IF('Data Entry'!V177 > 0,'Data Entry'!V177, IF(BB$6<=$V$2,0,\"\"))","v":""},{"$f":"IF('Data Entry'!D222 > 0,'Data Entry'!D222, IF(BC$6<=$V$2,0,\"\"))","v":""},{"$f":"IF('Data Entry'!F222 > 0,'Data Entry'!F222, IF(BD$6<=$V$2,0,\"\"))","v":""},{"$f":"IF('Data Entry'!H222 > 0,'Data Entry'!H222, IF(BE$6<=$V$2,0,\"\"))","v":""},{"$f":"IF('Data Entry'!J222 > 0,'Data Entry'!J222, IF(BF$6<=$V$2,0,\"\"))","v":""},{"$f":"IF('Data Entry'!L222 > 0,'Data Entry'!L222, IF(BG$6<=$V$2,0,\"\"))","v":""},{"$f":"IF('Data Entry'!N222 > 0,'Data Entry'!N222, IF(BH$6<=$V$2,0,\"\"))","v":""},{"$f":"IF('Data Entry'!P222 > 0,'Data Entry'!P222, IF(BI$6<=$V$2,0,\"\"))","v":""},{"$f":"IF('Data Entry'!R222 > 0,'Data Entry'!R222, IF(BJ$6<=$V$2,0,\"\"))","v":""},{"$f":"IF('Data Entry'!T222 > 0,'Data Entry'!T222, IF(BK$6<=$V$2,0,\"\"))","v":""},{"$f":"IF('Data Entry'!V222 > 0,'Data Entry'!V222, IF(BL$6<=$V$2,0,\"\"))","v":""}]
[null,null,"Overall",{"$f":"IF(SUM(D7:D23)<>0,SUM(D7:D23),\"\")","v":""},{"$f":"IF(COUNT(E7:E23)<>0,SUM(E7:E23),\"\")","v":""},{"$f":"IF(SUM(F7:F23)<>0,SUM(F7:F23),\"\")","v":""},null,null,0,"",{"$f":"IF(MIN(O24:BL24)<>0,MIN(O24:BL24)/I24,\"\")","v":""},{"$f":"IF(MAX(O24:BL24)<>0,MAX(O24:BL24)/I24,\"\")","v":""},{"$f":"IF(D24<>\"\",_xlfn.STDEV.S(O24:BL24)/I24,\"\")","v":""},{"$f":"IF(M24<>\"\",M24/E24,\"\")","v":""},{"$f":"IF(SUM(O7:O23)<>0,SUM(O7:O23),IF(O6<=$V$2,0,\"\"))","v":""},{"$f":"IF(SUM(P7:P23)<>0,SUM(P7:P23),IF(P6<=$V$2,0,\"\"))","v":""},"","","","",{"$f":"IF(SUM(U7:U23)<>0,SUM(U7:U23),IF(U6<=$V$2,0,\"\"))","v":""},{"$f":"IF(SUM(V7:V23)<>0,SUM(V7:V23),IF(V6<=$V$2,0,\"\"))","v":""},{"$f":"IF(SUM(W7:W23)<>0,SUM(W7:W23),IF(W6<=$V$2,0,\"\"))","v":""},{"$f":"IF(SUM(X7:X23)<>0,SUM(X7:X23),IF(X6<=$V$2,0,\"\"))","v":""},"",{"$f":"IF(SUM(Z7:Z23)<>0,SUM(Z7:Z23),IF(Z6<=$V$2,0,\"\"))","v":""},{"$f":"IF(SUM(AA7:AA23)<>0,SUM(AA7:AA23),IF(AA6<=$V$2,0,\"\"))","v":""},{"$f":"IF(SUM(AB7:AB23)<>0,SUM(AB7:AB23),IF(AB6<=$V$2,0,\"\"))","v":""},{"$f":"IF(SUM(AC7:AC23)<>0,SUM(AC7:AC23),IF(AC6<=$V$2,0,\"\"))","v":""},"",{"$f":"IF(SUM(AE7:AE23)<>0,SUM(AE7:AE23),IF(AE6<=$V$2,0,\"\"))","v":""},{"$f":"IF(SUM(AF7:AF23)<>0,SUM(AF7:AF23),IF(AF6<=$V$2,0,\"\"))","v":""},{"$f":"IF(SUM(AG7:AG23)<>0,SUM(AG7:AG23),IF(AG6<=$V$2,0,\"\"))","v":""},{"$f":"IF(SUM(AH7:AH23)<>0,SUM(AH7:AH23),IF(AH6<=$V$2,0,\"\"))","v":""},"",{"$f":"IF(SUM(AJ7:AJ23)<>0,SUM(AJ7:AJ23),IF(AJ6<=$V$2,0,\"\"))","v":""},{"$f":"IF(SUM(AK7:AK23)<>0,SUM(AK7:AK23),IF(AK6<=$V$2,0,\"\"))","v":""},{"$f":"IF(SUM(AL7:AL23)<>0,SUM(AL7:AL23),IF(AL6<=$V$2,0,\"\"))","v":""},{"$f":"IF(SUM(AM7:AM23)<>0,SUM(AM7:AM23),IF(AM6<=$V$2,0,\"\"))","v":""},"",{"$f":"IF(SUM(AO7:AO23)<>0,SUM(AO7:AO23),IF(AO6<=$V$2,0,\"\"))","v":""},{"$f":"IF(SUM(AP7:AP23)<>0,SUM(AP7:AP23),IF(AP6<=$V$2,0,\"\"))","v":""},{"$f":"IF(SUM(AQ7:AQ23)<>0,SUM(AQ7:AQ23),IF(AQ6<=$V$2,0,\"\"))","v":""},{"$f":"IF(SUM(AR7:AR23)<>0,SUM(AR7:AR23),IF(AR6<=$V$2,0,\"\"))","v":""},"",{"$f":"IF(SUM(AT7:AT23)<>0,SUM(AT7:AT23),IF(AT6<=$V$2,0,\"\"))","v":""},{"$f":"IF(SUM(AU7:AU23)<>0,SUM(AU7:AU23),IF(AU6<=$V$2,0,\"\"))","v":""},{"$f":"IF(SUM(AV7:AV23)<>0,SUM(AV7:AV23),IF(AV6<=$V$2,0,\"\"))","v":""},{"$f":"IF(SUM(AW7:AW23)<>0,SUM(AW7:AW23),IF(AW6<=$V$2,0,\"\"))","v":""},"",{"$f":"IF(SUM(AY7:AY23)<>0,SUM(AY7:AY23),IF(AY6<=$V$2,0,\"\"))","v":""},{"$f":"IF(SUM(AZ7:AZ23)<>0,SUM(AZ7:AZ23),IF(AZ6<=$V$2,0,\"\"))","v":""},{"$f":"IF(SUM(BA7:BA23)<>0,SUM(BA7:BA23),IF(BA6<=$V$2,0,\"\"))","v":""},{"$f":"IF(SUM(BB7:BB23)<>0,SUM(BB7:BB23),IF(BB6<=$V$2,0,\"\"))","v":""},"",{"$f":"IF(SUM(BD7:BD23)<>0,SUM(BD7:BD23),IF(BD6<=$V$2,0,\"\"))","v":""},{"$f":"IF(SUM(BE7:BE23)<>0,SUM(BE7:BE23),IF(BE6<=$V$2,0,\"\"))","v":""},{"$f":"IF(SUM(BF7:BF23)<>0,SUM(BF7:BF23),IF(BF6<=$V$2,0,\"\"))","v":""},{"$f":"IF(SUM(BG7:BG23)<>0,SUM(BG7:BG23),IF(BG6<=$V$2,0,\"\"))","v":""},"",{"$f":"IF(SUM(BI7:BI23)<>0,SUM(BI7:BI23),IF(BI6<=$V$2,0,\"\"))","v":""},{"$f":"IF(SUM(BJ7:BJ23)<>0,SUM(BJ7:BJ23),IF(BJ6<=$V$2,0,\"\"))","v":""},{"$f":"IF(SUM(BK7:BK23)<>0,SUM(BK7:BK23),IF(BK6<=$V$2,0,\"\"))","v":""},{"$f":"IF(SUM(BL7:BL23)<>0,SUM(BL7:BL23),IF(BL6<=$V$2,0,\"\"))","v":""}]
[{"$nulls":12},"Per Plot Stocking",null,{"$f":"IF(SUM(O7:O23)<>0, SUM(O7:O23)/$I$24, IF(O6<=$V$2, 0, \"\"))","v":""},"","",{"$f":"IF(SUM(R7:R23)<>0, SUM(R7:R23)/$I$24, IF(R6<=$V$2, 0, \"\"))","v":""},"","","","","","","","","","","","","","","","","","","","","","","","","","","","","","","","","","","","","","","","","","","","","",""]
[]
[]
[null,null,"CROWN CLASS"]
[null,null,"Regeneration","Species","Mean","Mode","Median","Mean","Minimum","Maximum","SD1",null,"CV2",1,2,3,4,5,6,7,8,9,10,11,12,13,14,15,16,17,18,19,20,21,22,23,24,25,26,27,28,29,30,31,32,33,34,35,36,37,38,39,40,41,42,43,44,45,46,47,48,49,50]
[null,"D=4",null,{"$f":"IF('Data Entry'!C26<>\"\",'Data Entry'!C26,\"\")","v":""},{"$f":"IF(D30<>\"\",AVERAGE(N30:BK30),\"\")","v":""},{"$f":"IF(COUNT(N30:BK30)>1,_xlfn.MODE.SNGL(N30:BK30),IF(COUNT(N30:BK30)=1,SUM(N30:BK30),\"\"))","v":""},{"$f":"IF(D30<>\"\",MEDIAN(N30:BK30),\"\")","v":""},{"$f":"IFERROR(IF(D30<>\"\", IF(3.7<=E30,\"D\",IF(3.3<=E30,\"C-D\",IF(2.7<=E30,\"C\",IF(2.3<=E30,\"I-C\",IF(1.7<=E30,\"I\",IF(1.3<=E30,\"S-I\",IF(0.5<E30,\"S\",\"\"))))))),\"\"), \"Not Entered\")","v":""},{"$f":"IF(D30<>\"\",MIN(N30:BK30),\"\")","v":""},{"$f":"IF(D30<>\"\",MAX(N30:BK30),\"\")","v":""},{"$f":"IFERROR(IF(D30<>\"\",_xlfn.STDEV.S(N30:BK30),\"\"),\"NO SD\")","v":""},null,{"$f":"IFERROR(IF(K30<>\"\",K30/E30,\"\"),\"NO CV\")","v":""},{"$f":"IF('Data Entry'!E26 = \"D\",4,IF('Data Entry'!E26 = \"C\",3,IF('Data Entry'!E26 = \"I\",2,IF('Data Entry'!E26 = \"S\",1,\"\"))))","v":""},{"$f":"IF('Data Entry'!G26 = \"D\",4,IF('Data Entry'!G26 = \"C\",3,IF('Data Entry'!G26 = \"I\",2,IF('Data Entry'!G26 = \"S\",1,\"\"))))","v":""},{"$f":"IF('Data Entry'!I26 = \"D\",4,IF('Data Entry'!I26 = \"C\",3,IF('Data Entry'!I26 = \"I\",2,IF('Data Entry'!I26 = \"S\",1,\"\"))))","v":""},{"$f":"IF('Data Entry'!K26 = \"D\",4,IF('Data Entry'!K26 = \"C\",3,IF('Data Entry'!K26 = \"I\",2,IF('Data Entry'!K26 = \"S\",1,\"\"))))","v":""},{"$f":"IF('Data Entry'!M26 = \"D\",4,IF('Data Entry'!M26 = \"C\",3,IF('Data Entry'!M26 = \"I\",2,IF('Data Entry'!M26 = \"S\",1,\"\"))))","v":""},{"$f":"IF('Data Entry'!O26 = \"D\",4,IF('Data Entry'!O26 = \"C\",3,IF('Data Entry'!O26 = \"I\",2,IF('Data Entry'!O26 = \"S\",1,\"\"))))","v":""},{"$f":"IF('Data Entry'!Q26 = \"D\",4,IF('Data Entry'!Q26 = \"C\",3,IF('Data Entry'!Q26 = \"I\",2,IF('Data Entry'!Q26 = \"S\",1,\"\"))))","v":""},{"$f":"IF('Data Entry'!S26 = \"D\",4,IF('Data Entry'!S26 = \"C\",3,IF('Data Entry'!S26 = \"I\",2,IF('Data Entry'!S26 = \"S\",1,\"\"))))","v":""},{"$f":"IF('Data Entry'!U26 = \"D\",4,IF('Data Entry'!U26 = \"C\",3,IF('Data Entry'!U26 = \"I\",2,IF('Data Entry'!U26 = \"S\",1,\"\"))))","v":""},{"$f":"IF('Data Entry'!W26 = \"D\",4,IF('Data Entry'!W26 = \"C\",3,IF('Data Entry'!W26 = \"I\",2,IF('Data Entry'!W26 = \"S\",1,\"\"))))","v":""},{"$f":"IF('Data Entry'!E71 = \"D\",4,IF('Data Entry'!E71 = \"C\",3,IF('Data Entry'!E71 = \"I\",2,IF('Data Entry'!E71 = \"S\",1,\"\"))))","v":""},{"$f":"IF('Data Entry'!G71 = \"D\",4,IF('Data Entry'!G71 = \"C\",3,IF('Data Entry'!G71 = \"I\",2,IF('Data Entry'!G71 = \"S\",1,\"\"))))","v":""},{"$f":"IF('Data Entry'!I71 = \"D\",4,IF('Data Entry'!I71 = \"C\",3,IF('Data Entry'!I71 = \"I\",2,IF('Data Entry'!I71 = \"S\",1,\"\"))))","v":""},{"$f":"IF('Data Entry'!K71 = \"D\",4,IF('Data Entry'!K71 = \"C\",3,IF('Data Entry'!K71 = \"I\",2,IF('Data Entry'!K71 = \"S\",1,\"\"))))","v":""},{"$f":"IF('Data Entry'!M71 = \"D\",4,IF('Data Entry'!M71 = \"C\",3,IF('Data Entry'!M71 = \"I\",2,IF('Data Entry'!M71 = \"S\",1,\"\"))))","v":""},{"$f":"IF('Data Entry'!O71 = \"D\",4,IF('Data Entry'!O71 = \"C\",3,IF('Data Entry'!O71 = \"I\",2,IF('Data Entry'!O71 = \"S\",1,\"\"))))","v":""},{"$f":"IF('Data Entry'!Q71 = \"D\",4,IF('Data Entry'!Q71 = \"C\",3,IF('Data Entry'!Q71 = \"I\",2,IF('Data Entry'!Q71 = \"S\",1,\"\"))))","v":""},{"$f":"IF('Data Entry'!S71 = \"D\",4,IF('Data Entry'!S71 = \"C\",3,IF('Data Entry'!S71 = \"I\",2,IF('Data Entry'!S71 = \"S\",1,\"\"))))","v":""},{"$f":"IF('Data Entry'!U71 = \"D\",4,IF('Data Entry'!U71 = \"C\",3,IF('Data Entry'!U71 = \"I\",2,IF('Data Entry'!U71 = \"S\",1,\"\"))))","v":""},{"$f":"IF('Data Entry'!W71 = \"D\",4,IF('Data Entry'!W71 = \"C\",3,IF('Data Entry'!W71 = \"I\",2,IF('Data Entry'!W71 = \"S\",1,\"\"))))","v":""},{"$f":"IF('Data Entry'!E116 = \"D\",4,IF('Data Entry'!E116 = \"C\",3,IF('Data Entry'!E116 = \"I\",2,IF('Data Entry'!E116 = \"S\",1,\"\"))))","v":""},{"$f":"IF('Data Entry'!G116 = \"D\",4,IF('Data Entry'!G116 = \"C\",3,IF('Data Entry'!G116 = \"I\",2,IF('Data Entry'!G116 = \"S\",1,\"\"))))","v":""},{"$f":"IF('Data Entry'!I116 = \"D\",4,IF('Data Entry'!I116 = \"C\",3,IF('Data Entry'!I116 = \"I\",2,IF('Data Entry'!I116 = \"S\",1,\"\"))))","v":""},{"$f":"IF('Data Entry'!K116 = \"D\",4,IF('Data Entry'!K116 = \"C\",3,IF('Data Entry'!K116 = \"I\",2,IF('Data Entry'!K116 = \"S\",1,\"\"))))","v":""},{"$f":"IF('Data Entry'!M116 = \"D\",4,IF('Data Entry'!M116 = \"C\",3,IF('Data Entry'!M116 = \"I\",2,IF('Data Entry'!M116 = \"S\",1,\"\"))))","v":""},{"$f":"IF('Data Entry'!O116 = \"D\",4,IF('Data Entry'!O116 = \"C\",3,IF('Data Entry'!O116 = \"I\",2,IF('Data Entry'!O116 = \"S\",1,\"\"))))","v":""},{"$f":"IF('Data Entry'!Q116 = \"D\",4,IF('Data Entry'!Q116 = \"C\",3,IF('Data Entry'!Q116 = \"I\",2,IF('Data Entry'!Q116 = \"S\",1,\"\"))))","v":""},{"$f":"IF('Data Entry'!S116 = \"D\",4,IF('Data Entry'!S116 = \"C\",3,IF('Data Entry'!S116 = \"I\",2,IF('Data Entry'!S116 = \"S\",1,\"\"))))","v":""},{"$f":"IF('Data Entry'!U116 = \"D\",4,IF('Data Entry'!U116 = \"C\",3,IF('Data Entry'!U116 = \"I\",2,IF('Data Entry'!U116 = \"S\",1,\"\"))))","v":""},{"$f":"IF('Data Entry'!W116 = \"D\",4,IF('Data Entry'!W116 = \"C\",3,IF('Data Entry'!W116 = \"I\",2,IF('Data Entry'!W116 = \"S\",1,\"\"))))","v":""},{"$f":"IF('Data Entry'!E161 = \"D\",4,IF('Data Entry'!E161 = \"C\",3,IF('Data Entry'!E161 = \"I\",2,IF('Data Entry'!E161 = \"S\",1,\"\"))))","v":""},{"$f":"IF('Data Entry'!G161 = \"D\",4,IF('Data Entry'!G161 = \"C\",3,IF('Data Entry'!G161 = \"I\",2,IF('Data Entry'!G161 = \"S\",1,\"\"))))","v":""},{"$f":"IF('Data Entry'!I161 = \"D\",4,IF('Data Entry'!I161 = \"C\",3,IF('Data Entry'!I161 = \"I\",2,IF('Data Entry'!I161 = \"S\",1,\"\"))))","v":""},{"$f":"IF('Data Entry'!K161 = \"D\",4,IF('Data Entry'!K161 = \"C\",3,IF('Data Entry'!K161 = \"I\",2,IF('Data Entry'!K161 = \"S\",1,\"\"))))","v":""},{"$f":"IF('Data Entry'!M161 = \"D\",4,IF('Data Entry'!M161 = \"C\",3,IF('Data Entry'!M161 = \"I\",2,IF('Data Entry'!M161 = \"S\",1,\"\"))))","v":""},{"$f":"IF('Data Entry'!O161 = \"D\",4,IF('Data Entry'!O161 = \"C\",3,IF('Data Entry'!O161 = \"I\",2,IF('Data Entry'!O161 = \"S\",1,\"\"))))","v":""},{"$f":"IF('Data Entry'!Q161 = \"D\",4,IF('Data Entry'!Q161 = \"C\",3,IF('Data Entry'!Q161 = \"I\",2,IF('Data Entry'!Q161 = \"S\",1,\"\"))))","v":""},{"$f":"IF('Data Entry'!S161 = \"D\",4,IF('Data Entry'!S161 = \"C\",3,IF('Data Entry'!S161 = \"I\",2,IF('Data Entry'!S161 = \"S\",1,\"\"))))","v":""},{"$f":"IF('Data Entry'!U161 = \"D\",4,IF('Data Entry'!U161 = \"C\",3,IF('Data Entry'!U161 = \"I\",2,IF('Data Entry'!U161 = \"S\",1,\"\"))))","v":""},{"$f":"IF('Data Entry'!W161 = \"D\",4,IF('Data Entry'!W161 = \"C\",3,IF('Data Entry'!W161 = \"I\",2,IF('Data Entry'!W161 = \"S\",1,\"\"))))","v":""},{"$f":"IF('Data Entry'!E206 = \"D\",4,IF('Data Entry'!E206 = \"C\",3,IF('Data Entry'!E206 = \"I\",2,IF('Data Entry'!E206 = \"S\",1,\"\"))))","v":""},{"$f":"IF('Data Entry'!G206 = \"D\",4,IF('Data Entry'!G206 = \"C\",3,IF('Data Entry'!G206 = \"I\",2,IF('Data Entry'!G206 = \"S\",1,\"\"))))","v":""},{"$f":"IF('Data Entry'!I206 = \"D\",4,IF('Data Entry'!I206 = \"C\",3,IF('Data Entry'!I206 = \"I\",2,IF('Data Entry'!I206 = \"S\",1,\"\"))))","v":""},{"$f":"IF('Data Entry'!K206 = \"D\",4,IF('Data Entry'!K206 = \"C\",3,IF('Data Entry'!K206 = \"I\",2,IF('Data Entry'!K206 = \"S\",1,\"\"))))","v":""},{"$f":"IF('Data Entry'!M206 = \"D\",4,IF('Data Entry'!M206 = \"C\",3,IF('Data Entry'!M206 = \"I\",2,IF('Data Entry'!M206 = \"S\",1,\"\"))))","v":""},{"$f":"IF('Data Entry'!O206 = \"D\",4,IF('Data Entry'!O206 = \"C\",3,IF('Data Entry'!O206 = \"I\",2,IF('Data Entry'!O206 = \"S\",1,\"\"))))","v":""},{"$f":"IF('Data Entry'!Q206 = \"D\",4,IF('Data Entry'!Q206 = \"C\",3,IF('Data Entry'!Q206 = \"I\",2,IF('Data Entry'!Q206 = \"S\",1,\"\"))))","v":""},{"$f":"IF('Data Entry'!S206 = \"D\",4,IF('Data Entry'!S206 = \"C\",3,IF('Data Entry'!S206 = \"I\",2,IF('Data Entry'!S206 = \"S\",1,\"\"))))","v":""},{"$f":"IF('Data Entry'!U206 = \"D\",4,IF('Data Entry'!U206 = \"C\",3,IF('Data Entry'!U206 = \"I\",2,IF('Data Entry'!U206 = \"S\",1,\"\"))))","v":""},{"$f":"IF('Data Entry'!W206 = \"D\",4,IF('Data Entry'!W206 = \"C\",3,IF('Data Entry'!W206 = \"I\",2,IF('Data Entry'!W206 = \"S\",1,\"\"))))","v":""}]
[null,"C=3",null,{"$f":"IF('Data Entry'!C27<>\"\",'Data Entry'!C27,\"\")","v":""},"","","",{"$f":"IFERROR(IF(D31<>\"\", IF(3.7<=E31,\"D\",IF(3.3<=E31,\"C-D\",IF(2.7<=E31,\"C\",IF(2.3<=E31,\"I-C\",IF(1.7<=E31,\"I\",IF(1.3<=E31,\"S-I\",IF(0.5<E31,\"S\",\"\"))))))),\"\"), \"Not Entered\")","v":""},"","",{"$f":"IFERROR(IF(D31<>\"\",_xlfn.STDEV.S(N31:BK31),\"\"),\"NO SD\")","v":""},null,{"$f":"IFERROR(IF(K31<>\"\",K31/E31,\"\"),\"NO CV\")","v":""},{"$f":"IF('Data Entry'!E27 = \"D\",4,IF('Data Entry'!E27 = \"C\",3,IF('Data Entry'!E27 = \"I\",2,IF('Data Entry'!E27 = \"S\",1,\"\"))))","v":""},{"$f":"IF('Data Entry'!G27 = \"D\",4,IF('Data Entry'!G27 = \"C\",3,IF('Data Entry'!G27 = \"I\",2,IF('Data Entry'!G27 = \"S\",1,\"\"))))","v":""},{"$f":"IF('Data Entry'!I27 = \"D\",4,IF('Data Entry'!I27 = \"C\",3,IF('Data Entry'!I27 = \"I\",2,IF('Data Entry'!I27 = \"S\",1,\"\"))))","v":""},{"$f":"IF('Data Entry'!K27 = \"D\",4,IF('Data Entry'!K27 = \"C\",3,IF('Data Entry'!K27 = \"I\",2,IF('Data Entry'!K27 = \"S\",1,\"\"))))","v":""},{"$f":"IF('Data Entry'!M27 = \"D\",4,IF('Data Entry'!M27 = \"C\",3,IF('Data Entry'!M27 = \"I\",2,IF('Data Entry'!M27 = \"S\",1,\"\"))))","v":""},{"$f":"IF('Data Entry'!O27 = \"D\",4,IF('Data Entry'!O27 = \"C\",3,IF('Data Entry'!O27 = \"I\",2,IF('Data Entry'!O27 = \"S\",1,\"\"))))","v":""},{"$f":"IF('Data Entry'!Q27 = \"D\",4,IF('Data Entry'!Q27 = \"C\",3,IF('Data Entry'!Q27 = \"I\",2,IF('Data Entry'!Q27 = \"S\",1,\"\"))))","v":""},{"$f":"IF('Data Entry'!S27 = \"D\",4,IF('Data Entry'!S27 = \"C\",3,IF('Data Entry'!S27 = \"I\",2,IF('Data Entry'!S27 = \"S\",1,\"\"))))","v":""},{"$f":"IF('Data Entry'!U27 = \"D\",4,IF('Data Entry'!U27 = \"C\",3,IF('Data Entry'!U27 = \"I\",2,IF('Data Entry'!U27 = \"S\",1,\"\"))))","v":""},{"$f":"IF('Data Entry'!W27 = \"D\",4,IF('Data Entry'!W27 = \"C\",3,IF('Data Entry'!W27 = \"I\",2,IF('Data Entry'!W27 = \"S\",1,\"\"))))","v":""},{"$f":"IF('Data Entry'!E72 = \"D\",4,IF('Data Entry'!E72 = \"C\",3,IF('Data Entry'!E72 = \"I\",2,IF('Data Entry'!E72 = \"S\",1,\"\"))))","v":""},{"$f":"IF('Data Entry'!G72 = \"D\",4,IF('Data Entry'!G72 = \"C\",3,IF('Data Entry'!G72 = \"I\",2,IF('Data Entry'!G72 = \"S\",1,\"\"))))","v":""},{"$f":"IF('Data Entry'!I72 = \"D\",4,IF('Data Entry'!I72 = \"C\",3,IF('Data Entry'!I72 = \"I\",2,IF('Data Entry'!I72 = \"S\",1,\"\"))))","v":""},{"$f":"IF('Data Entry'!K72 = \"D\",4,IF('Data Entry'!K72 = \"C\",3,IF('Data Entry'!K72 = \"I\",2,IF('Data Entry'!K72 = \"S\",1,\"\"))))","v":""},{"$f":"IF('Data Entry'!M72 = \"D\",4,IF('Data Entry'!M72 = \"C\",3,IF('Data Entry'!M72 = \"I\",2,IF('Data Entry'!M72 = \"S\",1,\"\"))))","v":""},{"$f":"IF('Data Entry'!O72 = \"D\",4,IF('Data Entry'!O72 = \"C\",3,IF('Data Entry'!O72 = \"I\",2,IF('Data Entry'!O72 = \"S\",1,\"\"))))","v":""},{"$f":"IF('Data Entry'!Q72 = \"D\",4,IF('Data Entry'!Q72 = \"C\",3,IF('Data Entry'!Q72 = \"I\",2,IF('Data Entry'!Q72 = \"S\",1,\"\"))))","v":""},{"$f":"IF('Data Entry'!S72 = \"D\",4,IF('Data Entry'!S72 = \"C\",3,IF('Data Entry'!S72 = \"I\",2,IF('Data Entry'!S72 = \"S\",1,\"\"))))","v":""},{"$f":"IF('Data Entry'!U72 = \"D\",4,IF('Data Entry'!U72 = \"C\",3,IF('Data Entry'!U72 = \"I\",2,IF('Data Entry'!U72 = \"S\",1,\"\"))))","v":""},{"$f":"IF('Data Entry'!W72 = \"D\",4,IF('Data Entry'!W72 = \"C\",3,IF('Data Entry'!W72 = \"I\",2,IF('Data Entry'!W72 = \"S\",1,\"\"))))","v":""},{"$f":"IF('Data Entry'!E117 = \"D\",4,IF('Data Entry'!E117 = \"C\",3,IF('Data Entry'!E117 = \"I\",2,IF('Data Entry'!E117 = \"S\",1,\"\"))))","v":""},{"$f":"IF('Data Entry'!G117 = \"D\",4,IF('Data Entry'!G117 = \"C\",3,IF('Data Entry'!G117 = \"I\",2,IF('Data Entry'!G117 = \"S\",1,\"\"))))","v":""},{"$f":"IF('Data Entry'!I117 = \"D\",4,IF('Data Entry'!I117 = \"C\",3,IF('Data Entry'!I117 = \"I\",2,IF('Data Entry'!I117 = \"S\",1,\"\"))))","v":""},{"$f":"IF('Data Entry'!K117 = \"D\",4,IF('Data Entry'!K117 = \"C\",3,IF('Data Entry'!K117 = \"I\",2,IF('Data Entry'!K117 = \"S\",1,\"\"))))","v":""},{"$f":"IF('Data Entry'!M117 = \"D\",4,IF('Data Entry'!M117 = \"C\",3,IF('Data Entry'!M117 = \"I\",2,IF('Data Entry'!M117 = \"S\",1,\"\"))))","v":""},{"$f":"IF('Data Entry'!O117 = \"D\",4,IF('Data Entry'!O117 = \"C\",3,IF('Data Entry'!O117 = \"I\",2,IF('Data Entry'!O117 = \"S\",1,\"\"))))","v":""},{"$f":"IF('Data Entry'!Q117 = \"D\",4,IF('Data Entry'!Q117 = \"C\",3,IF('Data Entry'!Q117 = \"I\",2,IF('Data Entry'!Q117 = \"S\",1,\"\"))))","v":""},{"$f":"IF('Data Entry'!S117 = \"D\",4,IF('Data Entry'!S117 = \"C\",3,IF('Data Entry'!S117 = \"I\",2,IF('Data Entry'!S117 = \"S\",1,\"\"))))","v":""},{"$f":"IF('Data Entry'!U117 = \"D\",4,IF('Data Entry'!U117 = \"C\",3,IF('Data Entry'!U117 = \"I\",2,IF('Data Entry'!U117 = \"S\",1,\"\"))))","v":""},{"$f":"IF('Data Entry'!W117 = \"D\",4,IF('Data Entry'!W117 = \"C\",3,IF('Data Entry'!W117 = \"I\",2,IF('Data Entry'!W117 = \"S\",1,\"\"))))","v":""},{"$f":"IF('Data Entry'!E162 = \"D\",4,IF('Data Entry'!E162 = \"C\",3,IF('Data Entry'!E162 = \"I\",2,IF('Data Entry'!E162 = \"S\",1,\"\"))))","v":""},{"$f":"IF('Data Entry'!G162 = \"D\",4,IF('Data Entry'!G162 = \"C\",3,IF('Data Entry'!G162 = \"I\",2,IF('Data Entry'!G162 = \"S\",1,\"\"))))","v":""},{"$f":"IF('Data Entry'!I162 = \"D\",4,IF('Data Entry'!I162 = \"C\",3,IF('Data Entry'!I162 = \"I\",2,IF('Data Entry'!I162 = \"S\",1,\"\"))))","v":""},{"$f":"IF('Data Entry'!K162 = \"D\",4,IF('Data Entry'!K162 = \"C\",3,IF('Data Entry'!K162 = \"I\",2,IF('Data Entry'!K162 = \"S\",1,\"\"))))","v":""},{"$f":"IF('Data Entry'!M162 = \"D\",4,IF('Data Entry'!M162 = \"C\",3,IF('Data Entry'!M162 = \"I\",2,IF('Data Entry'!M162 = \"S\",1,\"\"))))","v":""},{"$f":"IF('Data Entry'!O162 = \"D\",4,IF('Data Entry'!O162 = \"C\",3,IF('Data Entry'!O162 = \"I\",2,IF('Data Entry'!O162 = \"S\",1,\"\"))))","v":""},{"$f":"IF('Data Entry'!Q162 = \"D\",4,IF('Data Entry'!Q162 = \"C\",3,IF('Data Entry'!Q162 = \"I\",2,IF('Data Entry'!Q162 = \"S\",1,\"\"))))","v":""},{"$f":"IF('Data Entry'!S162 = \"D\",4,IF('Data Entry'!S162 = \"C\",3,IF('Data Entry'!S162 = \"I\",2,IF('Data Entry'!S162 = \"S\",1,\"\"))))","v":""},{"$f":"IF('Data Entry'!U162 = \"D\",4,IF('Data Entry'!U162 = \"C\",3,IF('Data Entry'!U162 = \"I\",2,IF('Data Entry'!U162 = \"S\",1,\"\"))))","v":""},{"$f":"IF('Data Entry'!W162 = \"D\",4,IF('Data Entry'!W162 = \"C\",3,IF('Data Entry'!W162 = \"I\",2,IF('Data Entry'!W162 = \"S\",1,\"\"))))","v":""},{"$f":"IF('Data Entry'!E207 = \"D\",4,IF('Data Entry'!E207 = \"C\",3,IF('Data Entry'!E207 = \"I\",2,IF('Data Entry'!E207 = \"S\",1,\"\"))))","v":""},{"$f":"IF('Data Entry'!G207 = \"D\",4,IF('Data Entry'!G207 = \"C\",3,IF('Data Entry'!G207 = \"I\",2,IF('Data Entry'!G207 = \"S\",1,\"\"))))","v":""},{"$f":"IF('Data Entry'!I207 = \"D\",4,IF('Data Entry'!I207 = \"C\",3,IF('Data Entry'!I207 = \"I\",2,IF('Data Entry'!I207 = \"S\",1,\"\"))))","v":""},{"$f":"IF('Data Entry'!K207 = \"D\",4,IF('Data Entry'!K207 = \"C\",3,IF('Data Entry'!K207 = \"I\",2,IF('Data Entry'!K207 = \"S\",1,\"\"))))","v":""},{"$f":"IF('Data Entry'!M207 = \"D\",4,IF('Data Entry'!M207 = \"C\",3,IF('Data Entry'!M207 = \"I\",2,IF('Data Entry'!M207 = \"S\",1,\"\"))))","v":""},{"$f":"IF('Data Entry'!O207 = \"D\",4,IF('Data Entry'!O207 = \"C\",3,IF('Data Entry'!O207 = \"I\",2,IF('Data Entry'!O207 = \"S\",1,\"\"))))","v":""},{"$f":"IF('Data Entry'!Q207 = \"D\",4,IF('Data Entry'!Q207 = \"C\",3,IF('Data Entry'!Q207 = \"I\",2,IF('Data Entry'!Q207 = \"S\",1,\"\"))))","v":""},{"$f":"IF('Data Entry'!S207 = \"D\",4,IF('Data Entry'!S207 = \"C\",3,IF('Data Entry'!S207 = \"I\",2,IF('Data Entry'!S207 = \"S\",1,\"\"))))","v":""},{"$f":"IF('Data Entry'!U207 = \"D\",4,IF('Data Entry'!U207 = \"C\",3,IF('Data Entry'!U207 = \"I\",2,IF('Data Entry'!U207 = \"S\",1,\"\"))))","v":""},{"$f":"IF('Data Entry'!W207 = \"D\",4,IF('Data Entry'!W207 = \"C\",3,IF('Data Entry'!W207 = \"I\",2,IF('Data Entry'!W207 = \"S\",1,\"\"))))","v":""}]
[null,"I=2",null,{"$f":"IF('Data Entry'!C28<>\"\",'Data Entry'!C28,\"\")","v":""},"","","","","","","",null,"",{"$f":"IF('Data Entry'!E28 = \"D\",4,IF('Data Entry'!E28 = \"C\",3,IF('Data Entry'!E28 = \"I\",2,IF('Data Entry'!E28 = \"S\",1,\"\"))))","v":""},{"$f":"IF('Data Entry'!G28 = \"D\",4,IF('Data Entry'!G28 = \"C\",3,IF('Data Entry'!G28 = \"I\",2,IF('Data Entry'!G28 = \"S\",1,\"\"))))","v":""},{"$f":"IF('Data Entry'!I28 = \"D\",4,IF('Data Entry'!I28 = \"C\",3,IF('Data Entry'!I28 = \"I\",2,IF('Data Entry'!I28 = \"S\",1,\"\"))))","v":""},{"$f":"IF('Data Entry'!K28 = \"D\",4,IF('Data Entry'!K28 = \"C\",3,IF('Data Entry'!K28 = \"I\",2,IF('Data Entry'!K28 = \"S\",1,\"\"))))","v":""},{"$f":"IF('Data Entry'!M28 = \"D\",4,IF('Data Entry'!M28 = \"C\",3,IF('Data Entry'!M28 = \"I\",2,IF('Data Entry'!M28 = \"S\",1,\"\"))))","v":""},{"$f":"IF('Data Entry'!O28 = \"D\",4,IF('Data Entry'!O28 = \"C\",3,IF('Data Entry'!O28 = \"I\",2,IF('Data Entry'!O28 = \"S\",1,\"\"))))","v":""},{"$f":"IF('Data Entry'!Q28 = \"D\",4,IF('Data Entry'!Q28 = \"C\",3,IF('Data Entry'!Q28 = \"I\",2,IF('Data Entry'!Q28 = \"S\",1,\"\"))))","v":""},{"$f":"IF('Data Entry'!S28 = \"D\",4,IF('Data Entry'!S28 = \"C\",3,IF('Data Entry'!S28 = \"I\",2,IF('Data Entry'!S28 = \"S\",1,\"\"))))","v":""},{"$f":"IF('Data Entry'!U28 = \"D\",4,IF('Data Entry'!U28 = \"C\",3,IF('Data Entry'!U28 = \"I\",2,IF('Data Entry'!U28 = \"S\",1,\"\"))))","v":""},{"$f":"IF('Data Entry'!W28 = \"D\",4,IF('Data Entry'!W28 = \"C\",3,IF('Data Entry'!W28 = \"I\",2,IF('Data Entry'!W28 = \"S\",1,\"\"))))","v":""},{"$f":"IF('Data Entry'!E73 = \"D\",4,IF('Data Entry'!E73 = \"C\",3,IF('Data Entry'!E73 = \"I\",2,IF('Data Entry'!E73 = \"S\",1,\"\"))))","v":""},{"$f":"IF('Data Entry'!G73 = \"D\",4,IF('Data Entry'!G73 = \"C\",3,IF('Data Entry'!G73 = \"I\",2,IF('Data Entry'!G73 = \"S\",1,\"\"))))","v":""},{"$f":"IF('Data Entry'!I73 = \"D\",4,IF('Data Entry'!I73 = \"C\",3,IF('Data Entry'!I73 = \"I\",2,IF('Data Entry'!I73 = \"S\",1,\"\"))))","v":""},{"$f":"IF('Data Entry'!K73 = \"D\",4,IF('Data Entry'!K73 = \"C\",3,IF('Data Entry'!K73 = \"I\",2,IF('Data Entry'!K73 = \"S\",1,\"\"))))","v":""},{"$f":"IF('Data Entry'!M73 = \"D\",4,IF('Data Entry'!M73 = \"C\",3,IF('Data Entry'!M73 = \"I\",2,IF('Data Entry'!M73 = \"S\",1,\"\"))))","v":""},{"$f":"IF('Data Entry'!O73 = \"D\",4,IF('Data Entry'!O73 = \"C\",3,IF('Data Entry'!O73 = \"I\",2,IF('Data Entry'!O73 = \"S\",1,\"\"))))","v":""},{"$f":"IF('Data Entry'!Q73 = \"D\",4,IF('Data Entry'!Q73 = \"C\",3,IF('Data Entry'!Q73 = \"I\",2,IF('Data Entry'!Q73 = \"S\",1,\"\"))))","v":""},{"$f":"IF('Data Entry'!S73 = \"D\",4,IF('Data Entry'!S73 = \"C\",3,IF('Data Entry'!S73 = \"I\",2,IF('Data Entry'!S73 = \"S\",1,\"\"))))","v":""},{"$f":"IF('Data Entry'!U73 = \"D\",4,IF('Data Entry'!U73 = \"C\",3,IF('Data Entry'!U73 = \"I\",2,IF('Data Entry'!U73 = \"S\",1,\"\"))))","v":""},{"$f":"IF('Data Entry'!W73 = \"D\",4,IF('Data Entry'!W73 = \"C\",3,IF('Data Entry'!W73 = \"I\",2,IF('Data Entry'!W73 = \"S\",1,\"\"))))","v":""},{"$f":"IF('Data Entry'!E118 = \"D\",4,IF('Data Entry'!E118 = \"C\",3,IF('Data Entry'!E118 = \"I\",2,IF('Data Entry'!E118 = \"S\",1,\"\"))))","v":""},{"$f":"IF('Data Entry'!G118 = \"D\",4,IF('Data Entry'!G118 = \"C\",3,IF('Data Entry'!G118 = \"I\",2,IF('Data Entry'!G118 = \"S\",1,\"\"))))","v":""},{"$f":"IF('Data Entry'!I118 = \"D\",4,IF('Data Entry'!I118 = \"C\",3,IF('Data Entry'!I118 = \"I\",2,IF('Data Entry'!I118 = \"S\",1,\"\"))))","v":""},{"$f":"IF('Data Entry'!K118 = \"D\",4,IF('Data Entry'!K118 = \"C\",3,IF('Data Entry'!K118 = \"I\",2,IF('Data Entry'!K118 = \"S\",1,\"\"))))","v":""},{"$f":"IF('Data Entry'!M118 = \"D\",4,IF('Data Entry'!M118 = \"C\",3,IF('Data Entry'!M118 = \"I\",2,IF('Data Entry'!M118 = \"S\",1,\"\"))))","v":""},{"$f":"IF('Data Entry'!O118 = \"D\",4,IF('Data Entry'!O118 = \"C\",3,IF('Data Entry'!O118 = \"I\",2,IF('Data Entry'!O118 = \"S\",1,\"\"))))","v":""},{"$f":"IF('Data Entry'!Q118 = \"D\",4,IF('Data Entry'!Q118 = \"C\",3,IF('Data Entry'!Q118 = \"I\",2,IF('Data Entry'!Q118 = \"S\",1,\"\"))))","v":""},{"$f":"IF('Data Entry'!S118 = \"D\",4,IF('Data Entry'!S118 = \"C\",3,IF('Data Entry'!S118 = \"I\",2,IF('Data Entry'!S118 = \"S\",1,\"\"))))","v":""},{"$f":"IF('Data Entry'!U118 = \"D\",4,IF('Data Entry'!U118 = \"C\",3,IF('Data Entry'!U118 = \"I\",2,IF('Data Entry'!U118 = \"S\",1,\"\"))))","v":""},{"$f":"IF('Data Entry'!W118 = \"D\",4,IF('Data Entry'!W118 = \"C\",3,IF('Data Entry'!W118 = \"I\",2,IF('Data Entry'!W118 = \"S\",1,\"\"))))","v":""},{"$f":"IF('Data Entry'!E163 = \"D\",4,IF('Data Entry'!E163 = \"C\",3,IF('Data Entry'!E163 = \"I\",2,IF('Data Entry'!E163 = \"S\",1,\"\"))))","v":""},{"$f":"IF('Data Entry'!G163 = \"D\",4,IF('Data Entry'!G163 = \"C\",3,IF('Data Entry'!G163 = \"I\",2,IF('Data Entry'!G163 = \"S\",1,\"\"))))","v":""},{"$f":"IF('Data Entry'!I163 = \"D\",4,IF('Data Entry'!I163 = \"C\",3,IF('Data Entry'!I163 = \"I\",2,IF('Data Entry'!I163 = \"S\",1,\"\"))))","v":""},{"$f":"IF('Data Entry'!K163 = \"D\",4,IF('Data Entry'!K163 = \"C\",3,IF('Data Entry'!K163 = \"I\",2,IF('Data Entry'!K163 = \"S\",1,\"\"))))","v":""},{"$f":"IF('Data Entry'!M163 = \"D\",4,IF('Data Entry'!M163 = \"C\",3,IF('Data Entry'!M163 = \"I\",2,IF('Data Entry'!M163 = \"S\",1,\"\"))))","v":""},{"$f":"IF('Data Entry'!O163 = \"D\",4,IF('Data Entry'!O163 = \"C\",3,IF('Data Entry'!O163 = \"I\",2,IF('Data Entry'!O163 = \"S\",1,\"\"))))","v":""},{"$f":"IF('Data Entry'!Q163 = \"D\",4,IF('Data Entry'!Q163 = \"C\",3,IF('Data Entry'!Q163 = \"I\",2,IF('Data Entry'!Q163 = \"S\",1,\"\"))))","v":""},{"$f":"IF('Data Entry'!S163 = \"D\",4,IF('Data Entry'!S163 = \"C\",3,IF('Data Entry'!S163 = \"I\",2,IF('Data Entry'!S163 = \"S\",1,\"\"))))","v":""},{"$f":"IF('Data Entry'!U163 = \"D\",4,IF('Data Entry'!U163 = \"C\",3,IF('Data Entry'!U163 = \"I\",2,IF('Data Entry'!U163 = \"S\",1,\"\"))))","v":""},{"$f":"IF('Data Entry'!W163 = \"D\",4,IF('Data Entry'!W163 = \"C\",3,IF('Data Entry'!W163 = \"I\",2,IF('Data Entry'!W163 = \"S\",1,\"\"))))","v":""},{"$f":"IF('Data Entry'!E208 = \"D\",4,IF('Data Entry'!E208 = \"C\",3,IF('Data Entry'!E208 = \"I\",2,IF('Data Entry'!E208 = \"S\",1,\"\"))))","v":""},{"$f":"IF('Data Entry'!G208 = \"D\",4,IF('Data Entry'!G208 = \"C\",3,IF('Data Entry'!G208 = \"I\",2,IF('Data Entry'!G208 = \"S\",1,\"\"))))","v":""},{"$f":"IF('Data Entry'!I208 = \"D\",4,IF('Data Entry'!I208 = \"C\",3,IF('Data Entry'!I208 = \"I\",2,IF('Data Entry'!I208 = \"S\",1,\"\"))))","v":""},{"$f":"IF('Data Entry'!K208 = \"D\",4,IF('Data Entry'!K208 = \"C\",3,IF('Data Entry'!K208 = \"I\",2,IF('Data Entry'!K208 = \"S\",1,\"\"))))","v":""},{"$f":"IF('Data Entry'!M208 = \"D\",4,IF('Data Entry'!M208 = \"C\",3,IF('Data Entry'!M208 = \"I\",2,IF('Data Entry'!M208 = \"S\",1,\"\"))))","v":""},{"$f":"IF('Data Entry'!O208 = \"D\",4,IF('Data Entry'!O208 = \"C\",3,IF('Data Entry'!O208 = \"I\",2,IF('Data Entry'!O208 = \"S\",1,\"\"))))","v":""},{"$f":"IF('Data Entry'!Q208 = \"D\",4,IF('Data Entry'!Q208 = \"C\",3,IF('Data Entry'!Q208 = \"I\",2,IF('Data Entry'!Q208 = \"S\",1,\"\"))))","v":""},{"$f":"IF('Data Entry'!S208 = \"D\",4,IF('Data Entry'!S208 = \"C\",3,IF('Data Entry'!S208 = \"I\",2,IF('Data Entry'!S208 = \"S\",1,\"\"))))","v":""},{"$f":"IF('Data Entry'!U208 = \"D\",4,IF('Data Entry'!U208 = \"C\",3,IF('Data Entry'!U208 = \"I\",2,IF('Data Entry'!U208 = \"S\",1,\"\"))))","v":""},{"$f":"IF('Data Entry'!W208 = \"D\",4,IF('Data Entry'!W208 = \"C\",3,IF('Data Entry'!W208 = \"I\",2,IF('Data Entry'!W208 = \"S\",1,\"\"))))","v":""}]
[null,"S=1",null,{"$f":"IF('Data Entry'!C29<>\"\",'Data Entry'!C29,\"\")","v":""},"","","","","","","",null,"",{"$f":"IF('Data Entry'!E29 = \"D\",4,IF('Data Entry'!E29 = \"C\",3,IF('Data Entry'!E29 = \"I\",2,IF('Data Entry'!E29 = \"S\",1,\"\"))))","v":""},{"$f":"IF('Data Entry'!G29 = \"D\",4,IF('Data Entry'!G29 = \"C\",3,IF('Data Entry'!G29 = \"I\",2,IF('Data Entry'!G29 = \"S\",1,\"\"))))","v":""},{"$f":"IF('Data Entry'!I29 = \"D\",4,IF('Data Entry'!I29 = \"C\",3,IF('Data Entry'!I29 = \"I\",2,IF('Data Entry'!I29 = \"S\",1,\"\"))))","v":""},{"$f":"IF('Data Entry'!K29 = \"D\",4,IF('Data Entry'!K29 = \"C\",3,IF('Data Entry'!K29 = \"I\",2,IF('Data Entry'!K29 = \"S\",1,\"\"))))","v":""},{"$f":"IF('Data Entry'!M29 = \"D\",4,IF('Data Entry'!M29 = \"C\",3,IF('Data Entry'!M29 = \"I\",2,IF('Data Entry'!M29 = \"S\",1,\"\"))))","v":""},{"$f":"IF('Data Entry'!O29 = \"D\",4,IF('Data Entry'!O29 = \"C\",3,IF('Data Entry'!O29 = \"I\",2,IF('Data Entry'!O29 = \"S\",1,\"\"))))","v":""},{"$f":"IF('Data Entry'!Q29 = \"D\",4,IF('Data Entry'!Q29 = \"C\",3,IF('Data Entry'!Q29 = \"I\",2,IF('Data Entry'!Q29 = \"S\",1,\"\"))))","v":""},{"$f":"IF('Data Entry'!S29 = \"D\",4,IF('Data Entry'!S29 = \"C\",3,IF('Data Entry'!S29 = \"I\",2,IF('Data Entry'!S29 = \"S\",1,\"\"))))","v":""},{"$f":"IF('Data Entry'!U29 = \"D\",4,IF('Data Entry'!U29 = \"C\",3,IF('Data Entry'!U29 = \"I\",2,IF('Data Entry'!U29 = \"S\",1,\"\"))))","v":""},{"$f":"IF('Data Entry'!W29 = \"D\",4,IF('Data Entry'!W29 = \"C\",3,IF('Data Entry'!W29 = \"I\",2,IF('Data Entry'!W29 = \"S\",1,\"\"))))","v":""},{"$f":"IF('Data Entry'!E74 = \"D\",4,IF('Data Entry'!E74 = \"C\",3,IF('Data Entry'!E74 = \"I\",2,IF('Data Entry'!E74 = \"S\",1,\"\"))))","v":""},{"$f":"IF('Data Entry'!G74 = \"D\",4,IF('Data Entry'!G74 = \"C\",3,IF('Data Entry'!G74 = \"I\",2,IF('Data Entry'!G74 = \"S\",1,\"\"))))","v":""},{"$f":"IF('Data Entry'!I74 = \"D\",4,IF('Data Entry'!I74 = \"C\",3,IF('Data Entry'!I74 = \"I\",2,IF('Data Entry'!I74 = \"S\",1,\"\"))))","v":""},{"$f":"IF('Data Entry'!K74 = \"D\",4,IF('Data Entry'!K74 = \"C\",3,IF('Data Entry'!K74 = \"I\",2,IF('Data Entry'!K74 = \"S\",1,\"\"))))","v":""},{"$f":"IF('Data Entry'!M74 = \"D\",4,IF('Data Entry'!M74 = \"C\",3,IF('Data Entry'!M74 = \"I\",2,IF('Data Entry'!M74 = \"S\",1,\"\"))))","v":""},{"$f":"IF('Data Entry'!O74 = \"D\",4,IF('Data Entry'!O74 = \"C\",3,IF('Data Entry'!O74 = \"I\",2,IF('Data Entry'!O74 = \"S\",1,\"\"))))","v":""},{"$f":"IF('Data Entry'!Q74 = \"D\",4,IF('Data Entry'!Q74 = \"C\",3,IF('Data Entry'!Q74 = \"I\",2,IF('Data Entry'!Q74 = \"S\",1,\"\"))))","v":""},{"$f":"IF('Data Entry'!S74 = \"D\",4,IF('Data Entry'!S74 = \"C\",3,IF('Data Entry'!S74 = \"I\",2,IF('Data Entry'!S74 = \"S\",1,\"\"))))","v":""},{"$f":"IF('Data Entry'!U74 = \"D\",4,IF('Data Entry'!U74 = \"C\",3,IF('Data Entry'!U74 = \"I\",2,IF('Data Entry'!U74 = \"S\",1,\"\"))))","v":""},{"$f":"IF('Data Entry'!W74 = \"D\",4,IF('Data Entry'!W74 = \"C\",3,IF('Data Entry'!W74 = \"I\",2,IF('Data Entry'!W74 = \"S\",1,\"\"))))","v":""},{"$f":"IF('Data Entry'!E119 = \"D\",4,IF('Data Entry'!E119 = \"C\",3,IF('Data Entry'!E119 = \"I\",2,IF('Data Entry'!E119 = \"S\",1,\"\"))))","v":""},{"$f":"IF('Data Entry'!G119 = \"D\",4,IF('Data Entry'!G119 = \"C\",3,IF('Data Entry'!G119 = \"I\",2,IF('Data Entry'!G119 = \"S\",1,\"\"))))","v":""},{"$f":"IF('Data Entry'!I119 = \"D\",4,IF('Data Entry'!I119 = \"C\",3,IF('Data Entry'!I119 = \"I\",2,IF('Data Entry'!I119 = \"S\",1,\"\"))))","v":""},{"$f":"IF('Data Entry'!K119 = \"D\",4,IF('Data Entry'!K119 = \"C\",3,IF('Data Entry'!K119 = \"I\",2,IF('Data Entry'!K119 = \"S\",1,\"\"))))","v":""},{"$f":"IF('Data Entry'!M119 = \"D\",4,IF('Data Entry'!M119 = \"C\",3,IF('Data Entry'!M119 = \"I\",2,IF('Data Entry'!M119 = \"S\",1,\"\"))))","v":""},{"$f":"IF('Data Entry'!O119 = \"D\",4,IF('Data Entry'!O119 = \"C\",3,IF('Data Entry'!O119 = \"I\",2,IF('Data Entry'!O119 = \"S\",1,\"\"))))","v":""},{"$f":"IF('Data Entry'!Q119 = \"D\",4,IF('Data Entry'!Q119 = \"C\",3,IF('Data Entry'!Q119 = \"I\",2,IF('Data Entry'!Q119 = \"S\",1,\"\"))))","v":""},{"$f":"IF('Data Entry'!S119 = \"D\",4,IF('Data Entry'!S119 = \"C\",3,IF('Data Entry'!S119 = \"I\",2,IF('Data Entry'!S119 = \"S\",1,\"\"))))","v":""},{"$f":"IF('Data Entry'!U119 = \"D\",4,IF('Data Entry'!U119 = \"C\",3,IF('Data Entry'!U119 = \"I\",2,IF('Data Entry'!U119 = \"S\",1,\"\"))))","v":""},{"$f":"IF('Data Entry'!W119 = \"D\",4,IF('Data Entry'!W119 = \"C\",3,IF('Data Entry'!W119 = \"I\",2,IF('Data Entry'!W119 = \"S\",1,\"\"))))","v":""},{"$f":"IF('Data Entry'!E164 = \"D\",4,IF('Data Entry'!E164 = \"C\",3,IF('Data Entry'!E164 = \"I\",2,IF('Data Entry'!E164 = \"S\",1,\"\"))))","v":""},{"$f":"IF('Data Entry'!G164 = \"D\",4,IF('Data Entry'!G164 = \"C\",3,IF('Data Entry'!G164 = \"I\",2,IF('Data Entry'!G164 = \"S\",1,\"\"))))","v":""},{"$f":"IF('Data Entry'!I164 = \"D\",4,IF('Data Entry'!I164 = \"C\",3,IF('Data Entry'!I164 = \"I\",2,IF('Data Entry'!I164 = \"S\",1,\"\"))))","v":""},{"$f":"IF('Data Entry'!K164 = \"D\",4,IF('Data Entry'!K164 = \"C\",3,IF('Data Entry'!K164 = \"I\",2,IF('Data Entry'!K164 = \"S\",1,\"\"))))","v":""},{"$f":"IF('Data Entry'!M164 = \"D\",4,IF('Data Entry'!M164 = \"C\",3,IF('Data Entry'!M164 = \"I\",2,IF('Data Entry'!M164 = \"S\",1,\"\"))))","v":""},{"$f":"IF('Data Entry'!O164 = \"D\",4,IF('Data Entry'!O164 = \"C\",3,IF('Data Entry'!O164 = \"I\",2,IF('Data Entry'!O164 = \"S\",1,\"\"))))","v":""},{"$f":"IF('Data Entry'!Q164 = \"D\",4,IF('Data Entry'!Q164 = \"C\",3,IF('Data Entry'!Q164 = \"I\",2,IF('Data Entry'!Q164 = \"S\",1,\"\"))))","v":""},{"$f":"IF('Data Entry'!S164 = \"D\",4,IF('Data Entry'!S164 = \"C\",3,IF('Data Entry'!S164 = \"I\",2,IF('Data Entry'!S164 = \"S\",1,\"\"))))","v":""},{"$f":"IF('Data Entry'!U164 = \"D\",4,IF('Data Entry'!U164 = \"C\",3,IF('Data Entry'!U164 = \"I\",2,IF('Data Entry'!U164 = \"S\",1,\"\"))))","v":""},{"$f":"IF('Data Entry'!W164 = \"D\",4,IF('Data Entry'!W164 = \"C\",3,IF('Data Entry'!W164 = \"I\",2,IF('Data Entry'!W164 = \"S\",1,\"\"))))","v":""},{"$f":"IF('Data Entry'!E209 = \"D\",4,IF('Data Entry'!E209 = \"C\",3,IF('Data Entry'!E209 = \"I\",2,IF('Data Entry'!E209 = \"S\",1,\"\"))))","v":""},{"$f":"IF('Data Entry'!G209 = \"D\",4,IF('Data Entry'!G209 = \"C\",3,IF('Data Entry'!G209 = \"I\",2,IF('Data Entry'!G209 = \"S\",1,\"\"))))","v":""},{"$f":"IF('Data Entry'!I209 = \"D\",4,IF('Data Entry'!I209 = \"C\",3,IF('Data Entry'!I209 = \"I\",2,IF('Data Entry'!I209 = \"S\",1,\"\"))))","v":""},{"$f":"IF('Data Entry'!K209 = \"D\",4,IF('Data Entry'!K209 = \"C\",3,IF('Data Entry'!K209 = \"I\",2,IF('Data Entry'!K209 = \"S\",1,\"\"))))","v":""},{"$f":"IF('Data Entry'!M209 = \"D\",4,IF('Data Entry'!M209 = \"C\",3,IF('Data Entry'!M209 = \"I\",2,IF('Data Entry'!M209 = \"S\",1,\"\"))))","v":""},{"$f":"IF('Data Entry'!O209 = \"D\",4,IF('Data Entry'!O209 = \"C\",3,IF('Data Entry'!O209 = \"I\",2,IF('Data Entry'!O209 = \"S\",1,\"\"))))","v":""},{"$f":"IF('Data Entry'!Q209 = \"D\",4,IF('Data Entry'!Q209 = \"C\",3,IF('Data Entry'!Q209 = \"I\",2,IF('Data Entry'!Q209 = \"S\",1,\"\"))))","v":""},{"$f":"IF('Data Entry'!S209 = \"D\",4,IF('Data Entry'!S209 = \"C\",3,IF('Data Entry'!S209 = \"I\",2,IF('Data Entry'!S209 = \"S\",1,\"\"))))","v":""},{"$f":"IF('Data Entry'!U209 = \"D\",4,IF('Data Entry'!U209 = \"C\",3,IF('Data Entry'!U209 = \"I\",2,IF('Data Entry'!U209 = \"S\",1,\"\"))))","v":""},{"$f":"IF('Data Entry'!W209 = \"D\",4,IF('Data Entry'!W209 = \"C\",3,IF('Data Entry'!W209 = \"I\",2,IF('Data Entry'!W209 = \"S\",1,\"\"))))","v":""}]
[{"$nulls":3},{"$f":"IF('Data Entry'!C30<>\"\",'Data Entry'!C30,\"\")","v":""},"","","","","","","",null,"",{"$f":"IF('Data Entry'!E30 = \"D\",4,IF('Data Entry'!E30 = \"C\",3,IF('Data Entry'!E30 = \"I\",2,IF('Data Entry'!E30 = \"S\",1,\"\"))))","v":""},{"$f":"IF('Data Entry'!G30 = \"D\",4,IF('Data Entry'!G30 = \"C\",3,IF('Data Entry'!G30 = \"I\",2,IF('Data Entry'!G30 = \"S\",1,\"\"))))","v":""},{"$f":"IF('Data Entry'!I30 = \"D\",4,IF('Data Entry'!I30 = \"C\",3,IF('Data Entry'!I30 = \"I\",2,IF('Data Entry'!I30 = \"S\",1,\"\"))))","v":""},{"$f":"IF('Data Entry'!K30 = \"D\",4,IF('Data Entry'!K30 = \"C\",3,IF('Data Entry'!K30 = \"I\",2,IF('Data Entry'!K30 = \"S\",1,\"\"))))","v":""},{"$f":"IF('Data Entry'!M30 = \"D\",4,IF('Data Entry'!M30 = \"C\",3,IF('Data Entry'!M30 = \"I\",2,IF('Data Entry'!M30 = \"S\",1,\"\"))))","v":""},{"$f":"IF('Data Entry'!O30 = \"D\",4,IF('Data Entry'!O30 = \"C\",3,IF('Data Entry'!O30 = \"I\",2,IF('Data Entry'!O30 = \"S\",1,\"\"))))","v":""},{"$f":"IF('Data Entry'!Q30 = \"D\",4,IF('Data Entry'!Q30 = \"C\",3,IF('Data Entry'!Q30 = \"I\",2,IF('Data Entry'!Q30 = \"S\",1,\"\"))))","v":""},{"$f":"IF('Data Entry'!S30 = \"D\",4,IF('Data Entry'!S30 = \"C\",3,IF('Data Entry'!S30 = \"I\",2,IF('Data Entry'!S30 = \"S\",1,\"\"))))","v":""},{"$f":"IF('Data Entry'!U30 = \"D\",4,IF('Data Entry'!U30 = \"C\",3,IF('Data Entry'!U30 = \"I\",2,IF('Data Entry'!U30 = \"S\",1,\"\"))))","v":""},{"$f":"IF('Data Entry'!W30 = \"D\",4,IF('Data Entry'!W30 = \"C\",3,IF('Data Entry'!W30 = \"I\",2,IF('Data Entry'!W30 = \"S\",1,\"\"))))","v":""},{"$f":"IF('Data Entry'!E75 = \"D\",4,IF('Data Entry'!E75 = \"C\",3,IF('Data Entry'!E75 = \"I\",2,IF('Data Entry'!E75 = \"S\",1,\"\"))))","v":""},{"$f":"IF('Data Entry'!G75 = \"D\",4,IF('Data Entry'!G75 = \"C\",3,IF('Data Entry'!G75 = \"I\",2,IF('Data Entry'!G75 = \"S\",1,\"\"))))","v":""},{"$f":"IF('Data Entry'!I75 = \"D\",4,IF('Data Entry'!I75 = \"C\",3,IF('Data Entry'!I75 = \"I\",2,IF('Data Entry'!I75 = \"S\",1,\"\"))))","v":""},{"$f":"IF('Data Entry'!K75 = \"D\",4,IF('Data Entry'!K75 = \"C\",3,IF('Data Entry'!K75 = \"I\",2,IF('Data Entry'!K75 = \"S\",1,\"\"))))","v":""},{"$f":"IF('Data Entry'!M75 = \"D\",4,IF('Data Entry'!M75 = \"C\",3,IF('Data Entry'!M75 = \"I\",2,IF('Data Entry'!M75 = \"S\",1,\"\"))))","v":""},{"$f":"IF('Data Entry'!O75 = \"D\",4,IF('Data Entry'!O75 = \"C\",3,IF('Data Entry'!O75 = \"I\",2,IF('Data Entry'!O75 = \"S\",1,\"\"))))","v":""},{"$f":"IF('Data Entry'!Q75 = \"D\",4,IF('Data Entry'!Q75 = \"C\",3,IF('Data Entry'!Q75 = \"I\",2,IF('Data Entry'!Q75 = \"S\",1,\"\"))))","v":""},{"$f":"IF('Data Entry'!S75 = \"D\",4,IF('Data Entry'!S75 = \"C\",3,IF('Data Entry'!S75 = \"I\",2,IF('Data Entry'!S75 = \"S\",1,\"\"))))","v":""},{"$f":"IF('Data Entry'!U75 = \"D\",4,IF('Data Entry'!U75 = \"C\",3,IF('Data Entry'!U75 = \"I\",2,IF('Data Entry'!U75 = \"S\",1,\"\"))))","v":""},{"$f":"IF('Data Entry'!W75 = \"D\",4,IF('Data Entry'!W75 = \"C\",3,IF('Data Entry'!W75 = \"I\",2,IF('Data Entry'!W75 = \"S\",1,\"\"))))","v":""},{"$f":"IF('Data Entry'!E120 = \"D\",4,IF('Data Entry'!E120 = \"C\",3,IF('Data Entry'!E120 = \"I\",2,IF('Data Entry'!E120 = \"S\",1,\"\"))))","v":""},{"$f":"IF('Data Entry'!G120 = \"D\",4,IF('Data Entry'!G120 = \"C\",3,IF('Data Entry'!G120 = \"I\",2,IF('Data Entry'!G120 = \"S\",1,\"\"))))","v":""},{"$f":"IF('Data Entry'!I120 = \"D\",4,IF('Data Entry'!I120 = \"C\",3,IF('Data Entry'!I120 = \"I\",2,IF('Data Entry'!I120 = \"S\",1,\"\"))))","v":""},{"$f":"IF('Data Entry'!K120 = \"D\",4,IF('Data Entry'!K120 = \"C\",3,IF('Data Entry'!K120 = \"I\",2,IF('Data Entry'!K120 = \"S\",1,\"\"))))","v":""},{"$f":"IF('Data Entry'!M120 = \"D\",4,IF('Data Entry'!M120 = \"C\",3,IF('Data Entry'!M120 = \"I\",2,IF('Data Entry'!M120 = \"S\",1,\"\"))))","v":""},{"$f":"IF('Data Entry'!O120 = \"D\",4,IF('Data Entry'!O120 = \"C\",3,IF('Data Entry'!O120 = \"I\",2,IF('Data Entry'!O120 = \"S\",1,\"\"))))","v":""},{"$f":"IF('Data Entry'!Q120 = \"D\",4,IF('Data Entry'!Q120 = \"C\",3,IF('Data Entry'!Q120 = \"I\",2,IF('Data Entry'!Q120 = \"S\",1,\"\"))))","v":""},{"$f":"IF('Data Entry'!S120 = \"D\",4,IF('Data Entry'!S120 = \"C\",3,IF('Data Entry'!S120 = \"I\",2,IF('Data Entry'!S120 = \"S\",1,\"\"))))","v":""},{"$f":"IF('Data Entry'!U120 = \"D\",4,IF('Data Entry'!U120 = \"C\",3,IF('Data Entry'!U120 = \"I\",2,IF('Data Entry'!U120 = \"S\",1,\"\"))))","v":""},{"$f":"IF('Data Entry'!W120 = \"D\",4,IF('Data Entry'!W120 = \"C\",3,IF('Data Entry'!W120 = \"I\",2,IF('Data Entry'!W120 = \"S\",1,\"\"))))","v":""},{"$f":"IF('Data Entry'!E165 = \"D\",4,IF('Data Entry'!E165 = \"C\",3,IF('Data Entry'!E165 = \"I\",2,IF('Data Entry'!E165 = \"S\",1,\"\"))))","v":""},{"$f":"IF('Data Entry'!G165 = \"D\",4,IF('Data Entry'!G165 = \"C\",3,IF('Data Entry'!G165 = \"I\",2,IF('Data Entry'!G165 = \"S\",1,\"\"))))","v":""},{"$f":"IF('Data Entry'!I165 = \"D\",4,IF('Data Entry'!I165 = \"C\",3,IF('Data Entry'!I165 = \"I\",2,IF('Data Entry'!I165 = \"S\",1,\"\"))))","v":""},{"$f":"IF('Data Entry'!K165 = \"D\",4,IF('Data Entry'!K165 = \"C\",3,IF('Data Entry'!K165 = \"I\",2,IF('Data Entry'!K165 = \"S\",1,\"\"))))","v":""},{"$f":"IF('Data Entry'!M165 = \"D\",4,IF('Data Entry'!M165 = \"C\",3,IF('Data Entry'!M165 = \"I\",2,IF('Data Entry'!M165 = \"S\",1,\"\"))))","v":""},{"$f":"IF('Data Entry'!O165 = \"D\",4,IF('Data Entry'!O165 = \"C\",3,IF('Data Entry'!O165 = \"I\",2,IF('Data Entry'!O165 = \"S\",1,\"\"))))","v":""},{"$f":"IF('Data Entry'!Q165 = \"D\",4,IF('Data Entry'!Q165 = \"C\",3,IF('Data Entry'!Q165 = \"I\",2,IF('Data Entry'!Q165 = \"S\",1,\"\"))))","v":""},{"$f":"IF('Data Entry'!S165 = \"D\",4,IF('Data Entry'!S165 = \"C\",3,IF('Data Entry'!S165 = \"I\",2,IF('Data Entry'!S165 = \"S\",1,\"\"))))","v":""},{"$f":"IF('Data Entry'!U165 = \"D\",4,IF('Data Entry'!U165 = \"C\",3,IF('Data Entry'!U165 = \"I\",2,IF('Data Entry'!U165 = \"S\",1,\"\"))))","v":""},{"$f":"IF('Data Entry'!W165 = \"D\",4,IF('Data Entry'!W165 = \"C\",3,IF('Data Entry'!W165 = \"I\",2,IF('Data Entry'!W165 = \"S\",1,\"\"))))","v":""},{"$f":"IF('Data Entry'!E210 = \"D\",4,IF('Data Entry'!E210 = \"C\",3,IF('Data Entry'!E210 = \"I\",2,IF('Data Entry'!E210 = \"S\",1,\"\"))))","v":""},{"$f":"IF('Data Entry'!G210 = \"D\",4,IF('Data Entry'!G210 = \"C\",3,IF('Data Entry'!G210 = \"I\",2,IF('Data Entry'!G210 = \"S\",1,\"\"))))","v":""},{"$f":"IF('Data Entry'!I210 = \"D\",4,IF('Data Entry'!I210 = \"C\",3,IF('Data Entry'!I210 = \"I\",2,IF('Data Entry'!I210 = \"S\",1,\"\"))))","v":""},{"$f":"IF('Data Entry'!K210 = \"D\",4,IF('Data Entry'!K210 = \"C\",3,IF('Data Entry'!K210 = \"I\",2,IF('Data Entry'!K210 = \"S\",1,\"\"))))","v":""},{"$f":"IF('Data Entry'!M210 = \"D\",4,IF('Data Entry'!M210 = \"C\",3,IF('Data Entry'!M210 = \"I\",2,IF('Data Entry'!M210 = \"S\",1,\"\"))))","v":""},{"$f":"IF('Data Entry'!O210 = \"D\",4,IF('Data Entry'!O210 = \"C\",3,IF('Data Entry'!O210 = \"I\",2,IF('Data Entry'!O210 = \"S\",1,\"\"))))","v":""},{"$f":"IF('Data Entry'!Q210 = \"D\",4,IF('Data Entry'!Q210 = \"C\",3,IF('Data Entry'!Q210 = \"I\",2,IF('Data Entry'!Q210 = \"S\",1,\"\"))))","v":""},{"$f":"IF('Data Entry'!S210 = \"D\",4,IF('Data Entry'!S210 = \"C\",3,IF('Data Entry'!S210 = \"I\",2,IF('Data Entry'!S210 = \"S\",1,\"\"))))","v":""},{"$f":"IF('Data Entry'!U210 = \"D\",4,IF('Data Entry'!U210 = \"C\",3,IF('Data Entry'!U210 = \"I\",2,IF('Data Entry'!U210 = \"S\",1,\"\"))))","v":""},{"$f":"IF('Data Entry'!W210 = \"D\",4,IF('Data Entry'!W210 = \"C\",3,IF('Data Entry'!W210 = \"I\",2,IF('Data Entry'!W210 = \"S\",1,\"\"))))","v":""}]
[{"$nulls":3},{"$f":"IF('Data Entry'!C31<>\"\",'Data Entry'!C31,\"\")","v":""},"","","","","","","",null,"",{"$f":"IF('Data Entry'!E31 = \"D\",4,IF('Data Entry'!E31 = \"C\",3,IF('Data Entry'!E31 = \"I\",2,IF('Data Entry'!E31 = \"S\",1,\"\"))))","v":""},{"$f":"IF('Data Entry'!G31 = \"D\",4,IF('Data Entry'!G31 = \"C\",3,IF('Data Entry'!G31 = \"I\",2,IF('Data Entry'!G31 = \"S\",1,\"\"))))","v":""},{"$f":"IF('Data Entry'!I31 = \"D\",4,IF('Data Entry'!I31 = \"C\",3,IF('Data Entry'!I31 = \"I\",2,IF('Data Entry'!I31 = \"S\",1,\"\"))))","v":""},{"$f":"IF('Data Entry'!K31 = \"D\",4,IF('Data Entry'!K31 = \"C\",3,IF('Data Entry'!K31 = \"I\",2,IF('Data Entry'!K31 = \"S\",1,\"\"))))","v":""},{"$f":"IF('Data Entry'!M31 = \"D\",4,IF('Data Entry'!M31 = \"C\",3,IF('Data Entry'!M31 = \"I\",2,IF('Data Entry'!M31 = \"S\",1,\"\"))))","v":""},{"$f":"IF('Data Entry'!O31 = \"D\",4,IF('Data Entry'!O31 = \"C\",3,IF('Data Entry'!O31 = \"I\",2,IF('Data Entry'!O31 = \"S\",1,\"\"))))","v":""},{"$f":"IF('Data Entry'!Q31 = \"D\",4,IF('Data Entry'!Q31 = \"C\",3,IF('Data Entry'!Q31 = \"I\",2,IF('Data Entry'!Q31 = \"S\",1,\"\"))))","v":""},{"$f":"IF('Data Entry'!S31 = \"D\",4,IF('Data Entry'!S31 = \"C\",3,IF('Data Entry'!S31 = \"I\",2,IF('Data Entry'!S31 = \"S\",1,\"\"))))","v":""},{"$f":"IF('Data Entry'!U31 = \"D\",4,IF('Data Entry'!U31 = \"C\",3,IF('Data Entry'!U31 = \"I\",2,IF('Data Entry'!U31 = \"S\",1,\"\"))))","v":""},{"$f":"IF('Data Entry'!W31 = \"D\",4,IF('Data Entry'!W31 = \"C\",3,IF('Data Entry'!W31 = \"I\",2,IF('Data Entry'!W31 = \"S\",1,\"\"))))","v":""},{"$f":"IF('Data Entry'!E76 = \"D\",4,IF('Data Entry'!E76 = \"C\",3,IF('Data Entry'!E76 = \"I\",2,IF('Data Entry'!E76 = \"S\",1,\"\"))))","v":""},{"$f":"IF('Data Entry'!G76 = \"D\",4,IF('Data Entry'!G76 = \"C\",3,IF('Data Entry'!G76 = \"I\",2,IF('Data Entry'!G76 = \"S\",1,\"\"))))","v":""},{"$f":"IF('Data Entry'!I76 = \"D\",4,IF('Data Entry'!I76 = \"C\",3,IF('Data Entry'!I76 = \"I\",2,IF('Data Entry'!I76 = \"S\",1,\"\"))))","v":""},{"$f":"IF('Data Entry'!K76 = \"D\",4,IF('Data Entry'!K76 = \"C\",3,IF('Data Entry'!K76 = \"I\",2,IF('Data Entry'!K76 = \"S\",1,\"\"))))","v":""},{"$f":"IF('Data Entry'!M76 = \"D\",4,IF('Data Entry'!M76 = \"C\",3,IF('Data Entry'!M76 = \"I\",2,IF('Data Entry'!M76 = \"S\",1,\"\"))))","v":""},{"$f":"IF('Data Entry'!O76 = \"D\",4,IF('Data Entry'!O76 = \"C\",3,IF('Data Entry'!O76 = \"I\",2,IF('Data Entry'!O76 = \"S\",1,\"\"))))","v":""},{"$f":"IF('Data Entry'!Q76 = \"D\",4,IF('Data Entry'!Q76 = \"C\",3,IF('Data Entry'!Q76 = \"I\",2,IF('Data Entry'!Q76 = \"S\",1,\"\"))))","v":""},{"$f":"IF('Data Entry'!S76 = \"D\",4,IF('Data Entry'!S76 = \"C\",3,IF('Data Entry'!S76 = \"I\",2,IF('Data Entry'!S76 = \"S\",1,\"\"))))","v":""},{"$f":"IF('Data Entry'!U76 = \"D\",4,IF('Data Entry'!U76 = \"C\",3,IF('Data Entry'!U76 = \"I\",2,IF('Data Entry'!U76 = \"S\",1,\"\"))))","v":""},{"$f":"IF('Data Entry'!W76 = \"D\",4,IF('Data Entry'!W76 = \"C\",3,IF('Data Entry'!W76 = \"I\",2,IF('Data Entry'!W76 = \"S\",1,\"\"))))","v":""},{"$f":"IF('Data Entry'!E121 = \"D\",4,IF('Data Entry'!E121 = \"C\",3,IF('Data Entry'!E121 = \"I\",2,IF('Data Entry'!E121 = \"S\",1,\"\"))))","v":""},{"$f":"IF('Data Entry'!G121 = \"D\",4,IF('Data Entry'!G121 = \"C\",3,IF('Data Entry'!G121 = \"I\",2,IF('Data Entry'!G121 = \"S\",1,\"\"))))","v":""},{"$f":"IF('Data Entry'!I121 = \"D\",4,IF('Data Entry'!I121 = \"C\",3,IF('Data Entry'!I121 = \"I\",2,IF('Data Entry'!I121 = \"S\",1,\"\"))))","v":""},{"$f":"IF('Data Entry'!K121 = \"D\",4,IF('Data Entry'!K121 = \"C\",3,IF('Data Entry'!K121 = \"I\",2,IF('Data Entry'!K121 = \"S\",1,\"\"))))","v":""},{"$f":"IF('Data Entry'!M121 = \"D\",4,IF('Data Entry'!M121 = \"C\",3,IF('Data Entry'!M121 = \"I\",2,IF('Data Entry'!M121 = \"S\",1,\"\"))))","v":""},{"$f":"IF('Data Entry'!O121 = \"D\",4,IF('Data Entry'!O121 = \"C\",3,IF('Data Entry'!O121 = \"I\",2,IF('Data Entry'!O121 = \"S\",1,\"\"))))","v":""},{"$f":"IF('Data Entry'!Q121 = \"D\",4,IF('Data Entry'!Q121 = \"C\",3,IF('Data Entry'!Q121 = \"I\",2,IF('Data Entry'!Q121 = \"S\",1,\"\"))))","v":""},{"$f":"IF('Data Entry'!S121 = \"D\",4,IF('Data Entry'!S121 = \"C\",3,IF('Data Entry'!S121 = \"I\",2,IF('Data Entry'!S121 = \"S\",1,\"\"))))","v":""},{"$f":"IF('Data Entry'!U121 = \"D\",4,IF('Data Entry'!U121 = \"C\",3,IF('Data Entry'!U121 = \"I\",2,IF('Data Entry'!U121 = \"S\",1,\"\"))))","v":""},{"$f":"IF('Data Entry'!W121 = \"D\",4,IF('Data Entry'!W121 = \"C\",3,IF('Data Entry'!W121 = \"I\",2,IF('Data Entry'!W121 = \"S\",1,\"\"))))","v":""},{"$f":"IF('Data Entry'!E166 = \"D\",4,IF('Data Entry'!E166 = \"C\",3,IF('Data Entry'!E166 = \"I\",2,IF('Data Entry'!E166 = \"S\",1,\"\"))))","v":""},{"$f":"IF('Data Entry'!G166 = \"D\",4,IF('Data Entry'!G166 = \"C\",3,IF('Data Entry'!G166 = \"I\",2,IF('Data Entry'!G166 = \"S\",1,\"\"))))","v":""},{"$f":"IF('Data Entry'!I166 = \"D\",4,IF('Data Entry'!I166 = \"C\",3,IF('Data Entry'!I166 = \"I\",2,IF('Data Entry'!I166 = \"S\",1,\"\"))))","v":""},{"$f":"IF('Data Entry'!K166 = \"D\",4,IF('Data Entry'!K166 = \"C\",3,IF('Data Entry'!K166 = \"I\",2,IF('Data Entry'!K166 = \"S\",1,\"\"))))","v":""},{"$f":"IF('Data Entry'!M166 = \"D\",4,IF('Data Entry'!M166 = \"C\",3,IF('Data Entry'!M166 = \"I\",2,IF('Data Entry'!M166 = \"S\",1,\"\"))))","v":""},{"$f":"IF('Data Entry'!O166 = \"D\",4,IF('Data Entry'!O166 = \"C\",3,IF('Data Entry'!O166 = \"I\",2,IF('Data Entry'!O166 = \"S\",1,\"\"))))","v":""},{"$f":"IF('Data Entry'!Q166 = \"D\",4,IF('Data Entry'!Q166 = \"C\",3,IF('Data Entry'!Q166 = \"I\",2,IF('Data Entry'!Q166 = \"S\",1,\"\"))))","v":""},{"$f":"IF('Data Entry'!S166 = \"D\",4,IF('Data Entry'!S166 = \"C\",3,IF('Data Entry'!S166 = \"I\",2,IF('Data Entry'!S166 = \"S\",1,\"\"))))","v":""},{"$f":"IF('Data Entry'!U166 = \"D\",4,IF('Data Entry'!U166 = \"C\",3,IF('Data Entry'!U166 = \"I\",2,IF('Data Entry'!U166 = \"S\",1,\"\"))))","v":""},{"$f":"IF('Data Entry'!W166 = \"D\",4,IF('Data Entry'!W166 = \"C\",3,IF('Data Entry'!W166 = \"I\",2,IF('Data Entry'!W166 = \"S\",1,\"\"))))","v":""},{"$f":"IF('Data Entry'!E211 = \"D\",4,IF('Data Entry'!E211 = \"C\",3,IF('Data Entry'!E211 = \"I\",2,IF('Data Entry'!E211 = \"S\",1,\"\"))))","v":""},{"$f":"IF('Data Entry'!G211 = \"D\",4,IF('Data Entry'!G211 = \"C\",3,IF('Data Entry'!G211 = \"I\",2,IF('Data Entry'!G211 = \"S\",1,\"\"))))","v":""},{"$f":"IF('Data Entry'!I211 = \"D\",4,IF('Data Entry'!I211 = \"C\",3,IF('Data Entry'!I211 = \"I\",2,IF('Data Entry'!I211 = \"S\",1,\"\"))))","v":""},{"$f":"IF('Data Entry'!K211 = \"D\",4,IF('Data Entry'!K211 = \"C\",3,IF('Data Entry'!K211 = \"I\",2,IF('Data Entry'!K211 = \"S\",1,\"\"))))","v":""},{"$f":"IF('Data Entry'!M211 = \"D\",4,IF('Data Entry'!M211 = \"C\",3,IF('Data Entry'!M211 = \"I\",2,IF('Data Entry'!M211 = \"S\",1,\"\"))))","v":""},{"$f":"IF('Data Entry'!O211 = \"D\",4,IF('Data Entry'!O211 = \"C\",3,IF('Data Entry'!O211 = \"I\",2,IF('Data Entry'!O211 = \"S\",1,\"\"))))","v":""},{"$f":"IF('Data Entry'!Q211 = \"D\",4,IF('Data Entry'!Q211 = \"C\",3,IF('Data Entry'!Q211 = \"I\",2,IF('Data Entry'!Q211 = \"S\",1,\"\"))))","v":""},{"$f":"IF('Data Entry'!S211 = \"D\",4,IF('Data Entry'!S211 = \"C\",3,IF('Data Entry'!S211 = \"I\",2,IF('Data Entry'!S211 = \"S\",1,\"\"))))","v":""},{"$f":"IF('Data Entry'!U211 = \"D\",4,IF('Data Entry'!U211 = \"C\",3,IF('Data Entry'!U211 = \"I\",2,IF('Data Entry'!U211 = \"S\",1,\"\"))))","v":""},{"$f":"IF('Data Entry'!W211 = \"D\",4,IF('Data Entry'!W211 = \"C\",3,IF('Data Entry'!W211 = \"I\",2,IF('Data Entry'!W211 = \"S\",1,\"\"))))","v":""}]
[{"$nulls":3},{"$f":"IF('Data Entry'!C32<>\"\",'Data Entry'!C32,\"\")","v":""},"","","","","","","",null,"",{"$f":"IF('Data Entry'!E32 = \"D\",4,IF('Data Entry'!E32 = \"C\",3,IF('Data Entry'!E32 = \"I\",2,IF('Data Entry'!E32 = \"S\",1,\"\"))))","v":""},{"$f":"IF('Data Entry'!G32 = \"D\",4,IF('Data Entry'!G32 = \"C\",3,IF('Data Entry'!G32 = \"I\",2,IF('Data Entry'!G32 = \"S\",1,\"\"))))","v":""},{"$f":"IF('Data Entry'!I32 = \"D\",4,IF('Data Entry'!I32 = \"C\",3,IF('Data Entry'!I32 = \"I\",2,IF('Data Entry'!I32 = \"S\",1,\"\"))))","v":""},{"$f":"IF('Data Entry'!K32 = \"D\",4,IF('Data Entry'!K32 = \"C\",3,IF('Data Entry'!K32 = \"I\",2,IF('Data Entry'!K32 = \"S\",1,\"\"))))","v":""},{"$f":"IF('Data Entry'!M32 = \"D\",4,IF('Data Entry'!M32 = \"C\",3,IF('Data Entry'!M32 = \"I\",2,IF('Data Entry'!M32 = \"S\",1,\"\"))))","v":""},{"$f":"IF('Data Entry'!O32 = \"D\",4,IF('Data Entry'!O32 = \"C\",3,IF('Data Entry'!O32 = \"I\",2,IF('Data Entry'!O32 = \"S\",1,\"\"))))","v":""},{"$f":"IF('Data Entry'!Q32 = \"D\",4,IF('Data Entry'!Q32 = \"C\",3,IF('Data Entry'!Q32 = \"I\",2,IF('Data Entry'!Q32 = \"S\",1,\"\"))))","v":""},{"$f":"IF('Data Entry'!S32 = \"D\",4,IF('Data Entry'!S32 = \"C\",3,IF('Data Entry'!S32 = \"I\",2,IF('Data Entry'!S32 = \"S\",1,\"\"))))","v":""},{"$f":"IF('Data Entry'!U32 = \"D\",4,IF('Data Entry'!U32 = \"C\",3,IF('Data Entry'!U32 = \"I\",2,IF('Data Entry'!U32 = \"S\",1,\"\"))))","v":""},{"$f":"IF('Data Entry'!W32 = \"D\",4,IF('Data Entry'!W32 = \"C\",3,IF('Data Entry'!W32 = \"I\",2,IF('Data Entry'!W32 = \"S\",1,\"\"))))","v":""},{"$f":"IF('Data Entry'!E77 = \"D\",4,IF('Data Entry'!E77 = \"C\",3,IF('Data Entry'!E77 = \"I\",2,IF('Data Entry'!E77 = \"S\",1,\"\"))))","v":""},{"$f":"IF('Data Entry'!G77 = \"D\",4,IF('Data Entry'!G77 = \"C\",3,IF('Data Entry'!G77 = \"I\",2,IF('Data Entry'!G77 = \"S\",1,\"\"))))","v":""},{"$f":"IF('Data Entry'!I77 = \"D\",4,IF('Data Entry'!I77 = \"C\",3,IF('Data Entry'!I77 = \"I\",2,IF('Data Entry'!I77 = \"S\",1,\"\"))))","v":""},{"$f":"IF('Data Entry'!K77 = \"D\",4,IF('Data Entry'!K77 = \"C\",3,IF('Data Entry'!K77 = \"I\",2,IF('Data Entry'!K77 = \"S\",1,\"\"))))","v":""},{"$f":"IF('Data Entry'!M77 = \"D\",4,IF('Data Entry'!M77 = \"C\",3,IF('Data Entry'!M77 = \"I\",2,IF('Data Entry'!M77 = \"S\",1,\"\"))))","v":""},{"$f":"IF('Data Entry'!O77 = \"D\",4,IF('Data Entry'!O77 = \"C\",3,IF('Data Entry'!O77 = \"I\",2,IF('Data Entry'!O77 = \"S\",1,\"\"))))","v":""},{"$f":"IF('Data Entry'!Q77 = \"D\",4,IF('Data Entry'!Q77 = \"C\",3,IF('Data Entry'!Q77 = \"I\",2,IF('Data Entry'!Q77 = \"S\",1,\"\"))))","v":""},{"$f":"IF('Data Entry'!S77 = \"D\",4,IF('Data Entry'!S77 = \"C\",3,IF('Data Entry'!S77 = \"I\",2,IF('Data Entry'!S77 = \"S\",1,\"\"))))","v":""},{"$f":"IF('Data Entry'!U77 = \"D\",4,IF('Data Entry'!U77 = \"C\",3,IF('Data Entry'!U77 = \"I\",2,IF('Data Entry'!U77 = \"S\",1,\"\"))))","v":""},{"$f":"IF('Data Entry'!W77 = \"D\",4,IF('Data Entry'!W77 = \"C\",3,IF('Data Entry'!W77 = \"I\",2,IF('Data Entry'!W77 = \"S\",1,\"\"))))","v":""},{"$f":"IF('Data Entry'!E122 = \"D\",4,IF('Data Entry'!E122 = \"C\",3,IF('Data Entry'!E122 = \"I\",2,IF('Data Entry'!E122 = \"S\",1,\"\"))))","v":""},{"$f":"IF('Data Entry'!G122 = \"D\",4,IF('Data Entry'!G122 = \"C\",3,IF('Data Entry'!G122 = \"I\",2,IF('Data Entry'!G122 = \"S\",1,\"\"))))","v":""},{"$f":"IF('Data Entry'!I122 = \"D\",4,IF('Data Entry'!I122 = \"C\",3,IF('Data Entry'!I122 = \"I\",2,IF('Data Entry'!I122 = \"S\",1,\"\"))))","v":""},{"$f":"IF('Data Entry'!K122 = \"D\",4,IF('Data Entry'!K122 = \"C\",3,IF('Data Entry'!K122 = \"I\",2,IF('Data Entry'!K122 = \"S\",1,\"\"))))","v":""},{"$f":"IF('Data Entry'!M122 = \"D\",4,IF('Data Entry'!M122 = \"C\",3,IF('Data Entry'!M122 = \"I\",2,IF('Data Entry'!M122 = \"S\",1,\"\"))))","v":""},{"$f":"IF('Data Entry'!O122 = \"D\",4,IF('Data Entry'!O122 = \"C\",3,IF('Data Entry'!O122 = \"I\",2,IF('Data Entry'!O122 = \"S\",1,\"\"))))","v":""},{"$f":"IF('Data Entry'!Q122 = \"D\",4,IF('Data Entry'!Q122 = \"C\",3,IF('Data Entry'!Q122 = \"I\",2,IF('Data Entry'!Q122 = \"S\",1,\"\"))))","v":""},{"$f":"IF('Data Entry'!S122 = \"D\",4,IF('Data Entry'!S122 = \"C\",3,IF('Data Entry'!S122 = \"I\",2,IF('Data Entry'!S122 = \"S\",1,\"\"))))","v":""},{"$f":"IF('Data Entry'!U122 = \"D\",4,IF('Data Entry'!U122 = \"C\",3,IF('Data Entry'!U122 = \"I\",2,IF('Data Entry'!U122 = \"S\",1,\"\"))))","v":""},{"$f":"IF('Data Entry'!W122 = \"D\",4,IF('Data Entry'!W122 = \"C\",3,IF('Data Entry'!W122 = \"I\",2,IF('Data Entry'!W122 = \"S\",1,\"\"))))","v":""},{"$f":"IF('Data Entry'!E167 = \"D\",4,IF('Data Entry'!E167 = \"C\",3,IF('Data Entry'!E167 = \"I\",2,IF('Data Entry'!E167 = \"S\",1,\"\"))))","v":""},{"$f":"IF('Data Entry'!G167 = \"D\",4,IF('Data Entry'!G167 = \"C\",3,IF('Data Entry'!G167 = \"I\",2,IF('Data Entry'!G167 = \"S\",1,\"\"))))","v":""},{"$f":"IF('Data Entry'!I167 = \"D\",4,IF('Data Entry'!I167 = \"C\",3,IF('Data Entry'!I167 = \"I\",2,IF('Data Entry'!I167 = \"S\",1,\"\"))))","v":""},{"$f":"IF('Data Entry'!K167 = \"D\",4,IF('Data Entry'!K167 = \"C\",3,IF('Data Entry'!K167 = \"I\",2,IF('Data Entry'!K167 = \"S\",1,\"\"))))","v":""},{"$f":"IF('Data Entry'!M167 = \"D\",4,IF('Data Entry'!M167 = \"C\",3,IF('Data Entry'!M167 = \"I\",2,IF('Data Entry'!M167 = \"S\",1,\"\"))))","v":""},{"$f":"IF('Data Entry'!O167 = \"D\",4,IF('Data Entry'!O167 = \"C\",3,IF('Data Entry'!O167 = \"I\",2,IF('Data Entry'!O167 = \"S\",1,\"\"))))","v":""},{"$f":"IF('Data Entry'!Q167 = \"D\",4,IF('Data Entry'!Q167 = \"C\",3,IF('Data Entry'!Q167 = \"I\",2,IF('Data Entry'!Q167 = \"S\",1,\"\"))))","v":""},{"$f":"IF('Data Entry'!S167 = \"D\",4,IF('Data Entry'!S167 = \"C\",3,IF('Data Entry'!S167 = \"I\",2,IF('Data Entry'!S167 = \"S\",1,\"\"))))","v":""},{"$f":"IF('Data Entry'!U167 = \"D\",4,IF('Data Entry'!U167 = \"C\",3,IF('Data Entry'!U167 = \"I\",2,IF('Data Entry'!U167 = \"S\",1,\"\"))))","v":""},{"$f":"IF('Data Entry'!W167 = \"D\",4,IF('Data Entry'!W167 = \"C\",3,IF('Data Entry'!W167 = \"I\",2,IF('Data Entry'!W167 = \"S\",1,\"\"))))","v":""},{"$f":"IF('Data Entry'!E212 = \"D\",4,IF('Data Entry'!E212 = \"C\",3,IF('Data Entry'!E212 = \"I\",2,IF('Data Entry'!E212 = \"S\",1,\"\"))))","v":""},{"$f":"IF('Data Entry'!G212 = \"D\",4,IF('Data Entry'!G212 = \"C\",3,IF('Data Entry'!G212 = \"I\",2,IF('Data Entry'!G212 = \"S\",1,\"\"))))","v":""},{"$f":"IF('Data Entry'!I212 = \"D\",4,IF('Data Entry'!I212 = \"C\",3,IF('Data Entry'!I212 = \"I\",2,IF('Data Entry'!I212 = \"S\",1,\"\"))))","v":""},{"$f":"IF('Data Entry'!K212 = \"D\",4,IF('Data Entry'!K212 = \"C\",3,IF('Data Entry'!K212 = \"I\",2,IF('Data Entry'!K212 = \"S\",1,\"\"))))","v":""},{"$f":"IF('Data Entry'!M212 = \"D\",4,IF('Data Entry'!M212 = \"C\",3,IF('Data Entry'!M212 = \"I\",2,IF('Data Entry'!M212 = \"S\",1,\"\"))))","v":""},{"$f":"IF('Data Entry'!O212 = \"D\",4,IF('Data Entry'!O212 = \"C\",3,IF('Data Entry'!O212 = \"I\",2,IF('Data Entry'!O212 = \"S\",1,\"\"))))","v":""},{"$f":"IF('Data Entry'!Q212 = \"D\",4,IF('Data Entry'!Q212 = \"C\",3,IF('Data Entry'!Q212 = \"I\",2,IF('Data Entry'!Q212 = \"S\",1,\"\"))))","v":""},{"$f":"IF('Data Entry'!S212 = \"D\",4,IF('Data Entry'!S212 = \"C\",3,IF('Data Entry'!S212 = \"I\",2,IF('Data Entry'!S212 = \"S\",1,\"\"))))","v":""},{"$f":"IF('Data Entry'!U212 = \"D\",4,IF('Data Entry'!U212 = \"C\",3,IF('Data Entry'!U212 = \"I\",2,IF('Data Entry'!U212 = \"S\",1,\"\"))))","v":""},{"$f":"IF('Data Entry'!W212 = \"D\",4,IF('Data Entry'!W212 = \"C\",3,IF('Data Entry'!W212 = \"I\",2,IF('Data Entry'!W212 = \"S\",1,\"\"))))","v":""}]
[{"$nulls":3},{"$f":"IF('Data Entry'!C33<>\"\",'Data Entry'!C33,\"\")","v":""},"","","","","","","",null,"",{"$f":"IF('Data Entry'!E33 = \"D\",4,IF('Data Entry'!E33 = \"C\",3,IF('Data Entry'!E33 = \"I\",2,IF('Data Entry'!E33 = \"S\",1,\"\"))))","v":""},{"$f":"IF('Data Entry'!G33 = \"D\",4,IF('Data Entry'!G33 = \"C\",3,IF('Data Entry'!G33 = \"I\",2,IF('Data Entry'!G33 = \"S\",1,\"\"))))","v":""},{"$f":"IF('Data Entry'!I33 = \"D\",4,IF('Data Entry'!I33 = \"C\",3,IF('Data Entry'!I33 = \"I\",2,IF('Data Entry'!I33 = \"S\",1,\"\"))))","v":""},{"$f":"IF('Data Entry'!K33 = \"D\",4,IF('Data Entry'!K33 = \"C\",3,IF('Data Entry'!K33 = \"I\",2,IF('Data Entry'!K33 = \"S\",1,\"\"))))","v":""},{"$f":"IF('Data Entry'!M33 = \"D\",4,IF('Data Entry'!M33 = \"C\",3,IF('Data Entry'!M33 = \"I\",2,IF('Data Entry'!M33 = \"S\",1,\"\"))))","v":""},{"$f":"IF('Data Entry'!O33 = \"D\",4,IF('Data Entry'!O33 = \"C\",3,IF('Data Entry'!O33 = \"I\",2,IF('Data Entry'!O33 = \"S\",1,\"\"))))","v":""},{"$f":"IF('Data Entry'!Q33 = \"D\",4,IF('Data Entry'!Q33 = \"C\",3,IF('Data Entry'!Q33 = \"I\",2,IF('Data Entry'!Q33 = \"S\",1,\"\"))))","v":""},{"$f":"IF('Data Entry'!S33 = \"D\",4,IF('Data Entry'!S33 = \"C\",3,IF('Data Entry'!S33 = \"I\",2,IF('Data Entry'!S33 = \"S\",1,\"\"))))","v":""},{"$f":"IF('Data Entry'!U33 = \"D\",4,IF('Data Entry'!U33 = \"C\",3,IF('Data Entry'!U33 = \"I\",2,IF('Data Entry'!U33 = \"S\",1,\"\"))))","v":""},{"$f":"IF('Data Entry'!W33 = \"D\",4,IF('Data Entry'!W33 = \"C\",3,IF('Data Entry'!W33 = \"I\",2,IF('Data Entry'!W33 = \"S\",1,\"\"))))","v":""},{"$f":"IF('Data Entry'!E78 = \"D\",4,IF('Data Entry'!E78 = \"C\",3,IF('Data Entry'!E78 = \"I\",2,IF('Data Entry'!E78 = \"S\",1,\"\"))))","v":""},{"$f":"IF('Data Entry'!G78 = \"D\",4,IF('Data Entry'!G78 = \"C\",3,IF('Data Entry'!G78 = \"I\",2,IF('Data Entry'!G78 = \"S\",1,\"\"))))","v":""},{"$f":"IF('Data Entry'!I78 = \"D\",4,IF('Data Entry'!I78 = \"C\",3,IF('Data Entry'!I78 = \"I\",2,IF('Data Entry'!I78 = \"S\",1,\"\"))))","v":""},{"$f":"IF('Data Entry'!K78 = \"D\",4,IF('Data Entry'!K78 = \"C\",3,IF('Data Entry'!K78 = \"I\",2,IF('Data Entry'!K78 = \"S\",1,\"\"))))","v":""},{"$f":"IF('Data Entry'!M78 = \"D\",4,IF('Data Entry'!M78 = \"C\",3,IF('Data Entry'!M78 = \"I\",2,IF('Data Entry'!M78 = \"S\",1,\"\"))))","v":""},{"$f":"IF('Data Entry'!O78 = \"D\",4,IF('Data Entry'!O78 = \"C\",3,IF('Data Entry'!O78 = \"I\",2,IF('Data Entry'!O78 = \"S\",1,\"\"))))","v":""},{"$f":"IF('Data Entry'!Q78 = \"D\",4,IF('Data Entry'!Q78 = \"C\",3,IF('Data Entry'!Q78 = \"I\",2,IF('Data Entry'!Q78 = \"S\",1,\"\"))))","v":""},{"$f":"IF('Data Entry'!S78 = \"D\",4,IF('Data Entry'!S78 = \"C\",3,IF('Data Entry'!S78 = \"I\",2,IF('Data Entry'!S78 = \"S\",1,\"\"))))","v":""},{"$f":"IF('Data Entry'!U78 = \"D\",4,IF('Data Entry'!U78 = \"C\",3,IF('Data Entry'!U78 = \"I\",2,IF('Data Entry'!U78 = \"S\",1,\"\"))))","v":""},{"$f":"IF('Data Entry'!W78 = \"D\",4,IF('Data Entry'!W78 = \"C\",3,IF('Data Entry'!W78 = \"I\",2,IF('Data Entry'!W78 = \"S\",1,\"\"))))","v":""},{"$f":"IF('Data Entry'!E123 = \"D\",4,IF('Data Entry'!E123 = \"C\",3,IF('Data Entry'!E123 = \"I\",2,IF('Data Entry'!E123 = \"S\",1,\"\"))))","v":""},{"$f":"IF('Data Entry'!G123 = \"D\",4,IF('Data Entry'!G123 = \"C\",3,IF('Data Entry'!G123 = \"I\",2,IF('Data Entry'!G123 = \"S\",1,\"\"))))","v":""},{"$f":"IF('Data Entry'!I123 = \"D\",4,IF('Data Entry'!I123 = \"C\",3,IF('Data Entry'!I123 = \"I\",2,IF('Data Entry'!I123 = \"S\",1,\"\"))))","v":""},{"$f":"IF('Data Entry'!K123 = \"D\",4,IF('Data Entry'!K123 = \"C\",3,IF('Data Entry'!K123 = \"I\",2,IF('Data Entry'!K123 = \"S\",1,\"\"))))","v":""},{"$f":"IF('Data Entry'!M123 = \"D\",4,IF('Data Entry'!M123 = \"C\",3,IF('Data Entry'!M123 = \"I\",2,IF('Data Entry'!M123 = \"S\",1,\"\"))))","v":""},{"$f":"IF('Data Entry'!O123 = \"D\",4,IF('Data Entry'!O123 = \"C\",3,IF('Data Entry'!O123 = \"I\",2,IF('Data Entry'!O123 = \"S\",1,\"\"))))","v":""},{"$f":"IF('Data Entry'!Q123 = \"D\",4,IF('Data Entry'!Q123 = \"C\",3,IF('Data Entry'!Q123 = \"I\",2,IF('Data Entry'!Q123 = \"S\",1,\"\"))))","v":""},{"$f":"IF('Data Entry'!S123 = \"D\",4,IF('Data Entry'!S123 = \"C\",3,IF('Data Entry'!S123 = \"I\",2,IF('Data Entry'!S123 = \"S\",1,\"\"))))","v":""},{"$f":"IF('Data Entry'!U123 = \"D\",4,IF('Data Entry'!U123 = \"C\",3,IF('Data Entry'!U123 = \"I\",2,IF('Data Entry'!U123 = \"S\",1,\"\"))))","v":""},{"$f":"IF('Data Entry'!W123 = \"D\",4,IF('Data Entry'!W123 = \"C\",3,IF('Data Entry'!W123 = \"I\",2,IF('Data Entry'!W123 = \"S\",1,\"\"))))","v":""},{"$f":"IF('Data Entry'!E168 = \"D\",4,IF('Data Entry'!E168 = \"C\",3,IF('Data Entry'!E168 = \"I\",2,IF('Data Entry'!E168 = \"S\",1,\"\"))))","v":""},{"$f":"IF('Data Entry'!G168 = \"D\",4,IF('Data Entry'!G168 = \"C\",3,IF('Data Entry'!G168 = \"I\",2,IF('Data Entry'!G168 = \"S\",1,\"\"))))","v":""},{"$f":"IF('Data Entry'!I168 = \"D\",4,IF('Data Entry'!I168 = \"C\",3,IF('Data Entry'!I168 = \"I\",2,IF('Data Entry'!I168 = \"S\",1,\"\"))))","v":""},{"$f":"IF('Data Entry'!K168 = \"D\",4,IF('Data Entry'!K168 = \"C\",3,IF('Data Entry'!K168 = \"I\",2,IF('Data Entry'!K168 = \"S\",1,\"\"))))","v":""},{"$f":"IF('Data Entry'!M168 = \"D\",4,IF('Data Entry'!M168 = \"C\",3,IF('Data Entry'!M168 = \"I\",2,IF('Data Entry'!M168 = \"S\",1,\"\"))))","v":""},{"$f":"IF('Data Entry'!O168 = \"D\",4,IF('Data Entry'!O168 = \"C\",3,IF('Data Entry'!O168 = \"I\",2,IF('Data Entry'!O168 = \"S\",1,\"\"))))","v":""},{"$f":"IF('Data Entry'!Q168 = \"D\",4,IF('Data Entry'!Q168 = \"C\",3,IF('Data Entry'!Q168 = \"I\",2,IF('Data Entry'!Q168 = \"S\",1,\"\"))))","v":""},{"$f":"IF('Data Entry'!S168 = \"D\",4,IF('Data Entry'!S168 = \"C\",3,IF('Data Entry'!S168 = \"I\",2,IF('Data Entry'!S168 = \"S\",1,\"\"))))","v":""},{"$f":"IF('Data Entry'!U168 = \"D\",4,IF('Data Entry'!U168 = \"C\",3,IF('Data Entry'!U168 = \"I\",2,IF('Data Entry'!U168 = \"S\",1,\"\"))))","v":""},{"$f":"IF('Data Entry'!W168 = \"D\",4,IF('Data Entry'!W168 = \"C\",3,IF('Data Entry'!W168 = \"I\",2,IF('Data Entry'!W168 = \"S\",1,\"\"))))","v":""},{"$f":"IF('Data Entry'!E213 = \"D\",4,IF('Data Entry'!E213 = \"C\",3,IF('Data Entry'!E213 = \"I\",2,IF('Data Entry'!E213 = \"S\",1,\"\"))))","v":""},{"$f":"IF('Data Entry'!G213 = \"D\",4,IF('Data Entry'!G213 = \"C\",3,IF('Data Entry'!G213 = \"I\",2,IF('Data Entry'!G213 = \"S\",1,\"\"))))","v":""},{"$f":"IF('Data Entry'!I213 = \"D\",4,IF('Data Entry'!I213 = \"C\",3,IF('Data Entry'!I213 = \"I\",2,IF('Data Entry'!I213 = \"S\",1,\"\"))))","v":""},{"$f":"IF('Data Entry'!K213 = \"D\",4,IF('Data Entry'!K213 = \"C\",3,IF('Data Entry'!K213 = \"I\",2,IF('Data Entry'!K213 = \"S\",1,\"\"))))","v":""},{"$f":"IF('Data Entry'!M213 = \"D\",4,IF('Data Entry'!M213 = \"C\",3,IF('Data Entry'!M213 = \"I\",2,IF('Data Entry'!M213 = \"S\",1,\"\"))))","v":""},{"$f":"IF('Data Entry'!O213 = \"D\",4,IF('Data Entry'!O213 = \"C\",3,IF('Data Entry'!O213 = \"I\",2,IF('Data Entry'!O213 = \"S\",1,\"\"))))","v":""},{"$f":"IF('Data Entry'!Q213 = \"D\",4,IF('Data Entry'!Q213 = \"C\",3,IF('Data Entry'!Q213 = \"I\",2,IF('Data Entry'!Q213 = \"S\",1,\"\"))))","v":""},{"$f":"IF('Data Entry'!S213 = \"D\",4,IF('Data Entry'!S213 = \"C\",3,IF('Data Entry'!S213 = \"I\",2,IF('Data Entry'!S213 = \"S\",1,\"\"))))","v":""},{"$f":"IF('Data Entry'!U213 = \"D\",4,IF('Data Entry'!U213 = \"C\",3,IF('Data Entry'!U213 = \"I\",2,IF('Data Entry'!U213 = \"S\",1,\"\"))))","v":""},{"$f":"IF('Data Entry'!W213 = \"D\",4,IF('Data Entry'!W213 = \"C\",3,IF('Data Entry'!W213 = \"I\",2,IF('Data Entry'!W213 = \"S\",1,\"\"))))","v":""}]
[{"$nulls":3},{"$f":"IF('Data Entry'!C34<>\"\",'Data Entry'!C34,\"\")","v":""},"",{"$f":"IF(COUNT(N38:BK38)>1,_xlfn.MODE.SNGL(N38:BK38),IF(COUNT(N38:BK38)=1,SUM(N38:BK38),\"\"))","v":""},"","","","","",null,"",{"$f":"IF('Data Entry'!E34 = \"D\",4,IF('Data Entry'!E34 = \"C\",3,IF('Data Entry'!E34 = \"I\",2,IF('Data Entry'!E34 = \"S\",1,\"\"))))","v":""},{"$f":"IF('Data Entry'!G34 = \"D\",4,IF('Data Entry'!G34 = \"C\",3,IF('Data Entry'!G34 = \"I\",2,IF('Data Entry'!G34 = \"S\",1,\"\"))))","v":""},{"$f":"IF('Data Entry'!I34 = \"D\",4,IF('Data Entry'!I34 = \"C\",3,IF('Data Entry'!I34 = \"I\",2,IF('Data Entry'!I34 = \"S\",1,\"\"))))","v":""},{"$f":"IF('Data Entry'!K34 = \"D\",4,IF('Data Entry'!K34 = \"C\",3,IF('Data Entry'!K34 = \"I\",2,IF('Data Entry'!K34 = \"S\",1,\"\"))))","v":""},{"$f":"IF('Data Entry'!M34 = \"D\",4,IF('Data Entry'!M34 = \"C\",3,IF('Data Entry'!M34 = \"I\",2,IF('Data Entry'!M34 = \"S\",1,\"\"))))","v":""},{"$f":"IF('Data Entry'!O34 = \"D\",4,IF('Data Entry'!O34 = \"C\",3,IF('Data Entry'!O34 = \"I\",2,IF('Data Entry'!O34 = \"S\",1,\"\"))))","v":""},{"$f":"IF('Data Entry'!Q34 = \"D\",4,IF('Data Entry'!Q34 = \"C\",3,IF('Data Entry'!Q34 = \"I\",2,IF('Data Entry'!Q34 = \"S\",1,\"\"))))","v":""},{"$f":"IF('Data Entry'!S34 = \"D\",4,IF('Data Entry'!S34 = \"C\",3,IF('Data Entry'!S34 = \"I\",2,IF('Data Entry'!S34 = \"S\",1,\"\"))))","v":""},{"$f":"IF('Data Entry'!U34 = \"D\",4,IF('Data Entry'!U34 = \"C\",3,IF('Data Entry'!U34 = \"I\",2,IF('Data Entry'!U34 = \"S\",1,\"\"))))","v":""},{"$f":"IF('Data Entry'!W34 = \"D\",4,IF('Data Entry'!W34 = \"C\",3,IF('Data Entry'!W34 = \"I\",2,IF('Data Entry'!W34 = \"S\",1,\"\"))))","v":""},{"$f":"IF('Data Entry'!E79 = \"D\",4,IF('Data Entry'!E79 = \"C\",3,IF('Data Entry'!E79 = \"I\",2,IF('Data Entry'!E79 = \"S\",1,\"\"))))","v":""},{"$f":"IF('Data Entry'!G79 = \"D\",4,IF('Data Entry'!G79 = \"C\",3,IF('Data Entry'!G79 = \"I\",2,IF('Data Entry'!G79 = \"S\",1,\"\"))))","v":""},{"$f":"IF('Data Entry'!I79 = \"D\",4,IF('Data Entry'!I79 = \"C\",3,IF('Data Entry'!I79 = \"I\",2,IF('Data Entry'!I79 = \"S\",1,\"\"))))","v":""},{"$f":"IF('Data Entry'!K79 = \"D\",4,IF('Data Entry'!K79 = \"C\",3,IF('Data Entry'!K79 = \"I\",2,IF('Data Entry'!K79 = \"S\",1,\"\"))))","v":""},{"$f":"IF('Data Entry'!M79 = \"D\",4,IF('Data Entry'!M79 = \"C\",3,IF('Data Entry'!M79 = \"I\",2,IF('Data Entry'!M79 = \"S\",1,\"\"))))","v":""},{"$f":"IF('Data Entry'!O79 = \"D\",4,IF('Data Entry'!O79 = \"C\",3,IF('Data Entry'!O79 = \"I\",2,IF('Data Entry'!O79 = \"S\",1,\"\"))))","v":""},{"$f":"IF('Data Entry'!Q79 = \"D\",4,IF('Data Entry'!Q79 = \"C\",3,IF('Data Entry'!Q79 = \"I\",2,IF('Data Entry'!Q79 = \"S\",1,\"\"))))","v":""},{"$f":"IF('Data Entry'!S79 = \"D\",4,IF('Data Entry'!S79 = \"C\",3,IF('Data Entry'!S79 = \"I\",2,IF('Data Entry'!S79 = \"S\",1,\"\"))))","v":""},{"$f":"IF('Data Entry'!U79 = \"D\",4,IF('Data Entry'!U79 = \"C\",3,IF('Data Entry'!U79 = \"I\",2,IF('Data Entry'!U79 = \"S\",1,\"\"))))","v":""},{"$f":"IF('Data Entry'!W79 = \"D\",4,IF('Data Entry'!W79 = \"C\",3,IF('Data Entry'!W79 = \"I\",2,IF('Data Entry'!W79 = \"S\",1,\"\"))))","v":""},{"$f":"IF('Data Entry'!E124 = \"D\",4,IF('Data Entry'!E124 = \"C\",3,IF('Data Entry'!E124 = \"I\",2,IF('Data Entry'!E124 = \"S\",1,\"\"))))","v":""},{"$f":"IF('Data Entry'!G124 = \"D\",4,IF('Data Entry'!G124 = \"C\",3,IF('Data Entry'!G124 = \"I\",2,IF('Data Entry'!G124 = \"S\",1,\"\"))))","v":""},{"$f":"IF('Data Entry'!I124 = \"D\",4,IF('Data Entry'!I124 = \"C\",3,IF('Data Entry'!I124 = \"I\",2,IF('Data Entry'!I124 = \"S\",1,\"\"))))","v":""},{"$f":"IF('Data Entry'!K124 = \"D\",4,IF('Data Entry'!K124 = \"C\",3,IF('Data Entry'!K124 = \"I\",2,IF('Data Entry'!K124 = \"S\",1,\"\"))))","v":""},{"$f":"IF('Data Entry'!M124 = \"D\",4,IF('Data Entry'!M124 = \"C\",3,IF('Data Entry'!M124 = \"I\",2,IF('Data Entry'!M124 = \"S\",1,\"\"))))","v":""},{"$f":"IF('Data Entry'!O124 = \"D\",4,IF('Data Entry'!O124 = \"C\",3,IF('Data Entry'!O124 = \"I\",2,IF('Data Entry'!O124 = \"S\",1,\"\"))))","v":""},{"$f":"IF('Data Entry'!Q124 = \"D\",4,IF('Data Entry'!Q124 = \"C\",3,IF('Data Entry'!Q124 = \"I\",2,IF('Data Entry'!Q124 = \"S\",1,\"\"))))","v":""},{"$f":"IF('Data Entry'!S124 = \"D\",4,IF('Data Entry'!S124 = \"C\",3,IF('Data Entry'!S124 = \"I\",2,IF('Data Entry'!S124 = \"S\",1,\"\"))))","v":""},{"$f":"IF('Data Entry'!U124 = \"D\",4,IF('Data Entry'!U124 = \"C\",3,IF('Data Entry'!U124 = \"I\",2,IF('Data Entry'!U124 = \"S\",1,\"\"))))","v":""},{"$f":"IF('Data Entry'!W124 = \"D\",4,IF('Data Entry'!W124 = \"C\",3,IF('Data Entry'!W124 = \"I\",2,IF('Data Entry'!W124 = \"S\",1,\"\"))))","v":""},{"$f":"IF('Data Entry'!E169 = \"D\",4,IF('Data Entry'!E169 = \"C\",3,IF('Data Entry'!E169 = \"I\",2,IF('Data Entry'!E169 = \"S\",1,\"\"))))","v":""},{"$f":"IF('Data Entry'!G169 = \"D\",4,IF('Data Entry'!G169 = \"C\",3,IF('Data Entry'!G169 = \"I\",2,IF('Data Entry'!G169 = \"S\",1,\"\"))))","v":""},{"$f":"IF('Data Entry'!I169 = \"D\",4,IF('Data Entry'!I169 = \"C\",3,IF('Data Entry'!I169 = \"I\",2,IF('Data Entry'!I169 = \"S\",1,\"\"))))","v":""},{"$f":"IF('Data Entry'!K169 = \"D\",4,IF('Data Entry'!K169 = \"C\",3,IF('Data Entry'!K169 = \"I\",2,IF('Data Entry'!K169 = \"S\",1,\"\"))))","v":""},{"$f":"IF('Data Entry'!M169 = \"D\",4,IF('Data Entry'!M169 = \"C\",3,IF('Data Entry'!M169 = \"I\",2,IF('Data Entry'!M169 = \"S\",1,\"\"))))","v":""},{"$f":"IF('Data Entry'!O169 = \"D\",4,IF('Data Entry'!O169 = \"C\",3,IF('Data Entry'!O169 = \"I\",2,IF('Data Entry'!O169 = \"S\",1,\"\"))))","v":""},{"$f":"IF('Data Entry'!Q169 = \"D\",4,IF('Data Entry'!Q169 = \"C\",3,IF('Data Entry'!Q169 = \"I\",2,IF('Data Entry'!Q169 = \"S\",1,\"\"))))","v":""},{"$f":"IF('Data Entry'!S169 = \"D\",4,IF('Data Entry'!S169 = \"C\",3,IF('Data Entry'!S169 = \"I\",2,IF('Data Entry'!S169 = \"S\",1,\"\"))))","v":""},{"$f":"IF('Data Entry'!U169 = \"D\",4,IF('Data Entry'!U169 = \"C\",3,IF('Data Entry'!U169 = \"I\",2,IF('Data Entry'!U169 = \"S\",1,\"\"))))","v":""},{"$f":"IF('Data Entry'!W169 = \"D\",4,IF('Data Entry'!W169 = \"C\",3,IF('Data Entry'!W169 = \"I\",2,IF('Data Entry'!W169 = \"S\",1,\"\"))))","v":""},{"$f":"IF('Data Entry'!E214 = \"D\",4,IF('Data Entry'!E214 = \"C\",3,IF('Data Entry'!E214 = \"I\",2,IF('Data Entry'!E214 = \"S\",1,\"\"))))","v":""},{"$f":"IF('Data Entry'!G214 = \"D\",4,IF('Data Entry'!G214 = \"C\",3,IF('Data Entry'!G214 = \"I\",2,IF('Data Entry'!G214 = \"S\",1,\"\"))))","v":""},{"$f":"IF('Data Entry'!I214 = \"D\",4,IF('Data Entry'!I214 = \"C\",3,IF('Data Entry'!I214 = \"I\",2,IF('Data Entry'!I214 = \"S\",1,\"\"))))","v":""},{"$f":"IF('Data Entry'!K214 = \"D\",4,IF('Data Entry'!K214 = \"C\",3,IF('Data Entry'!K214 = \"I\",2,IF('Data Entry'!K214 = \"S\",1,\"\"))))","v":""},{"$f":"IF('Data Entry'!M214 = \"D\",4,IF('Data Entry'!M214 = \"C\",3,IF('Data Entry'!M214 = \"I\",2,IF('Data Entry'!M214 = \"S\",1,\"\"))))","v":""},{"$f":"IF('Data Entry'!O214 = \"D\",4,IF('Data Entry'!O214 = \"C\",3,IF('Data Entry'!O214 = \"I\",2,IF('Data Entry'!O214 = \"S\",1,\"\"))))","v":""},{"$f":"IF('Data Entry'!Q214 = \"D\",4,IF('Data Entry'!Q214 = \"C\",3,IF('Data Entry'!Q214 = \"I\",2,IF('Data Entry'!Q214 = \"S\",1,\"\"))))","v":""},{"$f":"IF('Data Entry'!S214 = \"D\",4,IF('Data Entry'!S214 = \"C\",3,IF('Data Entry'!S214 = \"I\",2,IF('Data Entry'!S214 = \"S\",1,\"\"))))","v":""},{"$f":"IF('Data Entry'!U214 = \"D\",4,IF('Data Entry'!U214 = \"C\",3,IF('Data Entry'!U214 = \"I\",2,IF('Data Entry'!U214 = \"S\",1,\"\"))))","v":""},{"$f":"IF('Data Entry'!W214 = \"D\",4,IF('Data Entry'!W214 = \"C\",3,IF('Data Entry'!W214 = \"I\",2,IF('Data Entry'!W214 = \"S\",1,\"\"))))","v":""}]
[{"$nulls":3},{"$f":"IF('Data Entry'!C35<>\"\",'Data Entry'!C35,\"\")","v":""},"","","","","","","",null,"",{"$f":"IF('Data Entry'!E35 = \"D\",4,IF('Data Entry'!E35 = \"C\",3,IF('Data Entry'!E35 = \"I\",2,IF('Data Entry'!E35 = \"S\",1,\"\"))))","v":""},{"$f":"IF('Data Entry'!G35 = \"D\",4,IF('Data Entry'!G35 = \"C\",3,IF('Data Entry'!G35 = \"I\",2,IF('Data Entry'!G35 = \"S\",1,\"\"))))","v":""},{"$f":"IF('Data Entry'!I35 = \"D\",4,IF('Data Entry'!I35 = \"C\",3,IF('Data Entry'!I35 = \"I\",2,IF('Data Entry'!I35 = \"S\",1,\"\"))))","v":""},{"$f":"IF('Data Entry'!K35 = \"D\",4,IF('Data Entry'!K35 = \"C\",3,IF('Data Entry'!K35 = \"I\",2,IF('Data Entry'!K35 = \"S\",1,\"\"))))","v":""},{"$f":"IF('Data Entry'!M35 = \"D\",4,IF('Data Entry'!M35 = \"C\",3,IF('Data Entry'!M35 = \"I\",2,IF('Data Entry'!M35 = \"S\",1,\"\"))))","v":""},{"$f":"IF('Data Entry'!O35 = \"D\",4,IF('Data Entry'!O35 = \"C\",3,IF('Data Entry'!O35 = \"I\",2,IF('Data Entry'!O35 = \"S\",1,\"\"))))","v":""},{"$f":"IF('Data Entry'!Q35 = \"D\",4,IF('Data Entry'!Q35 = \"C\",3,IF('Data Entry'!Q35 = \"I\",2,IF('Data Entry'!Q35 = \"S\",1,\"\"))))","v":""},{"$f":"IF('Data Entry'!S35 = \"D\",4,IF('Data Entry'!S35 = \"C\",3,IF('Data Entry'!S35 = \"I\",2,IF('Data Entry'!S35 = \"S\",1,\"\"))))","v":""},{"$f":"IF('Data Entry'!U35 = \"D\",4,IF('Data Entry'!U35 = \"C\",3,IF('Data Entry'!U35 = \"I\",2,IF('Data Entry'!U35 = \"S\",1,\"\"))))","v":""},{"$f":"IF('Data Entry'!W35 = \"D\",4,IF('Data Entry'!W35 = \"C\",3,IF('Data Entry'!W35 = \"I\",2,IF('Data Entry'!W35 = \"S\",1,\"\"))))","v":""},{"$f":"IF('Data Entry'!E80 = \"D\",4,IF('Data Entry'!E80 = \"C\",3,IF('Data Entry'!E80 = \"I\",2,IF('Data Entry'!E80 = \"S\",1,\"\"))))","v":""},{"$f":"IF('Data Entry'!G80 = \"D\",4,IF('Data Entry'!G80 = \"C\",3,IF('Data Entry'!G80 = \"I\",2,IF('Data Entry'!G80 = \"S\",1,\"\"))))","v":""},{"$f":"IF('Data Entry'!I80 = \"D\",4,IF('Data Entry'!I80 = \"C\",3,IF('Data Entry'!I80 = \"I\",2,IF('Data Entry'!I80 = \"S\",1,\"\"))))","v":""},{"$f":"IF('Data Entry'!K80 = \"D\",4,IF('Data Entry'!K80 = \"C\",3,IF('Data Entry'!K80 = \"I\",2,IF('Data Entry'!K80 = \"S\",1,\"\"))))","v":""},{"$f":"IF('Data Entry'!M80 = \"D\",4,IF('Data Entry'!M80 = \"C\",3,IF('Data Entry'!M80 = \"I\",2,IF('Data Entry'!M80 = \"S\",1,\"\"))))","v":""},{"$f":"IF('Data Entry'!O80 = \"D\",4,IF('Data Entry'!O80 = \"C\",3,IF('Data Entry'!O80 = \"I\",2,IF('Data Entry'!O80 = \"S\",1,\"\"))))","v":""},{"$f":"IF('Data Entry'!Q80 = \"D\",4,IF('Data Entry'!Q80 = \"C\",3,IF('Data Entry'!Q80 = \"I\",2,IF('Data Entry'!Q80 = \"S\",1,\"\"))))","v":""},{"$f":"IF('Data Entry'!S80 = \"D\",4,IF('Data Entry'!S80 = \"C\",3,IF('Data Entry'!S80 = \"I\",2,IF('Data Entry'!S80 = \"S\",1,\"\"))))","v":""},{"$f":"IF('Data Entry'!U80 = \"D\",4,IF('Data Entry'!U80 = \"C\",3,IF('Data Entry'!U80 = \"I\",2,IF('Data Entry'!U80 = \"S\",1,\"\"))))","v":""},{"$f":"IF('Data Entry'!W80 = \"D\",4,IF('Data Entry'!W80 = \"C\",3,IF('Data Entry'!W80 = \"I\",2,IF('Data Entry'!W80 = \"S\",1,\"\"))))","v":""},{"$f":"IF('Data Entry'!E125 = \"D\",4,IF('Data Entry'!E125 = \"C\",3,IF('Data Entry'!E125 = \"I\",2,IF('Data Entry'!E125 = \"S\",1,\"\"))))","v":""},{"$f":"IF('Data Entry'!G125 = \"D\",4,IF('Data Entry'!G125 = \"C\",3,IF('Data Entry'!G125 = \"I\",2,IF('Data Entry'!G125 = \"S\",1,\"\"))))","v":""},{"$f":"IF('Data Entry'!I125 = \"D\",4,IF('Data Entry'!I125 = \"C\",3,IF('Data Entry'!I125 = \"I\",2,IF('Data Entry'!I125 = \"S\",1,\"\"))))","v":""},{"$f":"IF('Data Entry'!K125 = \"D\",4,IF('Data Entry'!K125 = \"C\",3,IF('Data Entry'!K125 = \"I\",2,IF('Data Entry'!K125 = \"S\",1,\"\"))))","v":""},{"$f":"IF('Data Entry'!M125 = \"D\",4,IF('Data Entry'!M125 = \"C\",3,IF('Data Entry'!M125 = \"I\",2,IF('Data Entry'!M125 = \"S\",1,\"\"))))","v":""},{"$f":"IF('Data Entry'!O125 = \"D\",4,IF('Data Entry'!O125 = \"C\",3,IF('Data Entry'!O125 = \"I\",2,IF('Data Entry'!O125 = \"S\",1,\"\"))))","v":""},{"$f":"IF('Data Entry'!Q125 = \"D\",4,IF('Data Entry'!Q125 = \"C\",3,IF('Data Entry'!Q125 = \"I\",2,IF('Data Entry'!Q125 = \"S\",1,\"\"))))","v":""},{"$f":"IF('Data Entry'!S125 = \"D\",4,IF('Data Entry'!S125 = \"C\",3,IF('Data Entry'!S125 = \"I\",2,IF('Data Entry'!S125 = \"S\",1,\"\"))))","v":""},{"$f":"IF('Data Entry'!U125 = \"D\",4,IF('Data Entry'!U125 = \"C\",3,IF('Data Entry'!U125 = \"I\",2,IF('Data Entry'!U125 = \"S\",1,\"\"))))","v":""},{"$f":"IF('Data Entry'!W125 = \"D\",4,IF('Data Entry'!W125 = \"C\",3,IF('Data Entry'!W125 = \"I\",2,IF('Data Entry'!W125 = \"S\",1,\"\"))))","v":""},{"$f":"IF('Data Entry'!E170 = \"D\",4,IF('Data Entry'!E170 = \"C\",3,IF('Data Entry'!E170 = \"I\",2,IF('Data Entry'!E170 = \"S\",1,\"\"))))","v":""},{"$f":"IF('Data Entry'!G170 = \"D\",4,IF('Data Entry'!G170 = \"C\",3,IF('Data Entry'!G170 = \"I\",2,IF('Data Entry'!G170 = \"S\",1,\"\"))))","v":""},{"$f":"IF('Data Entry'!I170 = \"D\",4,IF('Data Entry'!I170 = \"C\",3,IF('Data Entry'!I170 = \"I\",2,IF('Data Entry'!I170 = \"S\",1,\"\"))))","v":""},{"$f":"IF('Data Entry'!K170 = \"D\",4,IF('Data Entry'!K170 = \"C\",3,IF('Data Entry'!K170 = \"I\",2,IF('Data Entry'!K170 = \"S\",1,\"\"))))","v":""},{"$f":"IF('Data Entry'!M170 = \"D\",4,IF('Data Entry'!M170 = \"C\",3,IF('Data Entry'!M170 = \"I\",2,IF('Data Entry'!M170 = \"S\",1,\"\"))))","v":""},{"$f":"IF('Data Entry'!O170 = \"D\",4,IF('Data Entry'!O170 = \"C\",3,IF('Data Entry'!O170 = \"I\",2,IF('Data Entry'!O170 = \"S\",1,\"\"))))","v":""},{"$f":"IF('Data Entry'!Q170 = \"D\",4,IF('Data Entry'!Q170 = \"C\",3,IF('Data Entry'!Q170 = \"I\",2,IF('Data Entry'!Q170 = \"S\",1,\"\"))))","v":""},{"$f":"IF('Data Entry'!S170 = \"D\",4,IF('Data Entry'!S170 = \"C\",3,IF('Data Entry'!S170 = \"I\",2,IF('Data Entry'!S170 = \"S\",1,\"\"))))","v":""},{"$f":"IF('Data Entry'!U170 = \"D\",4,IF('Data Entry'!U170 = \"C\",3,IF('Data Entry'!U170 = \"I\",2,IF('Data Entry'!U170 = \"S\",1,\"\"))))","v":""},{"$f":"IF('Data Entry'!W170 = \"D\",4,IF('Data Entry'!W170 = \"C\",3,IF('Data Entry'!W170 = \"I\",2,IF('Data Entry'!W170 = \"S\",1,\"\"))))","v":""},{"$f":"IF('Data Entry'!E215 = \"D\",4,IF('Data Entry'!E215 = \"C\",3,IF('Data Entry'!E215 = \"I\",2,IF('Data Entry'!E215 = \"S\",1,\"\"))))","v":""},{"$f":"IF('Data Entry'!G215 = \"D\",4,IF('Data Entry'!G215 = \"C\",3,IF('Data Entry'!G215 = \"I\",2,IF('Data Entry'!G215 = \"S\",1,\"\"))))","v":""},{"$f":"IF('Data Entry'!I215 = \"D\",4,IF('Data Entry'!I215 = \"C\",3,IF('Data Entry'!I215 = \"I\",2,IF('Data Entry'!I215 = \"S\",1,\"\"))))","v":""},{"$f":"IF('Data Entry'!K215 = \"D\",4,IF('Data Entry'!K215 = \"C\",3,IF('Data Entry'!K215 = \"I\",2,IF('Data Entry'!K215 = \"S\",1,\"\"))))","v":""},{"$f":"IF('Data Entry'!M215 = \"D\",4,IF('Data Entry'!M215 = \"C\",3,IF('Data Entry'!M215 = \"I\",2,IF('Data Entry'!M215 = \"S\",1,\"\"))))","v":""},{"$f":"IF('Data Entry'!O215 = \"D\",4,IF('Data Entry'!O215 = \"C\",3,IF('Data Entry'!O215 = \"I\",2,IF('Data Entry'!O215 = \"S\",1,\"\"))))","v":""},{"$f":"IF('Data Entry'!Q215 = \"D\",4,IF('Data Entry'!Q215 = \"C\",3,IF('Data Entry'!Q215 = \"I\",2,IF('Data Entry'!Q215 = \"S\",1,\"\"))))","v":""},{"$f":"IF('Data Entry'!S215 = \"D\",4,IF('Data Entry'!S215 = \"C\",3,IF('Data Entry'!S215 = \"I\",2,IF('Data Entry'!S215 = \"S\",1,\"\"))))","v":""},{"$f":"IF('Data Entry'!U215 = \"D\",4,IF('Data Entry'!U215 = \"C\",3,IF('Data Entry'!U215 = \"I\",2,IF('Data Entry'!U215 = \"S\",1,\"\"))))","v":""},{"$f":"IF('Data Entry'!W215 = \"D\",4,IF('Data Entry'!W215 = \"C\",3,IF('Data Entry'!W215 = \"I\",2,IF('Data Entry'!W215 = \"S\",1,\"\"))))","v":""}]
[{"$nulls":3},{"$f":"IF('Data Entry'!C36<>\"\",'Data Entry'!C36,\"\")","v":""},"","","","","","","",null,"",{"$f":"IF('Data Entry'!E36 = \"D\",4,IF('Data Entry'!E36 = \"C\",3,IF('Data Entry'!E36 = \"I\",2,IF('Data Entry'!E36 = \"S\",1,\"\"))))","v":""},{"$f":"IF('Data Entry'!G36 = \"D\",4,IF('Data Entry'!G36 = \"C\",3,IF('Data Entry'!G36 = \"I\",2,IF('Data Entry'!G36 = \"S\",1,\"\"))))","v":""},{"$f":"IF('Data Entry'!I36 = \"D\",4,IF('Data Entry'!I36 = \"C\",3,IF('Data Entry'!I36 = \"I\",2,IF('Data Entry'!I36 = \"S\",1,\"\"))))","v":""},{"$f":"IF('Data Entry'!K36 = \"D\",4,IF('Data Entry'!K36 = \"C\",3,IF('Data Entry'!K36 = \"I\",2,IF('Data Entry'!K36 = \"S\",1,\"\"))))","v":""},{"$f":"IF('Data Entry'!M36 = \"D\",4,IF('Data Entry'!M36 = \"C\",3,IF('Data Entry'!M36 = \"I\",2,IF('Data Entry'!M36 = \"S\",1,\"\"))))","v":""},{"$f":"IF('Data Entry'!O36 = \"D\",4,IF('Data Entry'!O36 = \"C\",3,IF('Data Entry'!O36 = \"I\",2,IF('Data Entry'!O36 = \"S\",1,\"\"))))","v":""},{"$f":"IF('Data Entry'!Q36 = \"D\",4,IF('Data Entry'!Q36 = \"C\",3,IF('Data Entry'!Q36 = \"I\",2,IF('Data Entry'!Q36 = \"S\",1,\"\"))))","v":""},{"$f":"IF('Data Entry'!S36 = \"D\",4,IF('Data Entry'!S36 = \"C\",3,IF('Data Entry'!S36 = \"I\",2,IF('Data Entry'!S36 = \"S\",1,\"\"))))","v":""},{"$f":"IF('Data Entry'!U36 = \"D\",4,IF('Data Entry'!U36 = \"C\",3,IF('Data Entry'!U36 = \"I\",2,IF('Data Entry'!U36 = \"S\",1,\"\"))))","v":""},{"$f":"IF('Data Entry'!W36 = \"D\",4,IF('Data Entry'!W36 = \"C\",3,IF('Data Entry'!W36 = \"I\",2,IF('Data Entry'!W36 = \"S\",1,\"\"))))","v":""},{"$f":"IF('Data Entry'!E81 = \"D\",4,IF('Data Entry'!E81 = \"C\",3,IF('Data Entry'!E81 = \"I\",2,IF('Data Entry'!E81 = \"S\",1,\"\"))))","v":""},{"$f":"IF('Data Entry'!G81 = \"D\",4,IF('Data Entry'!G81 = \"C\",3,IF('Data Entry'!G81 = \"I\",2,IF('Data Entry'!G81 = \"S\",1,\"\"))))","v":""},{"$f":"IF('Data Entry'!I81 = \"D\",4,IF('Data Entry'!I81 = \"C\",3,IF('Data Entry'!I81 = \"I\",2,IF('Data Entry'!I81 = \"S\",1,\"\"))))","v":""},{"$f":"IF('Data Entry'!K81 = \"D\",4,IF('Data Entry'!K81 = \"C\",3,IF('Data Entry'!K81 = \"I\",2,IF('Data Entry'!K81 = \"S\",1,\"\"))))","v":""},{"$f":"IF('Data Entry'!M81 = \"D\",4,IF('Data Entry'!M81 = \"C\",3,IF('Data Entry'!M81 = \"I\",2,IF('Data Entry'!M81 = \"S\",1,\"\"))))","v":""},{"$f":"IF('Data Entry'!O81 = \"D\",4,IF('Data Entry'!O81 = \"C\",3,IF('Data Entry'!O81 = \"I\",2,IF('Data Entry'!O81 = \"S\",1,\"\"))))","v":""},{"$f":"IF('Data Entry'!Q81 = \"D\",4,IF('Data Entry'!Q81 = \"C\",3,IF('Data Entry'!Q81 = \"I\",2,IF('Data Entry'!Q81 = \"S\",1,\"\"))))","v":""},{"$f":"IF('Data Entry'!S81 = \"D\",4,IF('Data Entry'!S81 = \"C\",3,IF('Data Entry'!S81 = \"I\",2,IF('Data Entry'!S81 = \"S\",1,\"\"))))","v":""},{"$f":"IF('Data Entry'!U81 = \"D\",4,IF('Data Entry'!U81 = \"C\",3,IF('Data Entry'!U81 = \"I\",2,IF('Data Entry'!U81 = \"S\",1,\"\"))))","v":""},{"$f":"IF('Data Entry'!W81 = \"D\",4,IF('Data Entry'!W81 = \"C\",3,IF('Data Entry'!W81 = \"I\",2,IF('Data Entry'!W81 = \"S\",1,\"\"))))","v":""},{"$f":"IF('Data Entry'!E126 = \"D\",4,IF('Data Entry'!E126 = \"C\",3,IF('Data Entry'!E126 = \"I\",2,IF('Data Entry'!E126 = \"S\",1,\"\"))))","v":""},{"$f":"IF('Data Entry'!G126 = \"D\",4,IF('Data Entry'!G126 = \"C\",3,IF('Data Entry'!G126 = \"I\",2,IF('Data Entry'!G126 = \"S\",1,\"\"))))","v":""},{"$f":"IF('Data Entry'!I126 = \"D\",4,IF('Data Entry'!I126 = \"C\",3,IF('Data Entry'!I126 = \"I\",2,IF('Data Entry'!I126 = \"S\",1,\"\"))))","v":""},{"$f":"IF('Data Entry'!K126 = \"D\",4,IF('Data Entry'!K126 = \"C\",3,IF('Data Entry'!K126 = \"I\",2,IF('Data Entry'!K126 = \"S\",1,\"\"))))","v":""},{"$f":"IF('Data Entry'!M126 = \"D\",4,IF('Data Entry'!M126 = \"C\",3,IF('Data Entry'!M126 = \"I\",2,IF('Data Entry'!M126 = \"S\",1,\"\"))))","v":""},{"$f":"IF('Data Entry'!O126 = \"D\",4,IF('Data Entry'!O126 = \"C\",3,IF('Data Entry'!O126 = \"I\",2,IF('Data Entry'!O126 = \"S\",1,\"\"))))","v":""},{"$f":"IF('Data Entry'!Q126 = \"D\",4,IF('Data Entry'!Q126 = \"C\",3,IF('Data Entry'!Q126 = \"I\",2,IF('Data Entry'!Q126 = \"S\",1,\"\"))))","v":""},{"$f":"IF('Data Entry'!S126 = \"D\",4,IF('Data Entry'!S126 = \"C\",3,IF('Data Entry'!S126 = \"I\",2,IF('Data Entry'!S126 = \"S\",1,\"\"))))","v":""},{"$f":"IF('Data Entry'!U126 = \"D\",4,IF('Data Entry'!U126 = \"C\",3,IF('Data Entry'!U126 = \"I\",2,IF('Data Entry'!U126 = \"S\",1,\"\"))))","v":""},{"$f":"IF('Data Entry'!W126 = \"D\",4,IF('Data Entry'!W126 = \"C\",3,IF('Data Entry'!W126 = \"I\",2,IF('Data Entry'!W126 = \"S\",1,\"\"))))","v":""},{"$f":"IF('Data Entry'!E171 = \"D\",4,IF('Data Entry'!E171 = \"C\",3,IF('Data Entry'!E171 = \"I\",2,IF('Data Entry'!E171 = \"S\",1,\"\"))))","v":""},{"$f":"IF('Data Entry'!G171 = \"D\",4,IF('Data Entry'!G171 = \"C\",3,IF('Data Entry'!G171 = \"I\",2,IF('Data Entry'!G171 = \"S\",1,\"\"))))","v":""},{"$f":"IF('Data Entry'!I171 = \"D\",4,IF('Data Entry'!I171 = \"C\",3,IF('Data Entry'!I171 = \"I\",2,IF('Data Entry'!I171 = \"S\",1,\"\"))))","v":""},{"$f":"IF('Data Entry'!K171 = \"D\",4,IF('Data Entry'!K171 = \"C\",3,IF('Data Entry'!K171 = \"I\",2,IF('Data Entry'!K171 = \"S\",1,\"\"))))","v":""},{"$f":"IF('Data Entry'!M171 = \"D\",4,IF('Data Entry'!M171 = \"C\",3,IF('Data Entry'!M171 = \"I\",2,IF('Data Entry'!M171 = \"S\",1,\"\"))))","v":""},{"$f":"IF('Data Entry'!O171 = \"D\",4,IF('Data Entry'!O171 = \"C\",3,IF('Data Entry'!O171 = \"I\",2,IF('Data Entry'!O171 = \"S\",1,\"\"))))","v":""},{"$f":"IF('Data Entry'!Q171 = \"D\",4,IF('Data Entry'!Q171 = \"C\",3,IF('Data Entry'!Q171 = \"I\",2,IF('Data Entry'!Q171 = \"S\",1,\"\"))))","v":""},{"$f":"IF('Data Entry'!S171 = \"D\",4,IF('Data Entry'!S171 = \"C\",3,IF('Data Entry'!S171 = \"I\",2,IF('Data Entry'!S171 = \"S\",1,\"\"))))","v":""},{"$f":"IF('Data Entry'!U171 = \"D\",4,IF('Data Entry'!U171 = \"C\",3,IF('Data Entry'!U171 = \"I\",2,IF('Data Entry'!U171 = \"S\",1,\"\"))))","v":""},{"$f":"IF('Data Entry'!W171 = \"D\",4,IF('Data Entry'!W171 = \"C\",3,IF('Data Entry'!W171 = \"I\",2,IF('Data Entry'!W171 = \"S\",1,\"\"))))","v":""},{"$f":"IF('Data Entry'!E216 = \"D\",4,IF('Data Entry'!E216 = \"C\",3,IF('Data Entry'!E216 = \"I\",2,IF('Data Entry'!E216 = \"S\",1,\"\"))))","v":""},{"$f":"IF('Data Entry'!G216 = \"D\",4,IF('Data Entry'!G216 = \"C\",3,IF('Data Entry'!G216 = \"I\",2,IF('Data Entry'!G216 = \"S\",1,\"\"))))","v":""},{"$f":"IF('Data Entry'!I216 = \"D\",4,IF('Data Entry'!I216 = \"C\",3,IF('Data Entry'!I216 = \"I\",2,IF('Data Entry'!I216 = \"S\",1,\"\"))))","v":""},{"$f":"IF('Data Entry'!K216 = \"D\",4,IF('Data Entry'!K216 = \"C\",3,IF('Data Entry'!K216 = \"I\",2,IF('Data Entry'!K216 = \"S\",1,\"\"))))","v":""},{"$f":"IF('Data Entry'!M216 = \"D\",4,IF('Data Entry'!M216 = \"C\",3,IF('Data Entry'!M216 = \"I\",2,IF('Data Entry'!M216 = \"S\",1,\"\"))))","v":""},{"$f":"IF('Data Entry'!O216 = \"D\",4,IF('Data Entry'!O216 = \"C\",3,IF('Data Entry'!O216 = \"I\",2,IF('Data Entry'!O216 = \"S\",1,\"\"))))","v":""},{"$f":"IF('Data Entry'!Q216 = \"D\",4,IF('Data Entry'!Q216 = \"C\",3,IF('Data Entry'!Q216 = \"I\",2,IF('Data Entry'!Q216 = \"S\",1,\"\"))))","v":""},{"$f":"IF('Data Entry'!S216 = \"D\",4,IF('Data Entry'!S216 = \"C\",3,IF('Data Entry'!S216 = \"I\",2,IF('Data Entry'!S216 = \"S\",1,\"\"))))","v":""},{"$f":"IF('Data Entry'!U216 = \"D\",4,IF('Data Entry'!U216 = \"C\",3,IF('Data Entry'!U216 = \"I\",2,IF('Data Entry'!U216 = \"S\",1,\"\"))))","v":""},{"$f":"IF('Data Entry'!W216 = \"D\",4,IF('Data Entry'!W216 = \"C\",3,IF('Data Entry'!W216 = \"I\",2,IF('Data Entry'!W216 = \"S\",1,\"\"))))","v":""}]
[{"$nulls":3},{"$f":"IF('Data Entry'!C37<>\"\",'Data Entry'!C37,\"\")","v":""},{"$f":"IF(D41<>\"\",AVERAGE(N41:BK41),\"\")","v":""},"","","","","","",null,"",{"$f":"IF('Data Entry'!E37 = \"D\",4,IF('Data Entry'!E37 = \"C\",3,IF('Data Entry'!E37 = \"I\",2,IF('Data Entry'!E37 = \"S\",1,\"\"))))","v":""},{"$f":"IF('Data Entry'!G37 = \"D\",4,IF('Data Entry'!G37 = \"C\",3,IF('Data Entry'!G37 = \"I\",2,IF('Data Entry'!G37 = \"S\",1,\"\"))))","v":""},{"$f":"IF('Data Entry'!I37 = \"D\",4,IF('Data Entry'!I37 = \"C\",3,IF('Data Entry'!I37 = \"I\",2,IF('Data Entry'!I37 = \"S\",1,\"\"))))","v":""},{"$f":"IF('Data Entry'!K37 = \"D\",4,IF('Data Entry'!K37 = \"C\",3,IF('Data Entry'!K37 = \"I\",2,IF('Data Entry'!K37 = \"S\",1,\"\"))))","v":""},{"$f":"IF('Data Entry'!M37 = \"D\",4,IF('Data Entry'!M37 = \"C\",3,IF('Data Entry'!M37 = \"I\",2,IF('Data Entry'!M37 = \"S\",1,\"\"))))","v":""},{"$f":"IF('Data Entry'!O37 = \"D\",4,IF('Data Entry'!O37 = \"C\",3,IF('Data Entry'!O37 = \"I\",2,IF('Data Entry'!O37 = \"S\",1,\"\"))))","v":""},{"$f":"IF('Data Entry'!Q37 = \"D\",4,IF('Data Entry'!Q37 = \"C\",3,IF('Data Entry'!Q37 = \"I\",2,IF('Data Entry'!Q37 = \"S\",1,\"\"))))","v":""},{"$f":"IF('Data Entry'!S37 = \"D\",4,IF('Data Entry'!S37 = \"C\",3,IF('Data Entry'!S37 = \"I\",2,IF('Data Entry'!S37 = \"S\",1,\"\"))))","v":""},{"$f":"IF('Data Entry'!U37 = \"D\",4,IF('Data Entry'!U37 = \"C\",3,IF('Data Entry'!U37 = \"I\",2,IF('Data Entry'!U37 = \"S\",1,\"\"))))","v":""},{"$f":"IF('Data Entry'!W37 = \"D\",4,IF('Data Entry'!W37 = \"C\",3,IF('Data Entry'!W37 = \"I\",2,IF('Data Entry'!W37 = \"S\",1,\"\"))))","v":""},{"$f":"IF('Data Entry'!E82 = \"D\",4,IF('Data Entry'!E82 = \"C\",3,IF('Data Entry'!E82 = \"I\",2,IF('Data Entry'!E82 = \"S\",1,\"\"))))","v":""},{"$f":"IF('Data Entry'!G82 = \"D\",4,IF('Data Entry'!G82 = \"C\",3,IF('Data Entry'!G82 = \"I\",2,IF('Data Entry'!G82 = \"S\",1,\"\"))))","v":""},{"$f":"IF('Data Entry'!I82 = \"D\",4,IF('Data Entry'!I82 = \"C\",3,IF('Data Entry'!I82 = \"I\",2,IF('Data Entry'!I82 = \"S\",1,\"\"))))","v":""},{"$f":"IF('Data Entry'!K82 = \"D\",4,IF('Data Entry'!K82 = \"C\",3,IF('Data Entry'!K82 = \"I\",2,IF('Data Entry'!K82 = \"S\",1,\"\"))))","v":""},{"$f":"IF('Data Entry'!M82 = \"D\",4,IF('Data Entry'!M82 = \"C\",3,IF('Data Entry'!M82 = \"I\",2,IF('Data Entry'!M82 = \"S\",1,\"\"))))","v":""},{"$f":"IF('Data Entry'!O82 = \"D\",4,IF('Data Entry'!O82 = \"C\",3,IF('Data Entry'!O82 = \"I\",2,IF('Data Entry'!O82 = \"S\",1,\"\"))))","v":""},{"$f":"IF('Data Entry'!Q82 = \"D\",4,IF('Data Entry'!Q82 = \"C\",3,IF('Data Entry'!Q82 = \"I\",2,IF('Data Entry'!Q82 = \"S\",1,\"\"))))","v":""},{"$f":"IF('Data Entry'!S82 = \"D\",4,IF('Data Entry'!S82 = \"C\",3,IF('Data Entry'!S82 = \"I\",2,IF('Data Entry'!S82 = \"S\",1,\"\"))))","v":""},{"$f":"IF('Data Entry'!U82 = \"D\",4,IF('Data Entry'!U82 = \"C\",3,IF('Data Entry'!U82 = \"I\",2,IF('Data Entry'!U82 = \"S\",1,\"\"))))","v":""},{"$f":"IF('Data Entry'!W82 = \"D\",4,IF('Data Entry'!W82 = \"C\",3,IF('Data Entry'!W82 = \"I\",2,IF('Data Entry'!W82 = \"S\",1,\"\"))))","v":""},{"$f":"IF('Data Entry'!E127 = \"D\",4,IF('Data Entry'!E127 = \"C\",3,IF('Data Entry'!E127 = \"I\",2,IF('Data Entry'!E127 = \"S\",1,\"\"))))","v":""},{"$f":"IF('Data Entry'!G127 = \"D\",4,IF('Data Entry'!G127 = \"C\",3,IF('Data Entry'!G127 = \"I\",2,IF('Data Entry'!G127 = \"S\",1,\"\"))))","v":""},{"$f":"IF('Data Entry'!I127 = \"D\",4,IF('Data Entry'!I127 = \"C\",3,IF('Data Entry'!I127 = \"I\",2,IF('Data Entry'!I127 = \"S\",1,\"\"))))","v":""},{"$f":"IF('Data Entry'!K127 = \"D\",4,IF('Data Entry'!K127 = \"C\",3,IF('Data Entry'!K127 = \"I\",2,IF('Data Entry'!K127 = \"S\",1,\"\"))))","v":""},{"$f":"IF('Data Entry'!M127 = \"D\",4,IF('Data Entry'!M127 = \"C\",3,IF('Data Entry'!M127 = \"I\",2,IF('Data Entry'!M127 = \"S\",1,\"\"))))","v":""},{"$f":"IF('Data Entry'!O127 = \"D\",4,IF('Data Entry'!O127 = \"C\",3,IF('Data Entry'!O127 = \"I\",2,IF('Data Entry'!O127 = \"S\",1,\"\"))))","v":""},{"$f":"IF('Data Entry'!Q127 = \"D\",4,IF('Data Entry'!Q127 = \"C\",3,IF('Data Entry'!Q127 = \"I\",2,IF('Data Entry'!Q127 = \"S\",1,\"\"))))","v":""},{"$f":"IF('Data Entry'!S127 = \"D\",4,IF('Data Entry'!S127 = \"C\",3,IF('Data Entry'!S127 = \"I\",2,IF('Data Entry'!S127 = \"S\",1,\"\"))))","v":""},{"$f":"IF('Data Entry'!U127 = \"D\",4,IF('Data Entry'!U127 = \"C\",3,IF('Data Entry'!U127 = \"I\",2,IF('Data Entry'!U127 = \"S\",1,\"\"))))","v":""},{"$f":"IF('Data Entry'!W127 = \"D\",4,IF('Data Entry'!W127 = \"C\",3,IF('Data Entry'!W127 = \"I\",2,IF('Data Entry'!W127 = \"S\",1,\"\"))))","v":""},{"$f":"IF('Data Entry'!E172 = \"D\",4,IF('Data Entry'!E172 = \"C\",3,IF('Data Entry'!E172 = \"I\",2,IF('Data Entry'!E172 = \"S\",1,\"\"))))","v":""},{"$f":"IF('Data Entry'!G172 = \"D\",4,IF('Data Entry'!G172 = \"C\",3,IF('Data Entry'!G172 = \"I\",2,IF('Data Entry'!G172 = \"S\",1,\"\"))))","v":""},{"$f":"IF('Data Entry'!I172 = \"D\",4,IF('Data Entry'!I172 = \"C\",3,IF('Data Entry'!I172 = \"I\",2,IF('Data Entry'!I172 = \"S\",1,\"\"))))","v":""},{"$f":"IF('Data Entry'!K172 = \"D\",4,IF('Data Entry'!K172 = \"C\",3,IF('Data Entry'!K172 = \"I\",2,IF('Data Entry'!K172 = \"S\",1,\"\"))))","v":""},{"$f":"IF('Data Entry'!M172 = \"D\",4,IF('Data Entry'!M172 = \"C\",3,IF('Data Entry'!M172 = \"I\",2,IF('Data Entry'!M172 = \"S\",1,\"\"))))","v":""},{"$f":"IF('Data Entry'!O172 = \"D\",4,IF('Data Entry'!O172 = \"C\",3,IF('Data Entry'!O172 = \"I\",2,IF('Data Entry'!O172 = \"S\",1,\"\"))))","v":""},{"$f":"IF('Data Entry'!Q172 = \"D\",4,IF('Data Entry'!Q172 = \"C\",3,IF('Data Entry'!Q172 = \"I\",2,IF('Data Entry'!Q172 = \"S\",1,\"\"))))","v":""},{"$f":"IF('Data Entry'!S172 = \"D\",4,IF('Data Entry'!S172 = \"C\",3,IF('Data Entry'!S172 = \"I\",2,IF('Data Entry'!S172 = \"S\",1,\"\"))))","v":""},{"$f":"IF('Data Entry'!U172 = \"D\",4,IF('Data Entry'!U172 = \"C\",3,IF('Data Entry'!U172 = \"I\",2,IF('Data Entry'!U172 = \"S\",1,\"\"))))","v":""},{"$f":"IF('Data Entry'!W172 = \"D\",4,IF('Data Entry'!W172 = \"C\",3,IF('Data Entry'!W172 = \"I\",2,IF('Data Entry'!W172 = \"S\",1,\"\"))))","v":""},{"$f":"IF('Data Entry'!E217 = \"D\",4,IF('Data Entry'!E217 = \"C\",3,IF('Data Entry'!E217 = \"I\",2,IF('Data Entry'!E217 = \"S\",1,\"\"))))","v":""},{"$f":"IF('Data Entry'!G217 = \"D\",4,IF('Data Entry'!G217 = \"C\",3,IF('Data Entry'!G217 = \"I\",2,IF('Data Entry'!G217 = \"S\",1,\"\"))))","v":""},{"$f":"IF('Data Entry'!I217 = \"D\",4,IF('Data Entry'!I217 = \"C\",3,IF('Data Entry'!I217 = \"I\",2,IF('Data Entry'!I217 = \"S\",1,\"\"))))","v":""},{"$f":"IF('Data Entry'!K217 = \"D\",4,IF('Data Entry'!K217 = \"C\",3,IF('Data Entry'!K217 = \"I\",2,IF('Data Entry'!K217 = \"S\",1,\"\"))))","v":""},{"$f":"IF('Data Entry'!M217 = \"D\",4,IF('Data Entry'!M217 = \"C\",3,IF('Data Entry'!M217 = \"I\",2,IF('Data Entry'!M217 = \"S\",1,\"\"))))","v":""},{"$f":"IF('Data Entry'!O217 = \"D\",4,IF('Data Entry'!O217 = \"C\",3,IF('Data Entry'!O217 = \"I\",2,IF('Data Entry'!O217 = \"S\",1,\"\"))))","v":""},{"$f":"IF('Data Entry'!Q217 = \"D\",4,IF('Data Entry'!Q217 = \"C\",3,IF('Data Entry'!Q217 = \"I\",2,IF('Data Entry'!Q217 = \"S\",1,\"\"))))","v":""},{"$f":"IF('Data Entry'!S217 = \"D\",4,IF('Data Entry'!S217 = \"C\",3,IF('Data Entry'!S217 = \"I\",2,IF('Data Entry'!S217 = \"S\",1,\"\"))))","v":""},{"$f":"IF('Data Entry'!U217 = \"D\",4,IF('Data Entry'!U217 = \"C\",3,IF('Data Entry'!U217 = \"I\",2,IF('Data Entry'!U217 = \"S\",1,\"\"))))","v":""},{"$f":"IF('Data Entry'!W217 = \"D\",4,IF('Data Entry'!W217 = \"C\",3,IF('Data Entry'!W217 = \"I\",2,IF('Data Entry'!W217 = \"S\",1,\"\"))))","v":""}]
[{"$nulls":3},{"$f":"IF('Data Entry'!C38<>\"\",'Data Entry'!C38,\"\")","v":""},{"$f":"IF(D42<>\"\",AVERAGE(N42:BK42),\"\")","v":""},"","","","","","",null,"",{"$f":"IF('Data Entry'!E38 = \"D\",4,IF('Data Entry'!E38 = \"C\",3,IF('Data Entry'!E38 = \"I\",2,IF('Data Entry'!E38 = \"S\",1,\"\"))))","v":""},{"$f":"IF('Data Entry'!G38 = \"D\",4,IF('Data Entry'!G38 = \"C\",3,IF('Data Entry'!G38 = \"I\",2,IF('Data Entry'!G38 = \"S\",1,\"\"))))","v":""},{"$f":"IF('Data Entry'!I38 = \"D\",4,IF('Data Entry'!I38 = \"C\",3,IF('Data Entry'!I38 = \"I\",2,IF('Data Entry'!I38 = \"S\",1,\"\"))))","v":""},{"$f":"IF('Data Entry'!K38 = \"D\",4,IF('Data Entry'!K38 = \"C\",3,IF('Data Entry'!K38 = \"I\",2,IF('Data Entry'!K38 = \"S\",1,\"\"))))","v":""},{"$f":"IF('Data Entry'!M38 = \"D\",4,IF('Data Entry'!M38 = \"C\",3,IF('Data Entry'!M38 = \"I\",2,IF('Data Entry'!M38 = \"S\",1,\"\"))))","v":""},{"$f":"IF('Data Entry'!O38 = \"D\",4,IF('Data Entry'!O38 = \"C\",3,IF('Data Entry'!O38 = \"I\",2,IF('Data Entry'!O38 = \"S\",1,\"\"))))","v":""},{"$f":"IF('Data Entry'!Q38 = \"D\",4,IF('Data Entry'!Q38 = \"C\",3,IF('Data Entry'!Q38 = \"I\",2,IF('Data Entry'!Q38 = \"S\",1,\"\"))))","v":""},{"$f":"IF('Data Entry'!S38 = \"D\",4,IF('Data Entry'!S38 = \"C\",3,IF('Data Entry'!S38 = \"I\",2,IF('Data Entry'!S38 = \"S\",1,\"\"))))","v":""},{"$f":"IF('Data Entry'!U38 = \"D\",4,IF('Data Entry'!U38 = \"C\",3,IF('Data Entry'!U38 = \"I\",2,IF('Data Entry'!U38 = \"S\",1,\"\"))))","v":""},{"$f":"IF('Data Entry'!W38 = \"D\",4,IF('Data Entry'!W38 = \"C\",3,IF('Data Entry'!W38 = \"I\",2,IF('Data Entry'!W38 = \"S\",1,\"\"))))","v":""},{"$f":"IF('Data Entry'!E83 = \"D\",4,IF('Data Entry'!E83 = \"C\",3,IF('Data Entry'!E83 = \"I\",2,IF('Data Entry'!E83 = \"S\",1,\"\"))))","v":""},{"$f":"IF('Data Entry'!G83 = \"D\",4,IF('Data Entry'!G83 = \"C\",3,IF('Data Entry'!G83 = \"I\",2,IF('Data Entry'!G83 = \"S\",1,\"\"))))","v":""},{"$f":"IF('Data Entry'!I83 = \"D\",4,IF('Data Entry'!I83 = \"C\",3,IF('Data Entry'!I83 = \"I\",2,IF('Data Entry'!I83 = \"S\",1,\"\"))))","v":""},{"$f":"IF('Data Entry'!K83 = \"D\",4,IF('Data Entry'!K83 = \"C\",3,IF('Data Entry'!K83 = \"I\",2,IF('Data Entry'!K83 = \"S\",1,\"\"))))","v":""},{"$f":"IF('Data Entry'!M83 = \"D\",4,IF('Data Entry'!M83 = \"C\",3,IF('Data Entry'!M83 = \"I\",2,IF('Data Entry'!M83 = \"S\",1,\"\"))))","v":""},{"$f":"IF('Data Entry'!O83 = \"D\",4,IF('Data Entry'!O83 = \"C\",3,IF('Data Entry'!O83 = \"I\",2,IF('Data Entry'!O83 = \"S\",1,\"\"))))","v":""},{"$f":"IF('Data Entry'!Q83 = \"D\",4,IF('Data Entry'!Q83 = \"C\",3,IF('Data Entry'!Q83 = \"I\",2,IF('Data Entry'!Q83 = \"S\",1,\"\"))))","v":""},{"$f":"IF('Data Entry'!S83 = \"D\",4,IF('Data Entry'!S83 = \"C\",3,IF('Data Entry'!S83 = \"I\",2,IF('Data Entry'!S83 = \"S\",1,\"\"))))","v":""},{"$f":"IF('Data Entry'!U83 = \"D\",4,IF('Data Entry'!U83 = \"C\",3,IF('Data Entry'!U83 = \"I\",2,IF('Data Entry'!U83 = \"S\",1,\"\"))))","v":""},{"$f":"IF('Data Entry'!W83 = \"D\",4,IF('Data Entry'!W83 = \"C\",3,IF('Data Entry'!W83 = \"I\",2,IF('Data Entry'!W83 = \"S\",1,\"\"))))","v":""},{"$f":"IF('Data Entry'!E128 = \"D\",4,IF('Data Entry'!E128 = \"C\",3,IF('Data Entry'!E128 = \"I\",2,IF('Data Entry'!E128 = \"S\",1,\"\"))))","v":""},{"$f":"IF('Data Entry'!G128 = \"D\",4,IF('Data Entry'!G128 = \"C\",3,IF('Data Entry'!G128 = \"I\",2,IF('Data Entry'!G128 = \"S\",1,\"\"))))","v":""},{"$f":"IF('Data Entry'!I128 = \"D\",4,IF('Data Entry'!I128 = \"C\",3,IF('Data Entry'!I128 = \"I\",2,IF('Data Entry'!I128 = \"S\",1,\"\"))))","v":""},{"$f":"IF('Data Entry'!K128 = \"D\",4,IF('Data Entry'!K128 = \"C\",3,IF('Data Entry'!K128 = \"I\",2,IF('Data Entry'!K128 = \"S\",1,\"\"))))","v":""},{"$f":"IF('Data Entry'!M128 = \"D\",4,IF('Data Entry'!M128 = \"C\",3,IF('Data Entry'!M128 = \"I\",2,IF('Data Entry'!M128 = \"S\",1,\"\"))))","v":""},{"$f":"IF('Data Entry'!O128 = \"D\",4,IF('Data Entry'!O128 = \"C\",3,IF('Data Entry'!O128 = \"I\",2,IF('Data Entry'!O128 = \"S\",1,\"\"))))","v":""},{"$f":"IF('Data Entry'!Q128 = \"D\",4,IF('Data Entry'!Q128 = \"C\",3,IF('Data Entry'!Q128 = \"I\",2,IF('Data Entry'!Q128 = \"S\",1,\"\"))))","v":""},{"$f":"IF('Data Entry'!S128 = \"D\",4,IF('Data Entry'!S128 = \"C\",3,IF('Data Entry'!S128 = \"I\",2,IF('Data Entry'!S128 = \"S\",1,\"\"))))","v":""},{"$f":"IF('Data Entry'!U128 = \"D\",4,IF('Data Entry'!U128 = \"C\",3,IF('Data Entry'!U128 = \"I\",2,IF('Data Entry'!U128 = \"S\",1,\"\"))))","v":""},{"$f":"IF('Data Entry'!W128 = \"D\",4,IF('Data Entry'!W128 = \"C\",3,IF('Data Entry'!W128 = \"I\",2,IF('Data Entry'!W128 = \"S\",1,\"\"))))","v":""},{"$f":"IF('Data Entry'!E173 = \"D\",4,IF('Data Entry'!E173 = \"C\",3,IF('Data Entry'!E173 = \"I\",2,IF('Data Entry'!E173 = \"S\",1,\"\"))))","v":""},{"$f":"IF('Data Entry'!G173 = \"D\",4,IF('Data Entry'!G173 = \"C\",3,IF('Data Entry'!G173 = \"I\",2,IF('Data Entry'!G173 = \"S\",1,\"\"))))","v":""},{"$f":"IF('Data Entry'!I173 = \"D\",4,IF('Data Entry'!I173 = \"C\",3,IF('Data Entry'!I173 = \"I\",2,IF('Data Entry'!I173 = \"S\",1,\"\"))))","v":""},{"$f":"IF('Data Entry'!K173 = \"D\",4,IF('Data Entry'!K173 = \"C\",3,IF('Data Entry'!K173 = \"I\",2,IF('Data Entry'!K173 = \"S\",1,\"\"))))","v":""},{"$f":"IF('Data Entry'!M173 = \"D\",4,IF('Data Entry'!M173 = \"C\",3,IF('Data Entry'!M173 = \"I\",2,IF('Data Entry'!M173 = \"S\",1,\"\"))))","v":""},{"$f":"IF('Data Entry'!O173 = \"D\",4,IF('Data Entry'!O173 = \"C\",3,IF('Data Entry'!O173 = \"I\",2,IF('Data Entry'!O173 = \"S\",1,\"\"))))","v":""},{"$f":"IF('Data Entry'!Q173 = \"D\",4,IF('Data Entry'!Q173 = \"C\",3,IF('Data Entry'!Q173 = \"I\",2,IF('Data Entry'!Q173 = \"S\",1,\"\"))))","v":""},{"$f":"IF('Data Entry'!S173 = \"D\",4,IF('Data Entry'!S173 = \"C\",3,IF('Data Entry'!S173 = \"I\",2,IF('Data Entry'!S173 = \"S\",1,\"\"))))","v":""},{"$f":"IF('Data Entry'!U173 = \"D\",4,IF('Data Entry'!U173 = \"C\",3,IF('Data Entry'!U173 = \"I\",2,IF('Data Entry'!U173 = \"S\",1,\"\"))))","v":""},{"$f":"IF('Data Entry'!W173 = \"D\",4,IF('Data Entry'!W173 = \"C\",3,IF('Data Entry'!W173 = \"I\",2,IF('Data Entry'!W173 = \"S\",1,\"\"))))","v":""},{"$f":"IF('Data Entry'!E218 = \"D\",4,IF('Data Entry'!E218 = \"C\",3,IF('Data Entry'!E218 = \"I\",2,IF('Data Entry'!E218 = \"S\",1,\"\"))))","v":""},{"$f":"IF('Data Entry'!G218 = \"D\",4,IF('Data Entry'!G218 = \"C\",3,IF('Data Entry'!G218 = \"I\",2,IF('Data Entry'!G218 = \"S\",1,\"\"))))","v":""},{"$f":"IF('Data Entry'!I218 = \"D\",4,IF('Data Entry'!I218 = \"C\",3,IF('Data Entry'!I218 = \"I\",2,IF('Data Entry'!I218 = \"S\",1,\"\"))))","v":""},{"$f":"IF('Data Entry'!K218 = \"D\",4,IF('Data Entry'!K218 = \"C\",3,IF('Data Entry'!K218 = \"I\",2,IF('Data Entry'!K218 = \"S\",1,\"\"))))","v":""},{"$f":"IF('Data Entry'!M218 = \"D\",4,IF('Data Entry'!M218 = \"C\",3,IF('Data Entry'!M218 = \"I\",2,IF('Data Entry'!M218 = \"S\",1,\"\"))))","v":""},{"$f":"IF('Data Entry'!O218 = \"D\",4,IF('Data Entry'!O218 = \"C\",3,IF('Data Entry'!O218 = \"I\",2,IF('Data Entry'!O218 = \"S\",1,\"\"))))","v":""},{"$f":"IF('Data Entry'!Q218 = \"D\",4,IF('Data Entry'!Q218 = \"C\",3,IF('Data Entry'!Q218 = \"I\",2,IF('Data Entry'!Q218 = \"S\",1,\"\"))))","v":""},{"$f":"IF('Data Entry'!S218 = \"D\",4,IF('Data Entry'!S218 = \"C\",3,IF('Data Entry'!S218 = \"I\",2,IF('Data Entry'!S218 = \"S\",1,\"\"))))","v":""},{"$f":"IF('Data Entry'!U218 = \"D\",4,IF('Data Entry'!U218 = \"C\",3,IF('Data Entry'!U218 = \"I\",2,IF('Data Entry'!U218 = \"S\",1,\"\"))))","v":""},{"$f":"IF('Data Entry'!W218 = \"D\",4,IF('Data Entry'!W218 = \"C\",3,IF('Data Entry'!W218 = \"I\",2,IF('Data Entry'!W218 = \"S\",1,\"\"))))","v":""}]
[{"$nulls":3},{"$f":"IF('Data Entry'!C39<>\"\",'Data Entry'!C39,\"\")","v":""},{"$f":"IF(D43<>\"\",AVERAGE(N43:BK43),\"\")","v":""},"","","","","","",null,"",{"$f":"IF('Data Entry'!E39 = \"D\",4,IF('Data Entry'!E39 = \"C\",3,IF('Data Entry'!E39 = \"I\",2,IF('Data Entry'!E39 = \"S\",1,\"\"))))","v":""},{"$f":"IF('Data Entry'!G39 = \"D\",4,IF('Data Entry'!G39 = \"C\",3,IF('Data Entry'!G39 = \"I\",2,IF('Data Entry'!G39 = \"S\",1,\"\"))))","v":""},{"$f":"IF('Data Entry'!I39 = \"D\",4,IF('Data Entry'!I39 = \"C\",3,IF('Data Entry'!I39 = \"I\",2,IF('Data Entry'!I39 = \"S\",1,\"\"))))","v":""},{"$f":"IF('Data Entry'!K39 = \"D\",4,IF('Data Entry'!K39 = \"C\",3,IF('Data Entry'!K39 = \"I\",2,IF('Data Entry'!K39 = \"S\",1,\"\"))))","v":""},{"$f":"IF('Data Entry'!M39 = \"D\",4,IF('Data Entry'!M39 = \"C\",3,IF('Data Entry'!M39 = \"I\",2,IF('Data Entry'!M39 = \"S\",1,\"\"))))","v":""},{"$f":"IF('Data Entry'!O39 = \"D\",4,IF('Data Entry'!O39 = \"C\",3,IF('Data Entry'!O39 = \"I\",2,IF('Data Entry'!O39 = \"S\",1,\"\"))))","v":""},{"$f":"IF('Data Entry'!Q39 = \"D\",4,IF('Data Entry'!Q39 = \"C\",3,IF('Data Entry'!Q39 = \"I\",2,IF('Data Entry'!Q39 = \"S\",1,\"\"))))","v":""},{"$f":"IF('Data Entry'!S39 = \"D\",4,IF('Data Entry'!S39 = \"C\",3,IF('Data Entry'!S39 = \"I\",2,IF('Data Entry'!S39 = \"S\",1,\"\"))))","v":""},{"$f":"IF('Data Entry'!U39 = \"D\",4,IF('Data Entry'!U39 = \"C\",3,IF('Data Entry'!U39 = \"I\",2,IF('Data Entry'!U39 = \"S\",1,\"\"))))","v":""},{"$f":"IF('Data Entry'!W39 = \"D\",4,IF('Data Entry'!W39 = \"C\",3,IF('Data Entry'!W39 = \"I\",2,IF('Data Entry'!W39 = \"S\",1,\"\"))))","v":""},{"$f":"IF('Data Entry'!E84 = \"D\",4,IF('Data Entry'!E84 = \"C\",3,IF('Data Entry'!E84 = \"I\",2,IF('Data Entry'!E84 = \"S\",1,\"\"))))","v":""},{"$f":"IF('Data Entry'!G84 = \"D\",4,IF('Data Entry'!G84 = \"C\",3,IF('Data Entry'!G84 = \"I\",2,IF('Data Entry'!G84 = \"S\",1,\"\"))))","v":""},{"$f":"IF('Data Entry'!I84 = \"D\",4,IF('Data Entry'!I84 = \"C\",3,IF('Data Entry'!I84 = \"I\",2,IF('Data Entry'!I84 = \"S\",1,\"\"))))","v":""},{"$f":"IF('Data Entry'!K84 = \"D\",4,IF('Data Entry'!K84 = \"C\",3,IF('Data Entry'!K84 = \"I\",2,IF('Data Entry'!K84 = \"S\",1,\"\"))))","v":""},{"$f":"IF('Data Entry'!M84 = \"D\",4,IF('Data Entry'!M84 = \"C\",3,IF('Data Entry'!M84 = \"I\",2,IF('Data Entry'!M84 = \"S\",1,\"\"))))","v":""},{"$f":"IF('Data Entry'!O84 = \"D\",4,IF('Data Entry'!O84 = \"C\",3,IF('Data Entry'!O84 = \"I\",2,IF('Data Entry'!O84 = \"S\",1,\"\"))))","v":""},{"$f":"IF('Data Entry'!Q84 = \"D\",4,IF('Data Entry'!Q84 = \"C\",3,IF('Data Entry'!Q84 = \"I\",2,IF('Data Entry'!Q84 = \"S\",1,\"\"))))","v":""},{"$f":"IF('Data Entry'!S84 = \"D\",4,IF('Data Entry'!S84 = \"C\",3,IF('Data Entry'!S84 = \"I\",2,IF('Data Entry'!S84 = \"S\",1,\"\"))))","v":""},{"$f":"IF('Data Entry'!U84 = \"D\",4,IF('Data Entry'!U84 = \"C\",3,IF('Data Entry'!U84 = \"I\",2,IF('Data Entry'!U84 = \"S\",1,\"\"))))","v":""},{"$f":"IF('Data Entry'!W84 = \"D\",4,IF('Data Entry'!W84 = \"C\",3,IF('Data Entry'!W84 = \"I\",2,IF('Data Entry'!W84 = \"S\",1,\"\"))))","v":""},{"$f":"IF('Data Entry'!E129 = \"D\",4,IF('Data Entry'!E129 = \"C\",3,IF('Data Entry'!E129 = \"I\",2,IF('Data Entry'!E129 = \"S\",1,\"\"))))","v":""},{"$f":"IF('Data Entry'!G129 = \"D\",4,IF('Data Entry'!G129 = \"C\",3,IF('Data Entry'!G129 = \"I\",2,IF('Data Entry'!G129 = \"S\",1,\"\"))))","v":""},{"$f":"IF('Data Entry'!I129 = \"D\",4,IF('Data Entry'!I129 = \"C\",3,IF('Data Entry'!I129 = \"I\",2,IF('Data Entry'!I129 = \"S\",1,\"\"))))","v":""},{"$f":"IF('Data Entry'!K129 = \"D\",4,IF('Data Entry'!K129 = \"C\",3,IF('Data Entry'!K129 = \"I\",2,IF('Data Entry'!K129 = \"S\",1,\"\"))))","v":""},{"$f":"IF('Data Entry'!M129 = \"D\",4,IF('Data Entry'!M129 = \"C\",3,IF('Data Entry'!M129 = \"I\",2,IF('Data Entry'!M129 = \"S\",1,\"\"))))","v":""},{"$f":"IF('Data Entry'!O129 = \"D\",4,IF('Data Entry'!O129 = \"C\",3,IF('Data Entry'!O129 = \"I\",2,IF('Data Entry'!O129 = \"S\",1,\"\"))))","v":""},{"$f":"IF('Data Entry'!Q129 = \"D\",4,IF('Data Entry'!Q129 = \"C\",3,IF('Data Entry'!Q129 = \"I\",2,IF('Data Entry'!Q129 = \"S\",1,\"\"))))","v":""},{"$f":"IF('Data Entry'!S129 = \"D\",4,IF('Data Entry'!S129 = \"C\",3,IF('Data Entry'!S129 = \"I\",2,IF('Data Entry'!S129 = \"S\",1,\"\"))))","v":""},{"$f":"IF('Data Entry'!U129 = \"D\",4,IF('Data Entry'!U129 = \"C\",3,IF('Data Entry'!U129 = \"I\",2,IF('Data Entry'!U129 = \"S\",1,\"\"))))","v":""},{"$f":"IF('Data Entry'!W129 = \"D\",4,IF('Data Entry'!W129 = \"C\",3,IF('Data Entry'!W129 = \"I\",2,IF('Data Entry'!W129 = \"S\",1,\"\"))))","v":""},{"$f":"IF('Data Entry'!E174 = \"D\",4,IF('Data Entry'!E174 = \"C\",3,IF('Data Entry'!E174 = \"I\",2,IF('Data Entry'!E174 = \"S\",1,\"\"))))","v":""},{"$f":"IF('Data Entry'!G174 = \"D\",4,IF('Data Entry'!G174 = \"C\",3,IF('Data Entry'!G174 = \"I\",2,IF('Data Entry'!G174 = \"S\",1,\"\"))))","v":""},{"$f":"IF('Data Entry'!I174 = \"D\",4,IF('Data Entry'!I174 = \"C\",3,IF('Data Entry'!I174 = \"I\",2,IF('Data Entry'!I174 = \"S\",1,\"\"))))","v":""},{"$f":"IF('Data Entry'!K174 = \"D\",4,IF('Data Entry'!K174 = \"C\",3,IF('Data Entry'!K174 = \"I\",2,IF('Data Entry'!K174 = \"S\",1,\"\"))))","v":""},{"$f":"IF('Data Entry'!M174 = \"D\",4,IF('Data Entry'!M174 = \"C\",3,IF('Data Entry'!M174 = \"I\",2,IF('Data Entry'!M174 = \"S\",1,\"\"))))","v":""},{"$f":"IF('Data Entry'!O174 = \"D\",4,IF('Data Entry'!O174 = \"C\",3,IF('Data Entry'!O174 = \"I\",2,IF('Data Entry'!O174 = \"S\",1,\"\"))))","v":""},{"$f":"IF('Data Entry'!Q174 = \"D\",4,IF('Data Entry'!Q174 = \"C\",3,IF('Data Entry'!Q174 = \"I\",2,IF('Data Entry'!Q174 = \"S\",1,\"\"))))","v":""},{"$f":"IF('Data Entry'!S174 = \"D\",4,IF('Data Entry'!S174 = \"C\",3,IF('Data Entry'!S174 = \"I\",2,IF('Data Entry'!S174 = \"S\",1,\"\"))))","v":""},{"$f":"IF('Data Entry'!U174 = \"D\",4,IF('Data Entry'!U174 = \"C\",3,IF('Data Entry'!U174 = \"I\",2,IF('Data Entry'!U174 = \"S\",1,\"\"))))","v":""},{"$f":"IF('Data Entry'!W174 = \"D\",4,IF('Data Entry'!W174 = \"C\",3,IF('Data Entry'!W174 = \"I\",2,IF('Data Entry'!W174 = \"S\",1,\"\"))))","v":""},{"$f":"IF('Data Entry'!E219 = \"D\",4,IF('Data Entry'!E219 = \"C\",3,IF('Data Entry'!E219 = \"I\",2,IF('Data Entry'!E219 = \"S\",1,\"\"))))","v":""},{"$f":"IF('Data Entry'!G219 = \"D\",4,IF('Data Entry'!G219 = \"C\",3,IF('Data Entry'!G219 = \"I\",2,IF('Data Entry'!G219 = \"S\",1,\"\"))))","v":""},{"$f":"IF('Data Entry'!I219 = \"D\",4,IF('Data Entry'!I219 = \"C\",3,IF('Data Entry'!I219 = \"I\",2,IF('Data Entry'!I219 = \"S\",1,\"\"))))","v":""},{"$f":"IF('Data Entry'!K219 = \"D\",4,IF('Data Entry'!K219 = \"C\",3,IF('Data Entry'!K219 = \"I\",2,IF('Data Entry'!K219 = \"S\",1,\"\"))))","v":""},{"$f":"IF('Data Entry'!M219 = \"D\",4,IF('Data Entry'!M219 = \"C\",3,IF('Data Entry'!M219 = \"I\",2,IF('Data Entry'!M219 = \"S\",1,\"\"))))","v":""},{"$f":"IF('Data Entry'!O219 = \"D\",4,IF('Data Entry'!O219 = \"C\",3,IF('Data Entry'!O219 = \"I\",2,IF('Data Entry'!O219 = \"S\",1,\"\"))))","v":""},{"$f":"IF('Data Entry'!Q219 = \"D\",4,IF('Data Entry'!Q219 = \"C\",3,IF('Data Entry'!Q219 = \"I\",2,IF('Data Entry'!Q219 = \"S\",1,\"\"))))","v":""},{"$f":"IF('Data Entry'!S219 = \"D\",4,IF('Data Entry'!S219 = \"C\",3,IF('Data Entry'!S219 = \"I\",2,IF('Data Entry'!S219 = \"S\",1,\"\"))))","v":""},{"$f":"IF('Data Entry'!U219 = \"D\",4,IF('Data Entry'!U219 = \"C\",3,IF('Data Entry'!U219 = \"I\",2,IF('Data Entry'!U219 = \"S\",1,\"\"))))","v":""},{"$f":"IF('Data Entry'!W219 = \"D\",4,IF('Data Entry'!W219 = \"C\",3,IF('Data Entry'!W219 = \"I\",2,IF('Data Entry'!W219 = \"S\",1,\"\"))))","v":""}]
[{"$nulls":3},{"$f":"IF('Data Entry'!C40<>\"\",'Data Entry'!C40,\"\")","v":""},{"$f":"IF(D44<>\"\",AVERAGE(N44:BK44),\"\")","v":""},"",{"$f":"IF(D44<>\"\",MEDIAN(N44:BK44),\"\")","v":""},"",{"$f":"IF(D44<>\"\",MIN(N44:BK44),\"\")","v":""},{"$f":"IF(D44<>\"\",MAX(N44:BK44),\"\")","v":""},"",null,{"$f":"IF(K44<>\"\",K44/E44,\"\")","v":""},{"$f":"IF('Data Entry'!E40 = \"D\",4,IF('Data Entry'!E40 = \"C\",3,IF('Data Entry'!E40 = \"I\",2,IF('Data Entry'!E40 = \"S\",1,\"\"))))","v":""},{"$f":"IF('Data Entry'!G40 = \"D\",4,IF('Data Entry'!G40 = \"C\",3,IF('Data Entry'!G40 = \"I\",2,IF('Data Entry'!G40 = \"S\",1,\"\"))))","v":""},{"$f":"IF('Data Entry'!I40 = \"D\",4,IF('Data Entry'!I40 = \"C\",3,IF('Data Entry'!I40 = \"I\",2,IF('Data Entry'!I40 = \"S\",1,\"\"))))","v":""},{"$f":"IF('Data Entry'!K40 = \"D\",4,IF('Data Entry'!K40 = \"C\",3,IF('Data Entry'!K40 = \"I\",2,IF('Data Entry'!K40 = \"S\",1,\"\"))))","v":""},{"$f":"IF('Data Entry'!M40 = \"D\",4,IF('Data Entry'!M40 = \"C\",3,IF('Data Entry'!M40 = \"I\",2,IF('Data Entry'!M40 = \"S\",1,\"\"))))","v":""},{"$f":"IF('Data Entry'!O40 = \"D\",4,IF('Data Entry'!O40 = \"C\",3,IF('Data Entry'!O40 = \"I\",2,IF('Data Entry'!O40 = \"S\",1,\"\"))))","v":""},{"$f":"IF('Data Entry'!Q40 = \"D\",4,IF('Data Entry'!Q40 = \"C\",3,IF('Data Entry'!Q40 = \"I\",2,IF('Data Entry'!Q40 = \"S\",1,\"\"))))","v":""},{"$f":"IF('Data Entry'!S40 = \"D\",4,IF('Data Entry'!S40 = \"C\",3,IF('Data Entry'!S40 = \"I\",2,IF('Data Entry'!S40 = \"S\",1,\"\"))))","v":""},{"$f":"IF('Data Entry'!U40 = \"D\",4,IF('Data Entry'!U40 = \"C\",3,IF('Data Entry'!U40 = \"I\",2,IF('Data Entry'!U40 = \"S\",1,\"\"))))","v":""},{"$f":"IF('Data Entry'!W40 = \"D\",4,IF('Data Entry'!W40 = \"C\",3,IF('Data Entry'!W40 = \"I\",2,IF('Data Entry'!W40 = \"S\",1,\"\"))))","v":""},{"$f":"IF('Data Entry'!E85 = \"D\",4,IF('Data Entry'!E85 = \"C\",3,IF('Data Entry'!E85 = \"I\",2,IF('Data Entry'!E85 = \"S\",1,\"\"))))","v":""},{"$f":"IF('Data Entry'!G85 = \"D\",4,IF('Data Entry'!G85 = \"C\",3,IF('Data Entry'!G85 = \"I\",2,IF('Data Entry'!G85 = \"S\",1,\"\"))))","v":""},{"$f":"IF('Data Entry'!I85 = \"D\",4,IF('Data Entry'!I85 = \"C\",3,IF('Data Entry'!I85 = \"I\",2,IF('Data Entry'!I85 = \"S\",1,\"\"))))","v":""},{"$f":"IF('Data Entry'!K85 = \"D\",4,IF('Data Entry'!K85 = \"C\",3,IF('Data Entry'!K85 = \"I\",2,IF('Data Entry'!K85 = \"S\",1,\"\"))))","v":""},{"$f":"IF('Data Entry'!M85 = \"D\",4,IF('Data Entry'!M85 = \"C\",3,IF('Data Entry'!M85 = \"I\",2,IF('Data Entry'!M85 = \"S\",1,\"\"))))","v":""},{"$f":"IF('Data Entry'!O85 = \"D\",4,IF('Data Entry'!O85 = \"C\",3,IF('Data Entry'!O85 = \"I\",2,IF('Data Entry'!O85 = \"S\",1,\"\"))))","v":""},{"$f":"IF('Data Entry'!Q85 = \"D\",4,IF('Data Entry'!Q85 = \"C\",3,IF('Data Entry'!Q85 = \"I\",2,IF('Data Entry'!Q85 = \"S\",1,\"\"))))","v":""},{"$f":"IF('Data Entry'!S85 = \"D\",4,IF('Data Entry'!S85 = \"C\",3,IF('Data Entry'!S85 = \"I\",2,IF('Data Entry'!S85 = \"S\",1,\"\"))))","v":""},{"$f":"IF('Data Entry'!U85 = \"D\",4,IF('Data Entry'!U85 = \"C\",3,IF('Data Entry'!U85 = \"I\",2,IF('Data Entry'!U85 = \"S\",1,\"\"))))","v":""},{"$f":"IF('Data Entry'!W85 = \"D\",4,IF('Data Entry'!W85 = \"C\",3,IF('Data Entry'!W85 = \"I\",2,IF('Data Entry'!W85 = \"S\",1,\"\"))))","v":""},{"$f":"IF('Data Entry'!E130 = \"D\",4,IF('Data Entry'!E130 = \"C\",3,IF('Data Entry'!E130 = \"I\",2,IF('Data Entry'!E130 = \"S\",1,\"\"))))","v":""},{"$f":"IF('Data Entry'!G130 = \"D\",4,IF('Data Entry'!G130 = \"C\",3,IF('Data Entry'!G130 = \"I\",2,IF('Data Entry'!G130 = \"S\",1,\"\"))))","v":""},{"$f":"IF('Data Entry'!I130 = \"D\",4,IF('Data Entry'!I130 = \"C\",3,IF('Data Entry'!I130 = \"I\",2,IF('Data Entry'!I130 = \"S\",1,\"\"))))","v":""},{"$f":"IF('Data Entry'!K130 = \"D\",4,IF('Data Entry'!K130 = \"C\",3,IF('Data Entry'!K130 = \"I\",2,IF('Data Entry'!K130 = \"S\",1,\"\"))))","v":""},{"$f":"IF('Data Entry'!M130 = \"D\",4,IF('Data Entry'!M130 = \"C\",3,IF('Data Entry'!M130 = \"I\",2,IF('Data Entry'!M130 = \"S\",1,\"\"))))","v":""},{"$f":"IF('Data Entry'!O130 = \"D\",4,IF('Data Entry'!O130 = \"C\",3,IF('Data Entry'!O130 = \"I\",2,IF('Data Entry'!O130 = \"S\",1,\"\"))))","v":""},{"$f":"IF('Data Entry'!Q130 = \"D\",4,IF('Data Entry'!Q130 = \"C\",3,IF('Data Entry'!Q130 = \"I\",2,IF('Data Entry'!Q130 = \"S\",1,\"\"))))","v":""},{"$f":"IF('Data Entry'!S130 = \"D\",4,IF('Data Entry'!S130 = \"C\",3,IF('Data Entry'!S130 = \"I\",2,IF('Data Entry'!S130 = \"S\",1,\"\"))))","v":""},{"$f":"IF('Data Entry'!U130 = \"D\",4,IF('Data Entry'!U130 = \"C\",3,IF('Data Entry'!U130 = \"I\",2,IF('Data Entry'!U130 = \"S\",1,\"\"))))","v":""},{"$f":"IF('Data Entry'!W130 = \"D\",4,IF('Data Entry'!W130 = \"C\",3,IF('Data Entry'!W130 = \"I\",2,IF('Data Entry'!W130 = \"S\",1,\"\"))))","v":""},{"$f":"IF('Data Entry'!E175 = \"D\",4,IF('Data Entry'!E175 = \"C\",3,IF('Data Entry'!E175 = \"I\",2,IF('Data Entry'!E175 = \"S\",1,\"\"))))","v":""},{"$f":"IF('Data Entry'!G175 = \"D\",4,IF('Data Entry'!G175 = \"C\",3,IF('Data Entry'!G175 = \"I\",2,IF('Data Entry'!G175 = \"S\",1,\"\"))))","v":""},{"$f":"IF('Data Entry'!I175 = \"D\",4,IF('Data Entry'!I175 = \"C\",3,IF('Data Entry'!I175 = \"I\",2,IF('Data Entry'!I175 = \"S\",1,\"\"))))","v":""},{"$f":"IF('Data Entry'!K175 = \"D\",4,IF('Data Entry'!K175 = \"C\",3,IF('Data Entry'!K175 = \"I\",2,IF('Data Entry'!K175 = \"S\",1,\"\"))))","v":""},{"$f":"IF('Data Entry'!M175 = \"D\",4,IF('Data Entry'!M175 = \"C\",3,IF('Data Entry'!M175 = \"I\",2,IF('Data Entry'!M175 = \"S\",1,\"\"))))","v":""},{"$f":"IF('Data Entry'!O175 = \"D\",4,IF('Data Entry'!O175 = \"C\",3,IF('Data Entry'!O175 = \"I\",2,IF('Data Entry'!O175 = \"S\",1,\"\"))))","v":""},{"$f":"IF('Data Entry'!Q175 = \"D\",4,IF('Data Entry'!Q175 = \"C\",3,IF('Data Entry'!Q175 = \"I\",2,IF('Data Entry'!Q175 = \"S\",1,\"\"))))","v":""},{"$f":"IF('Data Entry'!S175 = \"D\",4,IF('Data Entry'!S175 = \"C\",3,IF('Data Entry'!S175 = \"I\",2,IF('Data Entry'!S175 = \"S\",1,\"\"))))","v":""},{"$f":"IF('Data Entry'!U175 = \"D\",4,IF('Data Entry'!U175 = \"C\",3,IF('Data Entry'!U175 = \"I\",2,IF('Data Entry'!U175 = \"S\",1,\"\"))))","v":""},{"$f":"IF('Data Entry'!W175 = \"D\",4,IF('Data Entry'!W175 = \"C\",3,IF('Data Entry'!W175 = \"I\",2,IF('Data Entry'!W175 = \"S\",1,\"\"))))","v":""},{"$f":"IF('Data Entry'!E220 = \"D\",4,IF('Data Entry'!E220 = \"C\",3,IF('Data Entry'!E220 = \"I\",2,IF('Data Entry'!E220 = \"S\",1,\"\"))))","v":""},{"$f":"IF('Data Entry'!G220 = \"D\",4,IF('Data Entry'!G220 = \"C\",3,IF('Data Entry'!G220 = \"I\",2,IF('Data Entry'!G220 = \"S\",1,\"\"))))","v":""},{"$f":"IF('Data Entry'!I220 = \"D\",4,IF('Data Entry'!I220 = \"C\",3,IF('Data Entry'!I220 = \"I\",2,IF('Data Entry'!I220 = \"S\",1,\"\"))))","v":""},{"$f":"IF('Data Entry'!K220 = \"D\",4,IF('Data Entry'!K220 = \"C\",3,IF('Data Entry'!K220 = \"I\",2,IF('Data Entry'!K220 = \"S\",1,\"\"))))","v":""},{"$f":"IF('Data Entry'!M220 = \"D\",4,IF('Data Entry'!M220 = \"C\",3,IF('Data Entry'!M220 = \"I\",2,IF('Data Entry'!M220 = \"S\",1,\"\"))))","v":""},{"$f":"IF('Data Entry'!O220 = \"D\",4,IF('Data Entry'!O220 = \"C\",3,IF('Data Entry'!O220 = \"I\",2,IF('Data Entry'!O220 = \"S\",1,\"\"))))","v":""},{"$f":"IF('Data Entry'!Q220 = \"D\",4,IF('Data Entry'!Q220 = \"C\",3,IF('Data Entry'!Q220 = \"I\",2,IF('Data Entry'!Q220 = \"S\",1,\"\"))))","v":""},{"$f":"IF('Data Entry'!S220 = \"D\",4,IF('Data Entry'!S220 = \"C\",3,IF('Data Entry'!S220 = \"I\",2,IF('Data Entry'!S220 = \"S\",1,\"\"))))","v":""},{"$f":"IF('Data Entry'!U220 = \"D\",4,IF('Data Entry'!U220 = \"C\",3,IF('Data Entry'!U220 = \"I\",2,IF('Data Entry'!U220 = \"S\",1,\"\"))))","v":""},{"$f":"IF('Data Entry'!W220 = \"D\",4,IF('Data Entry'!W220 = \"C\",3,IF('Data Entry'!W220 = \"I\",2,IF('Data Entry'!W220 = \"S\",1,\"\"))))","v":""}]
[{"$nulls":3},{"$f":"IF('Data Entry'!C41<>\"\",'Data Entry'!C41,\"\")","v":""},"","",{"$f":"IF(D45<>\"\",MEDIAN(N45:BK45),\"\")","v":""},"",{"$f":"IF(D45<>\"\",MIN(N45:BK45),\"\")","v":""},{"$f":"IF(D45<>\"\",MAX(N45:BK45),\"\")","v":""},"",null,"",{"$f":"IF('Data Entry'!E41 = \"D\",4,IF('Data Entry'!E41 = \"C\",3,IF('Data Entry'!E41 = \"I\",2,IF('Data Entry'!E41 = \"S\",1,\"\"))))","v":""},{"$f":"IF('Data Entry'!G41 = \"D\",4,IF('Data Entry'!G41 = \"C\",3,IF('Data Entry'!G41 = \"I\",2,IF('Data Entry'!G41 = \"S\",1,\"\"))))","v":""},{"$f":"IF('Data Entry'!I41 = \"D\",4,IF('Data Entry'!I41 = \"C\",3,IF('Data Entry'!I41 = \"I\",2,IF('Data Entry'!I41 = \"S\",1,\"\"))))","v":""},{"$f":"IF('Data Entry'!K41 = \"D\",4,IF('Data Entry'!K41 = \"C\",3,IF('Data Entry'!K41 = \"I\",2,IF('Data Entry'!K41 = \"S\",1,\"\"))))","v":""},{"$f":"IF('Data Entry'!M41 = \"D\",4,IF('Data Entry'!M41 = \"C\",3,IF('Data Entry'!M41 = \"I\",2,IF('Data Entry'!M41 = \"S\",1,\"\"))))","v":""},{"$f":"IF('Data Entry'!O41 = \"D\",4,IF('Data Entry'!O41 = \"C\",3,IF('Data Entry'!O41 = \"I\",2,IF('Data Entry'!O41 = \"S\",1,\"\"))))","v":""},{"$f":"IF('Data Entry'!Q41 = \"D\",4,IF('Data Entry'!Q41 = \"C\",3,IF('Data Entry'!Q41 = \"I\",2,IF('Data Entry'!Q41 = \"S\",1,\"\"))))","v":""},{"$f":"IF('Data Entry'!S41 = \"D\",4,IF('Data Entry'!S41 = \"C\",3,IF('Data Entry'!S41 = \"I\",2,IF('Data Entry'!S41 = \"S\",1,\"\"))))","v":""},{"$f":"IF('Data Entry'!U41 = \"D\",4,IF('Data Entry'!U41 = \"C\",3,IF('Data Entry'!U41 = \"I\",2,IF('Data Entry'!U41 = \"S\",1,\"\"))))","v":""},{"$f":"IF('Data Entry'!W41 = \"D\",4,IF('Data Entry'!W41 = \"C\",3,IF('Data Entry'!W41 = \"I\",2,IF('Data Entry'!W41 = \"S\",1,\"\"))))","v":""},{"$f":"IF('Data Entry'!E86 = \"D\",4,IF('Data Entry'!E86 = \"C\",3,IF('Data Entry'!E86 = \"I\",2,IF('Data Entry'!E86 = \"S\",1,\"\"))))","v":""},{"$f":"IF('Data Entry'!G86 = \"D\",4,IF('Data Entry'!G86 = \"C\",3,IF('Data Entry'!G86 = \"I\",2,IF('Data Entry'!G86 = \"S\",1,\"\"))))","v":""},{"$f":"IF('Data Entry'!I86 = \"D\",4,IF('Data Entry'!I86 = \"C\",3,IF('Data Entry'!I86 = \"I\",2,IF('Data Entry'!I86 = \"S\",1,\"\"))))","v":""},{"$f":"IF('Data Entry'!K86 = \"D\",4,IF('Data Entry'!K86 = \"C\",3,IF('Data Entry'!K86 = \"I\",2,IF('Data Entry'!K86 = \"S\",1,\"\"))))","v":""},{"$f":"IF('Data Entry'!M86 = \"D\",4,IF('Data Entry'!M86 = \"C\",3,IF('Data Entry'!M86 = \"I\",2,IF('Data Entry'!M86 = \"S\",1,\"\"))))","v":""},{"$f":"IF('Data Entry'!O86 = \"D\",4,IF('Data Entry'!O86 = \"C\",3,IF('Data Entry'!O86 = \"I\",2,IF('Data Entry'!O86 = \"S\",1,\"\"))))","v":""},{"$f":"IF('Data Entry'!Q86 = \"D\",4,IF('Data Entry'!Q86 = \"C\",3,IF('Data Entry'!Q86 = \"I\",2,IF('Data Entry'!Q86 = \"S\",1,\"\"))))","v":""},{"$f":"IF('Data Entry'!S86 = \"D\",4,IF('Data Entry'!S86 = \"C\",3,IF('Data Entry'!S86 = \"I\",2,IF('Data Entry'!S86 = \"S\",1,\"\"))))","v":""},{"$f":"IF('Data Entry'!U86 = \"D\",4,IF('Data Entry'!U86 = \"C\",3,IF('Data Entry'!U86 = \"I\",2,IF('Data Entry'!U86 = \"S\",1,\"\"))))","v":""},{"$f":"IF('Data Entry'!W86 = \"D\",4,IF('Data Entry'!W86 = \"C\",3,IF('Data Entry'!W86 = \"I\",2,IF('Data Entry'!W86 = \"S\",1,\"\"))))","v":""},{"$f":"IF('Data Entry'!E131 = \"D\",4,IF('Data Entry'!E131 = \"C\",3,IF('Data Entry'!E131 = \"I\",2,IF('Data Entry'!E131 = \"S\",1,\"\"))))","v":""},{"$f":"IF('Data Entry'!G131 = \"D\",4,IF('Data Entry'!G131 = \"C\",3,IF('Data Entry'!G131 = \"I\",2,IF('Data Entry'!G131 = \"S\",1,\"\"))))","v":""},{"$f":"IF('Data Entry'!I131 = \"D\",4,IF('Data Entry'!I131 = \"C\",3,IF('Data Entry'!I131 = \"I\",2,IF('Data Entry'!I131 = \"S\",1,\"\"))))","v":""},{"$f":"IF('Data Entry'!K131 = \"D\",4,IF('Data Entry'!K131 = \"C\",3,IF('Data Entry'!K131 = \"I\",2,IF('Data Entry'!K131 = \"S\",1,\"\"))))","v":""},{"$f":"IF('Data Entry'!M131 = \"D\",4,IF('Data Entry'!M131 = \"C\",3,IF('Data Entry'!M131 = \"I\",2,IF('Data Entry'!M131 = \"S\",1,\"\"))))","v":""},{"$f":"IF('Data Entry'!O131 = \"D\",4,IF('Data Entry'!O131 = \"C\",3,IF('Data Entry'!O131 = \"I\",2,IF('Data Entry'!O131 = \"S\",1,\"\"))))","v":""},{"$f":"IF('Data Entry'!Q131 = \"D\",4,IF('Data Entry'!Q131 = \"C\",3,IF('Data Entry'!Q131 = \"I\",2,IF('Data Entry'!Q131 = \"S\",1,\"\"))))","v":""},{"$f":"IF('Data Entry'!S131 = \"D\",4,IF('Data Entry'!S131 = \"C\",3,IF('Data Entry'!S131 = \"I\",2,IF('Data Entry'!S131 = \"S\",1,\"\"))))","v":""},{"$f":"IF('Data Entry'!U131 = \"D\",4,IF('Data Entry'!U131 = \"C\",3,IF('Data Entry'!U131 = \"I\",2,IF('Data Entry'!U131 = \"S\",1,\"\"))))","v":""},{"$f":"IF('Data Entry'!W131 = \"D\",4,IF('Data Entry'!W131 = \"C\",3,IF('Data Entry'!W131 = \"I\",2,IF('Data Entry'!W131 = \"S\",1,\"\"))))","v":""},{"$f":"IF('Data Entry'!E176 = \"D\",4,IF('Data Entry'!E176 = \"C\",3,IF('Data Entry'!E176 = \"I\",2,IF('Data Entry'!E176 = \"S\",1,\"\"))))","v":""},{"$f":"IF('Data Entry'!G176 = \"D\",4,IF('Data Entry'!G176 = \"C\",3,IF('Data Entry'!G176 = \"I\",2,IF('Data Entry'!G176 = \"S\",1,\"\"))))","v":""},{"$f":"IF('Data Entry'!I176 = \"D\",4,IF('Data Entry'!I176 = \"C\",3,IF('Data Entry'!I176 = \"I\",2,IF('Data Entry'!I176 = \"S\",1,\"\"))))","v":""},{"$f":"IF('Data Entry'!K176 = \"D\",4,IF('Data Entry'!K176 = \"C\",3,IF('Data Entry'!K176 = \"I\",2,IF('Data Entry'!K176 = \"S\",1,\"\"))))","v":""},{"$f":"IF('Data Entry'!M176 = \"D\",4,IF('Data Entry'!M176 = \"C\",3,IF('Data Entry'!M176 = \"I\",2,IF('Data Entry'!M176 = \"S\",1,\"\"))))","v":""},{"$f":"IF('Data Entry'!O176 = \"D\",4,IF('Data Entry'!O176 = \"C\",3,IF('Data Entry'!O176 = \"I\",2,IF('Data Entry'!O176 = \"S\",1,\"\"))))","v":""},{"$f":"IF('Data Entry'!Q176 = \"D\",4,IF('Data Entry'!Q176 = \"C\",3,IF('Data Entry'!Q176 = \"I\",2,IF('Data Entry'!Q176 = \"S\",1,\"\"))))","v":""},{"$f":"IF('Data Entry'!S176 = \"D\",4,IF('Data Entry'!S176 = \"C\",3,IF('Data Entry'!S176 = \"I\",2,IF('Data Entry'!S176 = \"S\",1,\"\"))))","v":""},{"$f":"IF('Data Entry'!U176 = \"D\",4,IF('Data Entry'!U176 = \"C\",3,IF('Data Entry'!U176 = \"I\",2,IF('Data Entry'!U176 = \"S\",1,\"\"))))","v":""},{"$f":"IF('Data Entry'!W176 = \"D\",4,IF('Data Entry'!W176 = \"C\",3,IF('Data Entry'!W176 = \"I\",2,IF('Data Entry'!W176 = \"S\",1,\"\"))))","v":""},{"$f":"IF('Data Entry'!E221 = \"D\",4,IF('Data Entry'!E221 = \"C\",3,IF('Data Entry'!E221 = \"I\",2,IF('Data Entry'!E221 = \"S\",1,\"\"))))","v":""},{"$f":"IF('Data Entry'!G221 = \"D\",4,IF('Data Entry'!G221 = \"C\",3,IF('Data Entry'!G221 = \"I\",2,IF('Data Entry'!G221 = \"S\",1,\"\"))))","v":""},{"$f":"IF('Data Entry'!I221 = \"D\",4,IF('Data Entry'!I221 = \"C\",3,IF('Data Entry'!I221 = \"I\",2,IF('Data Entry'!I221 = \"S\",1,\"\"))))","v":""},{"$f":"IF('Data Entry'!K221 = \"D\",4,IF('Data Entry'!K221 = \"C\",3,IF('Data Entry'!K221 = \"I\",2,IF('Data Entry'!K221 = \"S\",1,\"\"))))","v":""},{"$f":"IF('Data Entry'!M221 = \"D\",4,IF('Data Entry'!M221 = \"C\",3,IF('Data Entry'!M221 = \"I\",2,IF('Data Entry'!M221 = \"S\",1,\"\"))))","v":""},{"$f":"IF('Data Entry'!O221 = \"D\",4,IF('Data Entry'!O221 = \"C\",3,IF('Data Entry'!O221 = \"I\",2,IF('Data Entry'!O221 = \"S\",1,\"\"))))","v":""},{"$f":"IF('Data Entry'!Q221 = \"D\",4,IF('Data Entry'!Q221 = \"C\",3,IF('Data Entry'!Q221 = \"I\",2,IF('Data Entry'!Q221 = \"S\",1,\"\"))))","v":""},{"$f":"IF('Data Entry'!S221 = \"D\",4,IF('Data Entry'!S221 = \"C\",3,IF('Data Entry'!S221 = \"I\",2,IF('Data Entry'!S221 = \"S\",1,\"\"))))","v":""},{"$f":"IF('Data Entry'!U221 = \"D\",4,IF('Data Entry'!U221 = \"C\",3,IF('Data Entry'!U221 = \"I\",2,IF('Data Entry'!U221 = \"S\",1,\"\"))))","v":""},{"$f":"IF('Data Entry'!W221 = \"D\",4,IF('Data Entry'!W221 = \"C\",3,IF('Data Entry'!W221 = \"I\",2,IF('Data Entry'!W221 = \"S\",1,\"\"))))","v":""}]
[{"$nulls":3},{"$f":"IF('Data Entry'!C42<>\"\",'Data Entry'!C42,\"\")","v":""},"","","","","","","",null,"",{"$f":"IF('Data Entry'!E42 = \"D\",4,IF('Data Entry'!E42 = \"C\",3,IF('Data Entry'!E42 = \"I\",2,IF('Data Entry'!E42 = \"S\",1,\"\"))))","v":""},{"$f":"IF('Data Entry'!G42 = \"D\",4,IF('Data Entry'!G42 = \"C\",3,IF('Data Entry'!G42 = \"I\",2,IF('Data Entry'!G42 = \"S\",1,\"\"))))","v":""},{"$f":"IF('Data Entry'!I42 = \"D\",4,IF('Data Entry'!I42 = \"C\",3,IF('Data Entry'!I42 = \"I\",2,IF('Data Entry'!I42 = \"S\",1,\"\"))))","v":""},{"$f":"IF('Data Entry'!K42 = \"D\",4,IF('Data Entry'!K42 = \"C\",3,IF('Data Entry'!K42 = \"I\",2,IF('Data Entry'!K42 = \"S\",1,\"\"))))","v":""},{"$f":"IF('Data Entry'!M42 = \"D\",4,IF('Data Entry'!M42 = \"C\",3,IF('Data Entry'!M42 = \"I\",2,IF('Data Entry'!M42 = \"S\",1,\"\"))))","v":""},{"$f":"IF('Data Entry'!O42 = \"D\",4,IF('Data Entry'!O42 = \"C\",3,IF('Data Entry'!O42 = \"I\",2,IF('Data Entry'!O42 = \"S\",1,\"\"))))","v":""},{"$f":"IF('Data Entry'!Q42 = \"D\",4,IF('Data Entry'!Q42 = \"C\",3,IF('Data Entry'!Q42 = \"I\",2,IF('Data Entry'!Q42 = \"S\",1,\"\"))))","v":""},{"$f":"IF('Data Entry'!S42 = \"D\",4,IF('Data Entry'!S42 = \"C\",3,IF('Data Entry'!S42 = \"I\",2,IF('Data Entry'!S42 = \"S\",1,\"\"))))","v":""},{"$f":"IF('Data Entry'!U42 = \"D\",4,IF('Data Entry'!U42 = \"C\",3,IF('Data Entry'!U42 = \"I\",2,IF('Data Entry'!U42 = \"S\",1,\"\"))))","v":""},{"$f":"IF('Data Entry'!W42 = \"D\",4,IF('Data Entry'!W42 = \"C\",3,IF('Data Entry'!W42 = \"I\",2,IF('Data Entry'!W42 = \"S\",1,\"\"))))","v":""},{"$f":"IF('Data Entry'!E87 = \"D\",4,IF('Data Entry'!E87 = \"C\",3,IF('Data Entry'!E87 = \"I\",2,IF('Data Entry'!E87 = \"S\",1,\"\"))))","v":""},{"$f":"IF('Data Entry'!G87 = \"D\",4,IF('Data Entry'!G87 = \"C\",3,IF('Data Entry'!G87 = \"I\",2,IF('Data Entry'!G87 = \"S\",1,\"\"))))","v":""},{"$f":"IF('Data Entry'!I87 = \"D\",4,IF('Data Entry'!I87 = \"C\",3,IF('Data Entry'!I87 = \"I\",2,IF('Data Entry'!I87 = \"S\",1,\"\"))))","v":""},{"$f":"IF('Data Entry'!K87 = \"D\",4,IF('Data Entry'!K87 = \"C\",3,IF('Data Entry'!K87 = \"I\",2,IF('Data Entry'!K87 = \"S\",1,\"\"))))","v":""},{"$f":"IF('Data Entry'!M87 = \"D\",4,IF('Data Entry'!M87 = \"C\",3,IF('Data Entry'!M87 = \"I\",2,IF('Data Entry'!M87 = \"S\",1,\"\"))))","v":""},{"$f":"IF('Data Entry'!O87 = \"D\",4,IF('Data Entry'!O87 = \"C\",3,IF('Data Entry'!O87 = \"I\",2,IF('Data Entry'!O87 = \"S\",1,\"\"))))","v":""},{"$f":"IF('Data Entry'!Q87 = \"D\",4,IF('Data Entry'!Q87 = \"C\",3,IF('Data Entry'!Q87 = \"I\",2,IF('Data Entry'!Q87 = \"S\",1,\"\"))))","v":""},{"$f":"IF('Data Entry'!S87 = \"D\",4,IF('Data Entry'!S87 = \"C\",3,IF('Data Entry'!S87 = \"I\",2,IF('Data Entry'!S87 = \"S\",1,\"\"))))","v":""},{"$f":"IF('Data Entry'!U87 = \"D\",4,IF('Data Entry'!U87 = \"C\",3,IF('Data Entry'!U87 = \"I\",2,IF('Data Entry'!U87 = \"S\",1,\"\"))))","v":""},{"$f":"IF('Data Entry'!W87 = \"D\",4,IF('Data Entry'!W87 = \"C\",3,IF('Data Entry'!W87 = \"I\",2,IF('Data Entry'!W87 = \"S\",1,\"\"))))","v":""},{"$f":"IF('Data Entry'!E132 = \"D\",4,IF('Data Entry'!E132 = \"C\",3,IF('Data Entry'!E132 = \"I\",2,IF('Data Entry'!E132 = \"S\",1,\"\"))))","v":""},{"$f":"IF('Data Entry'!G132 = \"D\",4,IF('Data Entry'!G132 = \"C\",3,IF('Data Entry'!G132 = \"I\",2,IF('Data Entry'!G132 = \"S\",1,\"\"))))","v":""},{"$f":"IF('Data Entry'!I132 = \"D\",4,IF('Data Entry'!I132 = \"C\",3,IF('Data Entry'!I132 = \"I\",2,IF('Data Entry'!I132 = \"S\",1,\"\"))))","v":""},{"$f":"IF('Data Entry'!K132 = \"D\",4,IF('Data Entry'!K132 = \"C\",3,IF('Data Entry'!K132 = \"I\",2,IF('Data Entry'!K132 = \"S\",1,\"\"))))","v":""},{"$f":"IF('Data Entry'!M132 = \"D\",4,IF('Data Entry'!M132 = \"C\",3,IF('Data Entry'!M132 = \"I\",2,IF('Data Entry'!M132 = \"S\",1,\"\"))))","v":""},{"$f":"IF('Data Entry'!O132 = \"D\",4,IF('Data Entry'!O132 = \"C\",3,IF('Data Entry'!O132 = \"I\",2,IF('Data Entry'!O132 = \"S\",1,\"\"))))","v":""},{"$f":"IF('Data Entry'!Q132 = \"D\",4,IF('Data Entry'!Q132 = \"C\",3,IF('Data Entry'!Q132 = \"I\",2,IF('Data Entry'!Q132 = \"S\",1,\"\"))))","v":""},{"$f":"IF('Data Entry'!S132 = \"D\",4,IF('Data Entry'!S132 = \"C\",3,IF('Data Entry'!S132 = \"I\",2,IF('Data Entry'!S132 = \"S\",1,\"\"))))","v":""},{"$f":"IF('Data Entry'!U132 = \"D\",4,IF('Data Entry'!U132 = \"C\",3,IF('Data Entry'!U132 = \"I\",2,IF('Data Entry'!U132 = \"S\",1,\"\"))))","v":""},{"$f":"IF('Data Entry'!W132 = \"D\",4,IF('Data Entry'!W132 = \"C\",3,IF('Data Entry'!W132 = \"I\",2,IF('Data Entry'!W132 = \"S\",1,\"\"))))","v":""},{"$f":"IF('Data Entry'!E177 = \"D\",4,IF('Data Entry'!E177 = \"C\",3,IF('Data Entry'!E177 = \"I\",2,IF('Data Entry'!E177 = \"S\",1,\"\"))))","v":""},{"$f":"IF('Data Entry'!G177 = \"D\",4,IF('Data Entry'!G177 = \"C\",3,IF('Data Entry'!G177 = \"I\",2,IF('Data Entry'!G177 = \"S\",1,\"\"))))","v":""},{"$f":"IF('Data Entry'!I177 = \"D\",4,IF('Data Entry'!I177 = \"C\",3,IF('Data Entry'!I177 = \"I\",2,IF('Data Entry'!I177 = \"S\",1,\"\"))))","v":""},{"$f":"IF('Data Entry'!K177 = \"D\",4,IF('Data Entry'!K177 = \"C\",3,IF('Data Entry'!K177 = \"I\",2,IF('Data Entry'!K177 = \"S\",1,\"\"))))","v":""},{"$f":"IF('Data Entry'!M177 = \"D\",4,IF('Data Entry'!M177 = \"C\",3,IF('Data Entry'!M177 = \"I\",2,IF('Data Entry'!M177 = \"S\",1,\"\"))))","v":""},{"$f":"IF('Data Entry'!O177 = \"D\",4,IF('Data Entry'!O177 = \"C\",3,IF('Data Entry'!O177 = \"I\",2,IF('Data Entry'!O177 = \"S\",1,\"\"))))","v":""},{"$f":"IF('Data Entry'!Q177 = \"D\",4,IF('Data Entry'!Q177 = \"C\",3,IF('Data Entry'!Q177 = \"I\",2,IF('Data Entry'!Q177 = \"S\",1,\"\"))))","v":""},{"$f":"IF('Data Entry'!S177 = \"D\",4,IF('Data Entry'!S177 = \"C\",3,IF('Data Entry'!S177 = \"I\",2,IF('Data Entry'!S177 = \"S\",1,\"\"))))","v":""},{"$f":"IF('Data Entry'!U177 = \"D\",4,IF('Data Entry'!U177 = \"C\",3,IF('Data Entry'!U177 = \"I\",2,IF('Data Entry'!U177 = \"S\",1,\"\"))))","v":""},{"$f":"IF('Data Entry'!W177 = \"D\",4,IF('Data Entry'!W177 = \"C\",3,IF('Data Entry'!W177 = \"I\",2,IF('Data Entry'!W177 = \"S\",1,\"\"))))","v":""},{"$f":"IF('Data Entry'!E222 = \"D\",4,IF('Data Entry'!E222 = \"C\",3,IF('Data Entry'!E222 = \"I\",2,IF('Data Entry'!E222 = \"S\",1,\"\"))))","v":""},{"$f":"IF('Data Entry'!G222 = \"D\",4,IF('Data Entry'!G222 = \"C\",3,IF('Data Entry'!G222 = \"I\",2,IF('Data Entry'!G222 = \"S\",1,\"\"))))","v":""},{"$f":"IF('Data Entry'!I222 = \"D\",4,IF('Data Entry'!I222 = \"C\",3,IF('Data Entry'!I222 = \"I\",2,IF('Data Entry'!I222 = \"S\",1,\"\"))))","v":""},{"$f":"IF('Data Entry'!K222 = \"D\",4,IF('Data Entry'!K222 = \"C\",3,IF('Data Entry'!K222 = \"I\",2,IF('Data Entry'!K222 = \"S\",1,\"\"))))","v":""},{"$f":"IF('Data Entry'!M222 = \"D\",4,IF('Data Entry'!M222 = \"C\",3,IF('Data Entry'!M222 = \"I\",2,IF('Data Entry'!M222 = \"S\",1,\"\"))))","v":""},{"$f":"IF('Data Entry'!O222 = \"D\",4,IF('Data Entry'!O222 = \"C\",3,IF('Data Entry'!O222 = \"I\",2,IF('Data Entry'!O222 = \"S\",1,\"\"))))","v":""},{"$f":"IF('Data Entry'!Q222 = \"D\",4,IF('Data Entry'!Q222 = \"C\",3,IF('Data Entry'!Q222 = \"I\",2,IF('Data Entry'!Q222 = \"S\",1,\"\"))))","v":""},{"$f":"IF('Data Entry'!S222 = \"D\",4,IF('Data Entry'!S222 = \"C\",3,IF('Data Entry'!S222 = \"I\",2,IF('Data Entry'!S222 = \"S\",1,\"\"))))","v":""},{"$f":"IF('Data Entry'!U222 = \"D\",4,IF('Data Entry'!U222 = \"C\",3,IF('Data Entry'!U222 = \"I\",2,IF('Data Entry'!U222 = \"S\",1,\"\"))))","v":""},{"$f":"IF('Data Entry'!W222 = \"D\",4,IF('Data Entry'!W222 = \"C\",3,IF('Data Entry'!W222 = \"I\",2,IF('Data Entry'!W222 = \"S\",1,\"\"))))","v":""}]
[{"$nulls":3},"Overall",{"$f":"SUM(N47:BK47)","v":0},{"$f":"IF(E47<>0,AVERAGE(N47:BK47)*$P$1,\"\")","v":""},{"$f":"IF(SUM(G30:G46)<>0,SUM(G30:G46),\"\")","v":""},null,{"$f":"IF(COUNT(N47:BK47)<>0,MIN(N47:BK47),\"\")","v":""},{"$f":"IF(COUNT(N47:BK47)<>0,MAX(N47:BK47),\"\")","v":""},{"$f":"IF(COUNT(N47:BK47)<>0,_xlfn.STDEV.S(N47:BK47),\"\")","v":""},null,{"$f":"IF(K47<>\"\",K47/E47,\"\")","v":""},{"$f":"IF(SUM(N30:N46)<>0,SUM(N30:N46),\"\")","v":""},{"$f":"IF(SUM(O30:O46)<>0,SUM(O30:O46),\"\")","v":""},"","","","","","","","","","","","","","","","","","","","","","","",{"$f":"IF(SUM(AM30:AM46)<>0,SUM(AM30:AM46),\"\")","v":""},{"$f":"IF(SUM(AN30:AN46)<>0,SUM(AN30:AN46),\"\")","v":""},{"$f":"IF(SUM(AO30:AO46)<>0,SUM(AO30:AO46),\"\")","v":""},{"$f":"IF(SUM(AP30:AP46)<>0,SUM(AP30:AP46),\"\")","v":""},{"$f":"IF(SUM(AQ30:AQ46)<>0,SUM(AQ30:AQ46),\"\")","v":""},"","","","","","","","","","","","","","","","","","","",""]

{"sheet":"OTHER FACTORS CALC","index":8,"n_rows":11,"n_cols":59,"rows_kept":11,"hidden":true,"merged":[[0,1,0,2],[0,3,0,6],[0,7,0,8],[0,9,0,10],[0,11,0,14],[0,15,0,16],[0,17,0,20],[0,21,0,22],[1,1,1,2],[1,3,1,4],[1,7,1,8],[1,9,1,10],[1,11,1,14],[1,15,1,16],[1,17,1,20],[1,21,1,22],[2,1,2,2],[2,3,2,4],[2,5,2,8],[2,9,2,10],[2,17,2,20],[2,21,2,22],[5,1,10,1]]}
[null,"Tract # / Stand ID:",null,{"$f":"'Data Entry'!$D$1","v":0},{"$nulls":3},"Date:",null,{"$f":"'Data Entry'!$J$1","v":"00:00:00"},null,"Prism Factor:",{"$nulls":3},{"$f":"'Data Entry'!$P$1","v":0},null,"Fixed Plot Radius:",{"$nulls":3},{"$f":"'Data Entry'!$V$1","v":0}]
[null,"SI Species:",null,{"$f":"'Data Entry'!D2","v":0},{"$nulls":3},"Stand Age:",null,{"$f":"'Data Entry'!$J$2","v":0},null,"Site Index (base age 50):",{"$nulls":3},{"$f":"'Data Entry'!$P$2","v":0},null,"Number of Plots:",{"$nulls":3},{"$f":"'Data Entry'!$V$2","v":0}]
[null,"Estimated DBH:",null,{"$f":"'Data Entry'!D3","v":0},{"$nulls":13},"Planting Density:",{"$nulls":3},{"$f":"'Data Entry'!$V$3","v":0}]
[]
[]
[null,"Other Limiting\nFactors","Factor",null,null,"% of plots",1,2,3,4,5,6,7,8,9,10,11,12,13,14,15,16,17,18,19,20,21,22,23,24,25,26,27,28,29,30,31,32,33,34,35,36,37,38,39,40,41,42,43,44,45,46,47,48,49,50,null,null,"% of plots"]
[null,null,"Invasive Species",{"$f":"SUM(G7:BD7)","v":0},{"$f":"IF(D7<>0,AVERAGE(G7:BD7),\"\")","v":""},{"$f":"IF(D7<>0,E7,\"\")","v":""},{"$f":"IF('Data Entry'!D44 > 0,'Data Entry'!D44, IF(G$6<=$V$2,0,\"\"))","v":""},{"$f":"IF('Data Entry'!F44 > 0,'Data Entry'!F44, IF(H$6<=$V$2,0,\"\"))","v":""},{"$f":"IF('Data Entry'!H44 > 0,'Data Entry'!H44, IF(I$6<=$V$2,0,\"\"))","v":""},{"$f":"IF('Data Entry'!J44 > 0,'Data Entry'!J44, IF(J$6<=$V$2,0,\"\"))","v":""},{"$f":"IF('Data Entry'!L44 > 0,'Data Entry'!L44, IF(K$6<=$V$2,0,\"\"))","v":""},{"$f":"IF('Data Entry'!N44 > 0,'Data Entry'!N44, IF(L$6<=$V$2,0,\"\"))","v":""},{"$f":"IF('Data Entry'!P44 > 0,'Data Entry'!P44, IF(M$6<=$V$2,0,\"\"))","v":""},{"$f":"IF('Data Entry'!R44 > 0,'Data Entry'!R44, IF(N$6<=$V$2,0,\"\"))","v":""},{"$f":"IF('Data Entry'!T44 > 0,'Data Entry'!T44, IF(O$6<=$V$2,0,\"\"))","v":""},{"$f":"IF('Data Entry'!V44 > 0,'Data Entry'!V44, IF(P$6<=$V$2,0,\"\"))","v":""},{"$f":"IF('Data Entry'!D89 > 0,'Data Entry'!D89, IF(Q$6<=$V$2,0,\"\"))","v":""},{"$f":"IF('Data Entry'!F89 > 0,'Data Entry'!F89, IF(R$6<=$V$2,0,\"\"))","v":""},{"$f":"IF('Data Entry'!H89 > 0,'Data Entry'!H89, IF(S$6<=$V$2,0,\"\"))","v":""},{"$f":"IF('Data Entry'!J89 > 0,'Data Entry'!J89, IF(T$6<=$V$2,0,\"\"))","v":""},{"$f":"IF('Data Entry'!L89 > 0,'Data Entry'!L89, IF(U$6<=$V$2,0,\"\"))","v":""},{"$f":"IF('Data Entry'!N89 > 0,'Data Entry'!N89, IF(V$6<=$V$2,0,\"\"))","v":""},{"$f":"IF('Data Entry'!P89 > 0,'Data Entry'!P89, IF(W$6<=$V$2,0,\"\"))","v":""},{"$f":"IF('Data Entry'!R89 > 0,'Data Entry'!R89, IF(X$6<=$V$2,0,\"\"))","v":""},{"$f":"IF('Data Entry'!T89 > 0,'Data Entry'!T89, IF(Y$6<=$V$2,0,\"\"))","v":""},{"$f":"IF('Data Entry'!V89 > 0,'Data Entry'!V89, IF(Z$6<=$V$2,0,\"\"))","v":""},{"$f":"IF('Data Entry'!D134 > 0,'Data Entry'!D134, IF(AA$6<=$V$2,0,\"\"))","v":""},{"$f":"IF('Data Entry'!F134 > 0,'Data Entry'!F134, IF(AB$6<=$V$2,0,\"\"))","v":""},{"$f":"IF('Data Entry'!H134 > 0,'Data Entry'!H134, IF(AC$6<=$V$2,0,\"\"))","v":""},{"$f":"IF('Data Entry'!J134 > 0,'Data Entry'!J134, IF(AD$6<=$V$2,0,\"\"))","v":""},{"$f":"IF('Data Entry'!L134 > 0,'Data Entry'!L134, IF(AE$6<=$V$2,0,\"\"))","v":""},{"$f":"IF('Data Entry'!N134 > 0,'Data Entry'!N134, IF(AF$6<=$V$2,0,\"\"))","v":""},{"$f":"IF('Data Entry'!P134 > 0,'Data Entry'!P134, IF(AG$6<=$V$2,0,\"\"))","v":""},{"$f":"IF('Data Entry'!R134 > 0,'Data Entry'!R134, IF(AH$6<=$V$2,0,\"\"))","v":""},{"$f":"IF('Data Entry'!T134 > 0,'Data Entry'!T134, IF(AI$6<=$V$2,0,\"\"))","v":""},{"$f":"IF('Data Entry'!V134 > 0,'Data Entry'!V134, IF(AJ$6<=$V$2,0,\"\"))","v":""},{"$f":"IF('Data Entry'!D179 > 0,'Data Entry'!D179, IF(AK$6<=$V$2,0,\"\"))","v":""},{"$f":"IF('Data Entry'!F179 > 0,'Data Entry'!F179, IF(AL$6<=$V$2,0,\"\"))","v":""},{"$f":"IF('Data Entry'!H179 > 0,'Data Entry'!H179, IF(AM$6<=$V$2,0,\"\"))","v":""},{"$f":"IF('Data Entry'!J179 > 0,'Data Entry'!J179, IF(AN$6<=$V$2,0,\"\"))","v":""},{"$f":"IF('Data Entry'!L179 > 0,'Data Entry'!L179, IF(AO$6<=$V$2,0,\"\"))","v":""},{"$f":"IF('Data Entry'!N179 > 0,'Data Entry'!N179, IF(AP$6<=$V$2,0,\"\"))","v":""},{"$f":"IF('Data Entry'!P179 > 0,'Data Entry'!P179, IF(AQ$6<=$V$2,0,\"\"))","v":""},{"$f":"IF('Data Entry'!R179 > 0,'Data Entry'!R179, IF(AR$6<=$V$2,0,\"\"))","v":""},{"$f":"IF('Data Entry'!T179 > 0,'Data Entry'!T179, IF(AS$6<=$V$2,0,\"\"))","v":""},{"$f":"IF('Data Entry'!V179 > 0,'Data Entry'!V179, IF(AT$6<=$V$2,0,\"\"))","v":""},{"$f":"IF('Data Entry'!D224 > 0,'Data Entry'!D224, IF(AU$6<=$V$2,0,\"\"))","v":""},{"$f":"IF('Data Entry'!F224 > 0,'Data Entry'!F224, IF(AV$6<=$V$2,0,\"\"))","v":""},{"$f":"IF('Data Entry'!H224 > 0,'Data Entry'!H224, IF(AW$6<=$V$2,0,\"\"))","v":""},{"$f":"IF('Data Entry'!J224 > 0,'Data Entry'!J224, IF(AX$6<=$V$2,0,\"\"))","v":""},{"$f":"IF('Data Entry'!L224 > 0,'Data Entry'!L224, IF(AY$6<=$V$2,0,\"\"))","v":""},{"$f":"IF('Data Entry'!N224 > 0,'Data Entry'!N224, IF(AZ$6<=$V$2,0,\"\"))","v":""},{"$f":"IF('Data Entry'!P224 > 0,'Data Entry'!P224, IF(BA$6<=$V$2,0,\"\"))","v":""},{"$f":"IF('Data Entry'!R224 > 0,'Data Entry'!R224, IF(BB$6<=$V$2,0,\"\"))","v":""},{"$f":"IF('Data Entry'!T224 > 0,'Data Entry'!T224, IF(BC$6<=$V$2,0,\"\"))","v":""},{"$f":"IF('Data Entry'!V224 > 0,'Data Entry'!V224, IF(BD$6<=$V$2,0,\"\"))","v":""},{"$f":"SUM(G7:BD7)","v":0},{"$f":"IF(BE7<>0,AVERAGE(G7:BD7),\"\")","v":""},{"$f":"IF(BE7<>0,BF7,\"\")","v":""}]
[null,null,"Deer Browse",{"$f":"SUM(G8:BD8)","v":0},{"$f":"IF(D8<>0,AVERAGE(G8:BD8),\"\")","v":""},{"$f":"IF(D8<>0,E8,\"\")","v":""},{"$f":"IF('Data Entry'!D45 > 0,'Data Entry'!D45, IF(G$6<=$V$2,0,\"\"))","v":""},{"$f":"IF('Data Entry'!F45 > 0,'Data Entry'!F45, IF(H$6<=$V$2,0,\"\"))","v":""},{"$f":"IF('Data Entry'!H45 > 0,'Data Entry'!H45, IF(I$6<=$V$2,0,\"\"))","v":""},{"$f":"IF('Data Entry'!J45 > 0,'Data Entry'!J45, IF(J$6<=$V$2,0,\"\"))","v":""},{"$f":"IF('Data Entry'!L45 > 0,'Data Entry'!L45, IF(K$6<=$V$2,0,\"\"))","v":""},{"$f":"IF('Data Entry'!N45 > 0,'Data Entry'!N45, IF(L$6<=$V$2,0,\"\"))","v":""},{"$f":"IF('Data Entry'!P45 > 0,'Data Entry'!P45, IF(M$6<=$V$2,0,\"\"))","v":""},{"$f":"IF('Data Entry'!R45 > 0,'Data Entry'!R45, IF(N$6<=$V$2,0,\"\"))","v":""},{"$f":"IF('Data Entry'!T45 > 0,'Data Entry'!T45, IF(O$6<=$V$2,0,\"\"))","v":""},{"$f":"IF('Data Entry'!V45 > 0,'Data Entry'!V45, IF(P$6<=$V$2,0,\"\"))","v":""},{"$f":"IF('Data Entry'!D90 > 0,'Data Entry'!D90, IF(Q$6<=$V$2,0,\"\"))","v":""},{"$f":"IF('Data Entry'!F90 > 0,'Data Entry'!F90, IF(R$6<=$V$2,0,\"\"))","v":""},{"$f":"IF('Data Entry'!H90 > 0,'Data Entry'!H90, IF(S$6<=$V$2,0,\"\"))","v":""},{"$f":"IF('Data Entry'!J90 > 0,'Data Entry'!J90, IF(T$6<=$V$2,0,\"\"))","v":""},{"$f":"IF('Data Entry'!L90 > 0,'Data Entry'!L90, IF(U$6<=$V$2,0,\"\"))","v":""},{"$f":"IF('Data Entry'!N90 > 0,'Data Entry'!N90, IF(V$6<=$V$2,0,\"\"))","v":""},{"$f":"IF('Data Entry'!P90 > 0,'Data Entry'!P90, IF(W$6<=$V$2,0,\"\"))","v":""},{"$f":"IF('Data Entry'!R90 > 0,'Data Entry'!R90, IF(X$6<=$V$2,0,\"\"))","v":""},{"$f":"IF('Data Entry'!T90 > 0,'Data Entry'!T90, IF(Y$6<=$V$2,0,\"\"))","v":""},{"$f":"IF('Data Entry'!V90 > 0,'Data Entry'!V90, IF(Z$6<=$V$2,0,\"\"))","v":""},{"$f":"IF('Data Entry'!D135 > 0,'Data Entry'!D135, IF(AA$6<=$V$2,0,\"\"))","v":""},{"$f":"IF('Data Entry'!F135 > 0,'Data Entry'!F135, IF(AB$6<=$V$2,0,\"\"))","v":""},{"$f":"IF('Data Entry'!H135 > 0,'Data Entry'!H135, IF(AC$6<=$V$2,0,\"\"))","v":""},{"$f":"IF('Data Entry'!J135 > 0,'Data Entry'!J135, IF(AD$6<=$V$2,0,\"\"))","v":""},{"$f":"IF('Data Entry'!L135 > 0,'Data Entry'!L135, IF(AE$6<=$V$2,0,\"\"))","v":""},{"$f":"IF('Data Entry'!N135 > 0,'Data Entry'!N135, IF(AF$6<=$V$2,0,\"\"))","v":""},{"$f":"IF('Data Entry'!P135 > 0,'Data Entry'!P135, IF(AG$6<=$V$2,0,\"\"))","v":""},{"$f":"IF('Data Entry'!R135 > 0,'Data Entry'!R135, IF(AH$6<=$V$2,0,\"\"))","v":""},{"$f":"IF('Data Entry'!T135 > 0,'Data Entry'!T135, IF(AI$6<=$V$2,0,\"\"))","v":""},{"$f":"IF('Data Entry'!V135 > 0,'Data Entry'!V135, IF(AJ$6<=$V$2,0,\"\"))","v":""},{"$f":"IF('Data Entry'!D180 > 0,'Data Entry'!D180, IF(AK$6<=$V$2,0,\"\"))","v":""},{"$f":"IF('Data Entry'!F180 > 0,'Data Entry'!F180, IF(AL$6<=$V$2,0,\"\"))","v":""},{"$f":"IF('Data Entry'!H180 > 0,'Data Entry'!H180, IF(AM$6<=$V$2,0,\"\"))","v":""},{"$f":"IF('Data Entry'!J180 > 0,'Data Entry'!J180, IF(AN$6<=$V$2,0,\"\"))","v":""},{"$f":"IF('Data Entry'!L180 > 0,'Data Entry'!L180, IF(AO$6<=$V$2,0,\"\"))","v":""},{"$f":"IF('Data Entry'!N180 > 0,'Data Entry'!N180, IF(AP$6<=$V$2,0,\"\"))","v":""},{"$f":"IF('Data Entry'!P180 > 0,'Data Entry'!P180, IF(AQ$6<=$V$2,0,\"\"))","v":""},{"$f":"IF('Data Entry'!R180 > 0,'Data Entry'!R180, IF(AR$6<=$V$2,0,\"\"))","v":""},{"$f":"IF('Data Entry'!T180 > 0,'Data Entry'!T180, IF(AS$6<=$V$2,0,\"\"))","v":""},{"$f":"IF('Data Entry'!V180 > 0,'Data Entry'!V180, IF(AT$6<=$V$2,0,\"\"))","v":""},{"$f":"IF('Data Entry'!D225 > 0,'Data Entry'!D225, IF(AU$6<=$V$2,0,\"\"))","v":""},{"$f":"IF('Data Entry'!F225 > 0,'Data Entry'!F225, IF(AV$6<=$V$2,0,\"\"))","v":""},{"$f":"IF('Data Entry'!H225 > 0,'Data Entry'!H225, IF(AW$6<=$V$2,0,\"\"))","v":""},{"$f":"IF('Data Entry'!J225 > 0,'Data Entry'!J225, IF(AX$6<=$V$2,0,\"\"))","v":""},{"$f":"IF('Data Entry'!L225 > 0,'Data Entry'!L225, IF(AY$6<=$V$2,0,\"\"))","v":""},{"$f":"IF('Data Entry'!N225 > 0,'Data Entry'!N225, IF(AZ$6<=$V$2,0,\"\"))","v":""},{"$f":"IF('Data Entry'!P225 > 0,'Data Entry'!P225, IF(BA$6<=$V$2,0,\"\"))","v":""},{"$f":"IF('Data Entry'!R225 > 0,'Data Entry'!R225, IF(BB$6<=$V$2,0,\"\"))","v":""},{"$f":"IF('Data Entry'!T225 > 0,'Data Entry'!T225, IF(BC$6<=$V$2,0,\"\"))","v":""},{"$f":"IF('Data Entry'!V225 > 0,'Data Entry'!V225, IF(BD$6<=$V$2,0,\"\"))","v":""},{"$f":"SUM(G8:BD8)","v":0},{"$f":"IF(BE8<>0,AVERAGE(G8:BD8),\"\")","v":""},{"$f":"IF(BE8<>0,BF8,\"\")","v":""}]
[null,null,"Pest/Pathogen",0,"",{"$f":"IF(D9<>0,E9,\"\")","v":""},{"$f":"IF('Data Entry'!D46 > 0,'Data Entry'!D46, IF(G$6<=$V$2,0,\"\"))","v":""},{"$f":"IF('Data Entry'!F46 > 0,'Data Entry'!F46, IF(H$6<=$V$2,0,\"\"))","v":""},{"$f":"IF('Data Entry'!H46 > 0,'Data Entry'!H46, IF(I$6<=$V$2,0,\"\"))","v":""},{"$f":"IF('Data Entry'!J46 > 0,'Data Entry'!J46, IF(J$6<=$V$2,0,\"\"))","v":""},{"$f":"IF('Data Entry'!L46 > 0,'Data Entry'!L46, IF(K$6<=$V$2,0,\"\"))","v":""},{"$f":"IF('Data Entry'!N46 > 0,'Data Entry'!N46, IF(L$6<=$V$2,0,\"\"))","v":""},{"$f":"IF('Data Entry'!P46 > 0,'Data Entry'!P46, IF(M$6<=$V$2,0,\"\"))","v":""},{"$f":"IF('Data Entry'!R46 > 0,'Data Entry'!R46, IF(N$6<=$V$2,0,\"\"))","v":""},{"$f":"IF('Data Entry'!T46 > 0,'Data Entry'!T46, IF(O$6<=$V$2,0,\"\"))","v":""},{"$f":"IF('Data Entry'!V46 > 0,'Data Entry'!V46, IF(P$6<=$V$2,0,\"\"))","v":""},{"$f":"IF('Data Entry'!D91 > 0,'Data Entry'!D91, IF(Q$6<=$V$2,0,\"\"))","v":""},{"$f":"IF('Data Entry'!F91 > 0,'Data Entry'!F91, IF(R$6<=$V$2,0,\"\"))","v":""},{"$f":"IF('Data Entry'!H91 > 0,'Data Entry'!H91, IF(S$6<=$V$2,0,\"\"))","v":""},{"$f":"IF('Data Entry'!J91 > 0,'Data Entry'!J91, IF(T$6<=$V$2,0,\"\"))","v":""},{"$f":"IF('Data Entry'!L91 > 0,'Data Entry'!L91, IF(U$6<=$V$2,0,\"\"))","v":""},{"$f":"IF('Data Entry'!N91 > 0,'Data Entry'!N91, IF(V$6<=$V$2,0,\"\"))","v":""},{"$f":"IF('Data Entry'!P91 > 0,'Data Entry'!P91, IF(W$6<=$V$2,0,\"\"))","v":""},{"$f":"IF('Data Entry'!R91 > 0,'Data Entry'!R91, IF(X$6<=$V$2,0,\"\"))","v":""},{"$f":"IF('Data Entry'!T91 > 0,'Data Entry'!T91, IF(Y$6<=$V$2,0,\"\"))","v":""},{"$f":"IF('Data Entry'!V91 > 0,'Data Entry'!V91, IF(Z$6<=$V$2,0,\"\"))","v":""},{"$f":"IF('Data Entry'!D136 > 0,'Data Entry'!D136, IF(AA$6<=$V$2,0,\"\"))","v":""},{"$f":"IF('Data Entry'!F136 > 0,'Data Entry'!F136, IF(AB$6<=$V$2,0,\"\"))","v":""},{"$f":"IF('Data Entry'!H136 > 0,'Data Entry'!H136, IF(AC$6<=$V$2,0,\"\"))","v":""},{"$f":"IF('Data Entry'!J136 > 0,'Data Entry'!J136, IF(AD$6<=$V$2,0,\"\"))","v":""},{"$f":"IF('Data Entry'!L136 > 0,'Data Entry'!L136, IF(AE$6<=$V$2,0,\"\"))","v":""},{"$f":"IF('Data Entry'!N136 > 0,'Data Entry'!N136, IF(AF$6<=$V$2,0,\"\"))","v":""},{"$f":"IF('Data Entry'!P136 > 0,'Data Entry'!P136, IF(AG$6<=$V$2,0,\"\"))","v":""},{"$f":"IF('Data Entry'!R136 > 0,'Data Entry'!R136, IF(AH$6<=$V$2,0,\"\"))","v":""},{"$f":"IF('Data Entry'!T136 > 0,'Data Entry'!T136, IF(AI$6<=$V$2,0,\"\"))","v":""},{"$f":"IF('Data Entry'!V136 > 0,'Data Entry'!V136, IF(AJ$6<=$V$2,0,\"\"))","v":""},{"$f":"IF('Data Entry'!D181 > 0,'Data Entry'!D181, IF(AK$6<=$V$2,0,\"\"))","v":""},{"$f":"IF('Data Entry'!F181 > 0,'Data Entry'!F181, IF(AL$6<=$V$2,0,\"\"))","v":""},{"$f":"IF('Data Entry'!H181 > 0,'Data Entry'!H181, IF(AM$6<=$V$2,0,\"\"))","v":""},{"$f":"IF('Data Entry'!J181 > 0,'Data Entry'!J181, IF(AN$6<=$V$2,0,\"\"))","v":""},{"$f":"IF('Data Entry'!L181 > 0,'Data Entry'!L181, IF(AO$6<=$V$2,0,\"\"))","v":""},{"$f":"IF('Data Entry'!N181 > 0,'Data Entry'!N181, IF(AP$6<=$V$2,0,\"\"))","v":""},{"$f":"IF('Data Entry'!P181 > 0,'Data Entry'!P181, IF(AQ$6<=$V$2,0,\"\"))","v":""},{"$f":"IF('Data Entry'!R181 > 0,'Data Entry'!R181, IF(AR$6<=$V$2,0,\"\"))","v":""},{"$f":"IF('Data Entry'!T181 > 0,'Data Entry'!T181, IF(AS$6<=$V$2,0,\"\"))","v":""},{"$f":"IF('Data Entry'!V181 > 0,'Data Entry'!V181, IF(AT$6<=$V$2,0,\"\"))","v":""},{"$f":"IF('Data Entry'!D226 > 0,'Data Entry'!D226, IF(AU$6<=$V$2,0,\"\"))","v":""},{"$f":"IF('Data Entry'!F226 > 0,'Data Entry'!F226, IF(AV$6<=$V$2,0,\"\"))","v":""},{"$f":"IF('Data Entry'!H226 > 0,'Data Entry'!H226, IF(AW$6<=$V$2,0,\"\"))","v":""},{"$f":"IF('Data Entry'!J226 > 0,'Data Entry'!J226, IF(AX$6<=$V$2,0,\"\"))","v":""},{"$f":"IF('Data Entry'!L226 > 0,'Data Entry'!L226, IF(AY$6<=$V$2,0,\"\"))","v":""},{"$f":"IF('Data Entry'!N226 > 0,'Data Entry'!N226, IF(AZ$6<=$V$2,0,\"\"))","v":""},{"$f":"IF('Data Entry'!P226 > 0,'Data Entry'!P226, IF(BA$6<=$V$2,0,\"\"))","v":""},{"$f":"IF('Data Entry'!R226 > 0,'Data Entry'!R226, IF(BB$6<=$V$2,0,\"\"))","v":""},{"$f":"IF('Data Entry'!T226 > 0,'Data Entry'!T226, IF(BC$6<=$V$2,0,\"\"))","v":""},{"$f":"IF('Data Entry'!V226 > 0,'Data Entry'!V226, IF(BD$6<=$V$2,0,\"\"))","v":""},0,{"$f":"IF(BE9<>0,AVERAGE(G9:BD9),\"\")","v":""},{"$f":"IF(BE9<>0,BF9,\"\")","v":""}]
[null,null,"Mechanical Dmg",0,"",{"$f":"IF(D10<>0,E10,\"\")","v":""},{"$f":"IF('Data Entry'!D47 > 0,'Data Entry'!D47, IF(G$6<=$V$2,0,\"\"))","v":""},{"$f":"IF('Data Entry'!F47 > 0,'Data Entry'!F47, IF(H$6<=$V$2,0,\"\"))","v":""},{"$f":"IF('Data Entry'!H47 > 0,'Data Entry'!H47, IF(I$6<=$V$2,0,\"\"))","v":""},{"$f":"IF('Data Entry'!J47 > 0,'Data Entry'!J47, IF(J$6<=$V$2,0,\"\"))","v":""},{"$f":"IF('Data Entry'!L47 > 0,'Data Entry'!L47, IF(K$6<=$V$2,0,\"\"))","v":""},{"$f":"IF('Data Entry'!N47 > 0,'Data Entry'!N47, IF(L$6<=$V$2,0,\"\"))","v":""},{"$f":"IF('Data Entry'!P47 > 0,'Data Entry'!P47, IF(M$6<=$V$2,0,\"\"))","v":""},{"$f":"IF('Data Entry'!R47 > 0,'Data Entry'!R47, IF(N$6<=$V$2,0,\"\"))","v":""},{"$f":"IF('Data Entry'!T47 > 0,'Data Entry'!T47, IF(O$6<=$V$2,0,\"\"))","v":""},{"$f":"IF('Data Entry'!V47 > 0,'Data Entry'!V47, IF(P$6<=$V$2,0,\"\"))","v":""},{"$f":"IF('Data Entry'!D92 > 0,'Data Entry'!D92, IF(Q$6<=$V$2,0,\"\"))","v":""},{"$f":"IF('Data Entry'!F92 > 0,'Data Entry'!F92, IF(R$6<=$V$2,0,\"\"))","v":""},{"$f":"IF('Data Entry'!H92 > 0,'Data Entry'!H92, IF(S$6<=$V$2,0,\"\"))","v":""},{"$f":"IF('Data Entry'!J92 > 0,'Data Entry'!J92, IF(T$6<=$V$2,0,\"\"))","v":""},{"$f":"IF('Data Entry'!L92 > 0,'Data Entry'!L92, IF(U$6<=$V$2,0,\"\"))","v":""},{"$f":"IF('Data Entry'!N92 > 0,'Data Entry'!N92, IF(V$6<=$V$2,0,\"\"))","v":""},{"$f":"IF('Data Entry'!P92 > 0,'Data Entry'!P92, IF(W$6<=$V$2,0,\"\"))","v":""},{"$f":"IF('Data Entry'!R92 > 0,'Data Entry'!R92, IF(X$6<=$V$2,0,\"\"))","v":""},{"$f":"IF('Data Entry'!T92 > 0,'Data Entry'!T92, IF(Y$6<=$V$2,0,\"\"))","v":""},{"$f":"IF('Data Entry'!V92 > 0,'Data Entry'!V92, IF(Z$6<=$V$2,0,\"\"))","v":""},{"$f":"IF('Data Entry'!D137 > 0,'Data Entry'!D137, IF(AA$6<=$V$2,0,\"\"))","v":""},{"$f":"IF('Data Entry'!F137 > 0,'Data Entry'!F137, IF(AB$6<=$V$2,0,\"\"))","v":""},{"$f":"IF('Data Entry'!H137 > 0,'Data Entry'!H137, IF(AC$6<=$V$2,0,\"\"))","v":""},{"$f":"IF('Data Entry'!J137 > 0,'Data Entry'!J137, IF(AD$6<=$V$2,0,\"\"))","v":""},{"$f":"IF('Data Entry'!L137 > 0,'Data Entry'!L137, IF(AE$6<=$V$2,0,\"\"))","v":""},{"$f":"IF('Data Entry'!N137 > 0,'Data Entry'!N137, IF(AF$6<=$V$2,0,\"\"))","v":""},{"$f":"IF('Data Entry'!P137 > 0,'Data Entry'!P137, IF(AG$6<=$V$2,0,\"\"))","v":""},{"$f":"IF('Data Entry'!R137 > 0,'Data Entry'!R137, IF(AH$6<=$V$2,0,\"\"))","v":""},{"$f":"IF('Data Entry'!T137 > 0,'Data Entry'!T137, IF(AI$6<=$V$2,0,\"\"))","v":""},{"$f":"IF('Data Entry'!V137 > 0,'Data Entry'!V137, IF(AJ$6<=$V$2,0,\"\"))","v":""},{"$f":"IF('Data Entry'!D182 > 0,'Data Entry'!D182, IF(AK$6<=$V$2,0,\"\"))","v":""},{"$f":"IF('Data Entry'!F182 > 0,'Data Entry'!F182, IF(AL$6<=$V$2,0,\"\"))","v":""},{"$f":"IF('Data Entry'!H182 > 0,'Data Entry'!H182, IF(AM$6<=$V$2,0,\"\"))","v":""},{"$f":"IF('Data Entry'!J182 > 0,'Data Entry'!J182, IF(AN$6<=$V$2,0,\"\"))","v":""},{"$f":"IF('Data Entry'!L182 > 0,'Data Entry'!L182, IF(AO$6<=$V$2,0,\"\"))","v":""},{"$f":"IF('Data Entry'!N182 > 0,'Data Entry'!N182, IF(AP$6<=$V$2,0,\"\"))","v":""},{"$f":"IF('Data Entry'!P182 > 0,'Data Entry'!P182, IF(AQ$6<=$V$2,0,\"\"))","v":""},{"$f":"IF('Data Entry'!R182 > 0,'Data Entry'!R182, IF(AR$6<=$V$2,0,\"\"))","v":""},{"$f":"IF('Data Entry'!T182 > 0,'Data Entry'!T182, IF(AS$6<=$V$2,0,\"\"))","v":""},{"$f":"IF('Data Entry'!V182 > 0,'Data Entry'!V182, IF(AT$6<=$V$2,0,\"\"))","v":""},{"$f":"IF('Data Entry'!D227 > 0,'Data Entry'!D227, IF(AU$6<=$V$2,0,\"\"))","v":""},{"$f":"IF('Data Entry'!F227 > 0,'Data Entry'!F227, IF(AV$6<=$V$2,0,\"\"))","v":""},{"$f":"IF('Data Entry'!H227 > 0,'Data Entry'!H227, IF(AW$6<=$V$2,0,\"\"))","v":""},{"$f":"IF('Data Entry'!J227 > 0,'Data Entry'!J227, IF(AX$6<=$V$2,0,\"\"))","v":""},{"$f":"IF('Data Entry'!L227 > 0,'Data Entry'!L227, IF(AY$6<=$V$2,0,\"\"))","v":""},{"$f":"IF('Data Entry'!N227 > 0,'Data Entry'!N227, IF(AZ$6<=$V$2,0,\"\"))","v":""},{"$f":"IF('Data Entry'!P227 > 0,'Data Entry'!P227, IF(BA$6<=$V$2,0,\"\"))","v":""},{"$f":"IF('Data Entry'!R227 > 0,'Data Entry'!R227, IF(BB$6<=$V$2,0,\"\"))","v":""},{"$f":"IF('Data Entry'!T227 > 0,'Data Entry'!T227, IF(BC$6<=$V$2,0,\"\"))","v":""},{"$f":"IF('Data Entry'!V227 > 0,'Data Entry'!V227, IF(BD$6<=$V$2,0,\"\"))","v":""},0,"",{"$f":"IF(BE10<>0,BF10,\"\")","v":""}]
[null,null,"Other Issues",0,"","",{"$f":"IF('Data Entry'!D48 > 0,'Data Entry'!D48, IF(G$6<=$V$2,0,\"\"))","v":""},{"$f":"IF('Data Entry'!F48 > 0,'Data Entry'!F48, IF(H$6<=$V$2,0,\"\"))","v":""},{"$f":"IF('Data Entry'!H48 > 0,'Data Entry'!H48, IF(I$6<=$V$2,0,\"\"))","v":""},{"$f":"IF('Data Entry'!J48 > 0,'Data Entry'!J48, IF(J$6<=$V$2,0,\"\"))","v":""},{"$f":"IF('Data Entry'!L48 > 0,'Data Entry'!L48, IF(K$6<=$V$2,0,\"\"))","v":""},{"$f":"IF('Data Entry'!N48 > 0,'Data Entry'!N48, IF(L$6<=$V$2,0,\"\"))","v":""},{"$f":"IF('Data Entry'!P48 > 0,'Data Entry'!P48, IF(M$6<=$V$2,0,\"\"))","v":""},{"$f":"IF('Data Entry'!R48 > 0,'Data Entry'!R48, IF(N$6<=$V$2,0,\"\"))","v":""},{"$f":"IF('Data Entry'!T48 > 0,'Data Entry'!T48, IF(O$6<=$V$2,0,\"\"))","v":""},{"$f":"IF('Data Entry'!V48 > 0,'Data Entry'!V48, IF(P$6<=$V$2,0,\"\"))","v":""},{"$f":"IF('Data Entry'!D93 > 0,'Data Entry'!D93, IF(Q$6<=$V$2,0,\"\"))","v":""},{"$f":"IF('Data Entry'!F93 > 0,'Data Entry'!F93, IF(R$6<=$V$2,0,\"\"))","v":""},{"$f":"IF('Data Entry'!H93 > 0,'Data Entry'!H93, IF(S$6<=$V$2,0,\"\"))","v":""},{"$f":"IF('Data Entry'!J93 > 0,'Data Entry'!J93, IF(T$6<=$V$2,0,\"\"))","v":""},{"$f":"IF('Data Entry'!L93 > 0,'Data Entry'!L93, IF(U$6<=$V$2,0,\"\"))","v":""},{"$f":"IF('Data Entry'!N93 > 0,'Data Entry'!N93, IF(V$6<=$V$2,0,\"\"))","v":""},{"$f":"IF('Data Entry'!P93 > 0,'Data Entry'!P93, IF(W$6<=$V$2,0,\"\"))","v":""},{"$f":"IF('Data Entry'!R93 > 0,'Data Entry'!R93, IF(X$6<=$V$2,0,\"\"))","v":""},{"$f":"IF('Data Entry'!T93 > 0,'Data Entry'!T93, IF(Y$6<=$V$2,0,\"\"))","v":""},{"$f":"IF('Data Entry'!V93 > 0,'Data Entry'!V93, IF(Z$6<=$V$2,0,\"\"))","v":""},{"$f":"IF('Data Entry'!D138 > 0,'Data Entry'!D138, IF(AA$6<=$V$2,0,\"\"))","v":""},{"$f":"IF('Data Entry'!F138 > 0,'Data Entry'!F138, IF(AB$6<=$V$2,0,\"\"))","v":""},{"$f":"IF('Data Entry'!H138 > 0,'Data Entry'!H138, IF(AC$6<=$V$2,0,\"\"))","v":""},{"$f":"IF('Data Entry'!J138 > 0,'Data Entry'!J138, IF(AD$6<=$V$2,0,\"\"))","v":""},{"$f":"IF('Data Entry'!L138 > 0,'Data Entry'!L138, IF(AE$6<=$V$2,0,\"\"))","v":""},{"$f":"IF('Data Entry'!N138 > 0,'Data Entry'!N138, IF(AF$6<=$V$2,0,\"\"))","v":""},{"$f":"IF('Data Entry'!P138 > 0,'Data Entry'!P138, IF(AG$6<=$V$2,0,\"\"))","v":""},{"$f":"IF('Data Entry'!R138 > 0,'Data Entry'!R138, IF(AH$6<=$V$2,0,\"\"))","v":""},{"$f":"IF('Data Entry'!T138 > 0,'Data Entry'!T138, IF(AI$6<=$V$2,0,\"\"))","v":""},{"$f":"IF('Data Entry'!V138 > 0,'Data Entry'!V138, IF(AJ$6<=$V$2,0,\"\"))","v":""},{"$f":"IF('Data Entry'!D183 > 0,'Data Entry'!D183, IF(AK$6<=$V$2,0,\"\"))","v":""},{"$f":"IF('Data Entry'!F183 > 0,'Data Entry'!F183, IF(AL$6<=$V$2,0,\"\"))","v":""},{"$f":"IF('Data Entry'!H183 > 0,'Data Entry'!H183, IF(AM$6<=$V$2,0,\"\"))","v":""},{"$f":"IF('Data Entry'!J183 > 0,'Data Entry'!J183, IF(AN$6<=$V$2,0,\"\"))","v":""},{"$f":"IF('Data Entry'!L183 > 0,'Data Entry'!L183, IF(AO$6<=$V$2,0,\"\"))","v":""},{"$f":"IF('Data Entry'!N183 > 0,'Data Entry'!N183, IF(AP$6<=$V$2,0,\"\"))","v":""},{"$f":"IF('Data Entry'!P183 > 0,'Data Entry'!P183, IF(AQ$6<=$V$2,0,\"\"))","v":""},{"$f":"IF('Data Entry'!R183 > 0,'Data Entry'!R183, IF(AR$6<=$V$2,0,\"\"))","v":""},{"$f":"IF('Data Entry'!T183 > 0,'Data Entry'!T183, IF(AS$6<=$V$2,0,\"\"))","v":""},{"$f":"IF('Data Entry'!V183 > 0,'Data Entry'!V183, IF(AT$6<=$V$2,0,\"\"))","v":""},{"$f":"IF('Data Entry'!D228 > 0,'Data Entry'!D228, IF(AU$6<=$V$2,0,\"\"))","v":""},{"$f":"IF('Data Entry'!F228 > 0,'Data Entry'!F228, IF(AV$6<=$V$2,0,\"\"))","v":""},{"$f":"IF('Data Entry'!H228 > 0,'Data Entry'!H228, IF(AW$6<=$V$2,0,\"\"))","v":""},{"$f":"IF('Data Entry'!J228 > 0,'Data Entry'!J228, IF(AX$6<=$V$2,0,\"\"))","v":""},{"$f":"IF('Data Entry'!L228 > 0,'Data Entry'!L228, IF(AY$6<=$V$2,0,\"\"))","v":""},{"$f":"IF('Data Entry'!N228 > 0,'Data Entry'!N228, IF(AZ$6<=$V$2,0,\"\"))","v":""},{"$f":"IF('Data Entry'!P228 > 0,'Data Entry'!P228, IF(BA$6<=$V$2,0,\"\"))","v":""},{"$f":"IF('Data Entry'!R228 > 0,'Data Entry'!R228, IF(BB$6<=$V$2,0,\"\"))","v":""},{"$f":"IF('Data Entry'!T228 > 0,'Data Entry'!T228, IF(BC$6<=$V$2,0,\"\"))","v":""},{"$f":"IF('Data Entry'!V228 > 0,'Data Entry'!V228, IF(BD$6<=$V$2,0,\"\"))","v":""},0,"",""]

{"sheet":"Data Summaries","index":9,"n_rows":34,"n_cols":21,"rows_kept":34,"merged":[[0,1,0,3],[0,4,0,5],[0,8,0,9],[0,10,0,13],[0,16,0,18],[0,19,0,20],[1,1,1,3],[1,4,1,5],[1,8,1,9],[1,10,1,13],[1,16,1,18],[1,19,1,20],[2,1,2,3],[2,4,2,5],[2,16,2,18],[2,19,2,20],[4,1,4,7],[4,9,4,15],[4,17,9,17],[4,18,4,19],[5,1,23,1],[5,9,23,9],[5,18,5,19],[6,18,6,19],[7,18,7,19],[8,18,8,19],[9,18,9,19],[12,17,12,18],[13,17,22,20],[28,17,28,20],[29,17,29,19],[30,17,30,19],[31,17,31,19],[32,17,32,19],[33,17,33,19]]}
[null,"Tract # / Stand ID:",null,null,{"$f":"IF('Data Entry'!D1<>0, 'Data Entry'!D1, \"\")","v":""},null,null,"Date:",{"$f":"IF('Data Entry'!J1<>0, 'Data Entry'!J1,\"\")","v":""},null,"Prism Factor:",{"$nulls":4},{"$f":"IF('Data Entry'!P1 <> 0, 'Data Entry'!P1, \"\")","v":""},"Fixed Plot Radius:",null,null,{"$f":"IF('Data Entry'!V1 <> 0, 'Data Entry'!V1, \"\")","v":""}]
[null,"SI Species:",null,null,{"$f":"IF('Data Entry'!D2<>0, 'Data Entry'!D2, \"\")","v":""},null,null,"Stand Age:",{"$f":"IF('Data Entry'!J2<>0, 'Data Entry'!J2, \"\")","v":""},null,"Site Index (base age 50):",{"$nulls":4},{"$f":"IF('Data Entry'!P2 <> 0, 'Data Entry'!P2, \"\")","v":""},"Number of Plots:",null,null,{"$f":"IF('Data Entry'!V2 <> 0, 'Data Entry'!V2, \"\")","v":""}]
[null,"Estimated DBH:",null,null,{"$f":"IF('Data Entry'!D3<>0, 'Data Entry'!D3, \"\")","v":""},{"$nulls":11},"Planting Density:",null,null,{"$f":"IF('Data Entry'!V3 <> 0, 'Data Entry'!V3, \"\")","v":""}]
[]
[null,"Basal Area",{"$nulls":7},"Trees per Acre",{"$nulls":7},"Other Limiting\nFactors","Factor",null,{"$f":"'OTHER FACTORS CALC'!F6","v":"% of plots"}]
[null,"Overstory","Species","BA/Acre","% of Total","CV1","Crown Class AVG","Crown Class Avg",null,"Regeneration","Species","TPA2","% of Total","CV1","Crown Class AVG","Crown Class Avg",null,null,"Invasive Species:",null,{"$f":"'OTHER FACTORS CALC'!F7","v":""}]
[null,null,{"$f":"'OVERSTORY CALC'!C7","v":""},{"$f":"'OVERSTORY CALC'!E7","v":""},{"$f":"'OVERSTORY CALC'!F7","v":""},{"$f":"'OVERSTORY CALC'!L7","v":""},{"$f":"'OVERSTORY CALC'!E30","v":""},{"$f":"'OVERSTORY CALC'!H30","v":""},null,null,{"$f":"'REGENERATION CALC'!C7","v":""},{"$f":"'REGENERATION CALC'!E7","v":""},{"$f":"'REGENERATION CALC'!F7","v":""},{"$f":"'REGENERATION CALC'!N7","v":""},{"$f":"'REGENERATION CALC'!E30","v":""},{"$f":"'REGENERATION CALC'!H30","v":""},null,null,"Deer Browse: ",null,{"$f":"'OTHER FACTORS CALC'!F8","v":""}]
[null,null,{"$f":"'OVERSTORY CALC'!C8","v":""},{"$f":"'OVERSTORY CALC'!E8","v":""},{"$f":"'OVERSTORY CALC'!F8","v":""},{"$f":"'OVERSTORY CALC'!L8","v":""},{"$f":"'OVERSTORY CALC'!E31","v":""},{"$f":"'OVERSTORY CALC'!H31","v":""},null,null,{"$f":"'REGENERATION CALC'!C8","v":""},{"$f":"'REGENERATION CALC'!E8","v":""},{"$f":"'REGENERATION CALC'!F8","v":""},{"$f":"'REGENERATION CALC'!N8","v":""},{"$f":"'REGENERATION CALC'!E31","v":""},{"$f":"'REGENERATION CALC'!H31","v":""},null,null,"Pest/Pathogen: ",null,{"$f":"'OTHER FACTORS CALC'!F9","v":""}]
[null,null,{"$f":"'OVERSTORY CALC'!C9","v":""},{"$f":"'OVERSTORY CALC'!E9","v":""},{"$f":"'OVERSTORY CALC'!F9","v":""},{"$f":"'OVERSTORY CALC'!L9","v":""},{"$f":"'OVERSTORY CALC'!E32","v":""},{"$f":"'OVERSTORY CALC'!H32","v":""},null,null,{"$f":"'REGENERATION CALC'!C9","v":""},{"$f":"'REGENERATION CALC'!E9","v":""},{"$f":"'REGENERATION CALC'!F9","v":""},{"$f":"'REGENERATION CALC'!N9","v":""},{"$f":"'REGENERATION CALC'!E32","v":""},{"$f":"'REGENERATION CALC'!H32","v":""},null,null,"Mechanical Dmg: ",null,{"$f":"'OTHER FACTORS CALC'!F10","v":""}]
[null,null,{"$f":"'OVERSTORY CALC'!C10","v":""},{"$f":"'OVERSTORY CALC'!E10","v":""},{"$f":"'OVERSTORY CALC'!F10","v":""},{"$f":"'OVERSTORY CALC'!L10","v":""},{"$f":"'OVERSTORY CALC'!E33","v":""},{"$f":"'OVERSTORY CALC'!H33","v":""},null,null,{"$f":"'REGENERATION CALC'!C10","v":""},{"$f":"'REGENERATION CALC'!E10","v":""},{"$f":"'REGENERATION CALC'!F10","v":""},{"$f":"'REGENERATION CALC'!N10","v":""},{"$f":"'REGENERATION CALC'!E33","v":""},{"$f":"'REGENERATION CALC'!H33","v":""},null,null,"Other Issues: ",null,{"$f":"'OTHER FACTORS CALC'!F11","v":""}]
[null,null,{"$f":"'OVERSTORY CALC'!C11","v":""},{"$f":"'OVERSTORY CALC'!E11","v":""},{"$f":"'OVERSTORY CALC'!F11","v":""},{"$f":"'OVERSTORY CALC'!L11","v":""},{"$f":"'OVERSTORY CALC'!E34","v":""},{"$f":"'OVERSTORY CALC'!H34","v":""},null,null,{"$f":"'REGENERATION CALC'!C11","v":""},{"$f":"'REGENERATION CALC'!E11","v":""},{"$f":"'REGENERATION CALC'!F11","v":""},{"$f":"'REGENERATION CALC'!N11","v":""},{"$f":"'REGENERATION CALC'!E34","v":""},{"$f":"'REGENERATION CALC'!H34","v":""}]
[null,null,{"$f":"'OVERSTORY CALC'!C12","v":""},{"$f":"'OVERSTORY CALC'!E12","v":""},{"$f":"'OVERSTORY CALC'!F12","v":""},{"$f":"'OVERSTORY CALC'!L12","v":""},{"$f":"'OVERSTORY CALC'!E35","v":""},{"$f":"'OVERSTORY CALC'!H35","v":""},null,null,{"$f":"'REGENERATION CALC'!C12","v":""},{"$f":"'REGENERATION CALC'!E12","v":""},{"$f":"'REGENERATION CALC'!F12","v":""},{"$f":"'REGENERATION CALC'!N12","v":""},{"$f":"'REGENERATION CALC'!E35","v":""},{"$f":"'REGENERATION CALC'!H35","v":""}]
[null,null,{"$f":"'OVERSTORY CALC'!C13","v":""},{"$f":"'OVERSTORY CALC'!E13","v":""},{"$f":"'OVERSTORY CALC'!F13","v":""},{"$f":"'OVERSTORY CALC'!L13","v":""},{"$f":"'OVERSTORY CALC'!E36","v":""},{"$f":"'OVERSTORY CALC'!H36","v":""},null,null,{"$f":"'REGENERATION CALC'!C13","v":""},{"$f":"'REGENERATION CALC'!E13","v":""},{"$f":"'REGENERATION CALC'!F13","v":""},{"$f":"'REGENERATION CALC'!N13","v":""},{"$f":"'REGENERATION CALC'!E36","v":""},{"$f":"'REGENERATION CALC'!H36","v":""},null,"Comments: "]
[null,null,{"$f":"'OVERSTORY CALC'!C14","v":""},{"$f":"'OVERSTORY CALC'!E14","v":""},{"$f":"'OVERSTORY CALC'!F14","v":""},{"$f":"'OVERSTORY CALC'!L14","v":""},{"$f":"'OVERSTORY CALC'!E37","v":""},{"$f":"'OVERSTORY CALC'!H37","v":""},null,null,{"$f":"'REGENERATION CALC'!C14","v":""},{"$f":"'REGENERATION CALC'!E14","v":""},{"$f":"'REGENERATION CALC'!F14","v":""},{"$f":"'REGENERATION CALC'!N14","v":""},{"$f":"'REGENERATION CALC'!E37","v":""},{"$f":"'REGENERATION CALC'!H37","v":""},null,{"$f":"IF('Data Entry'!$Y$9 = 0, \"\", 'Data Entry'!$Y$9)","v":""}]
[null,null,{"$f":"'OVERSTORY CALC'!C15","v":""},{"$f":"'OVERSTORY CALC'!E15","v":""},{"$f":"'OVERSTORY CALC'!F15","v":""},{"$f":"'OVERSTORY CALC'!L15","v":""},{"$f":"'OVERSTORY CALC'!E38","v":""},{"$f":"'OVERSTORY CALC'!H38","v":""},null,null,{"$f":"'REGENERATION CALC'!C15","v":""},{"$f":"'REGENERATION CALC'!E15","v":""},{"$f":"'REGENERATION CALC'!F15","v":""},{"$f":"'REGENERATION CALC'!N15","v":""},{"$f":"'REGENERATION CALC'!E38","v":""},{"$f":"'REGENERATION CALC'!H38","v":""}]
[null,null,{"$f":"'OVERSTORY CALC'!C16","v":""},{"$f":"'OVERSTORY CALC'!E16","v":""},{"$f":"'OVERSTORY CALC'!F16","v":""},{"$f":"'OVERSTORY CALC'!L16","v":""},{"$f":"'OVERSTORY CALC'!E39","v":""},{"$f":"'OVERSTORY CALC'!H39","v":""},null,null,{"$f":"'REGENERATION CALC'!C16","v":""},{"$f":"'REGENERATION CALC'!E16","v":""},{"$f":"'REGENERATION CALC'!F16","v":""},{"$f":"'REGENERATION CALC'!N16","v":""},{"$f":"'REGENERATION CALC'!E39","v":""},{"$f":"'REGENERATION CALC'!H39","v":""}]
[null,null,{"$f":"'OVERSTORY CALC'!C17","v":""},{"$f":"'OVERSTORY CALC'!E17","v":""},{"$f":"'OVERSTORY CALC'!F17","v":""},{"$f":"'OVERSTORY CALC'!L17","v":""},{"$f":"'OVERSTORY CALC'!E40","v":""},{"$f":"'OVERSTORY CALC'!H40","v":""},null,null,{"$f":"'REGENERATION CALC'!C17","v":""},{"$f":"'REGENERATION CALC'!E17","v":""},{"$f":"'REGENERATION CALC'!F17","v":""},{"$f":"'REGENERATION CALC'!N17","v":""},{"$f":"'REGENERATION CALC'!E40","v":""},{"$f":"'REGENERATION CALC'!H40","v":""}]
[null,null,{"$f":"'OVERSTORY CALC'!C18","v":""},{"$f":"'OVERSTORY CALC'!E18","v":""},{"$f":"'OVERSTORY CALC'!F18","v":""},{"$f":"'OVERSTORY CALC'!L18","v":""},{"$f":"'OVERSTORY CALC'!E41","v":""},{"$f":"'OVERSTORY CALC'!H41","v":""},null,null,{"$f":"'REGENERATION CALC'!C18","v":""},{"$f":"'REGENERATION CALC'!E18","v":""},{"$f":"'REGENERATION CALC'!F18","v":""},{"$f":"'REGENERATION CALC'!N18","v":""},{"$f":"'REGENERATION CALC'!E41","v":""},{"$f":"'REGENERATION CALC'!H41","v":""}]
[null,null,{"$f":"'OVERSTORY CALC'!C19","v":""},{"$f":"'OVERSTORY CALC'!E19","v":""},{"$f":"'OVERSTORY CALC'!F19","v":""},{"$f":"'OVERSTORY CALC'!L19","v":""},{"$f":"'OVERSTORY CALC'!E42","v":""},{"$f":"'OVERSTORY CALC'!H42","v":""},null,null,{"$f":"'REGENERATION CALC'!C19","v":""},{"$f":"'REGENERATION CALC'!E19","v":""},{"$f":"'REGENERATION CALC'!F19","v":""},{"$f":"'REGENERATION CALC'!N19","v":""},{"$f":"'REGENERATION CALC'!E42","v":""},{"$f":"'REGENERATION CALC'!H42","v":""}]
[null,null,{"$f":"'OVERSTORY CALC'!C20","v":""},{"$f":"'OVERSTORY CALC'!E20","v":""},{"$f":"'OVERSTORY CALC'!F20","v":""},{"$f":"'OVERSTORY CALC'!L20","v":""},{"$f":"'OVERSTORY CALC'!E43","v":""},{"$f":"'OVERSTORY CALC'!H43","v":""},null,null,{"$f":"'REGENERATION CALC'!C20","v":""},{"$f":"'REGENERATION CALC'!E20","v":""},{"$f":"'REGENERATION CALC'!F20","v":""},{"$f":"'REGENERATION CALC'!N20","v":""},{"$f":"'REGENERATION CALC'!E43","v":""},{"$f":"'REGENERATION CALC'!H43","v":""}]
[null,null,{"$f":"'OVERSTORY CALC'!C21","v":""},{"$f":"'OVERSTORY CALC'!E21","v":""},{"$f":"'OVERSTORY CALC'!F21","v":""},{"$f":"'OVERSTORY CALC'!L21","v":""},{"$f":"'OVERSTORY CALC'!E44","v":""},{"$f":"'OVERSTORY CALC'!H44","v":""},null,null,{"$f":"'REGENERATION CALC'!C21","v":""},{"$f":"'REGENERATION CALC'!E21","v":""},{"$f":"'REGENERATION CALC'!F21","v":""},{"$f":"'REGENERATION CALC'!N21","v":""},{"$f":"'REGENERATION CALC'!E44","v":""},{"$f":"'REGENERATION CALC'!H44","v":""}]
[null,null,{"$f":"'OVERSTORY CALC'!C22","v":""},{"$f":"'OVERSTORY CALC'!E22","v":""},{"$f":"'OVERSTORY CALC'!F22","v":""},{"$f":"'OVERSTORY CALC'!L22","v":""},{"$f":"'OVERSTORY CALC'!E45","v":""},{"$f":"'OVERSTORY CALC'!H45","v":""},null,null,{"$f":"'REGENERATION CALC'!C22","v":""},{"$f":"'REGENERATION CALC'!E22","v":""},{"$f":"'REGENERATION CALC'!F22","v":""},{"$f":"'REGENERATION CALC'!N22","v":""},{"$f":"'REGENERATION CALC'!E45","v":""},{"$f":"'REGENERATION CALC'!H45","v":""}]
[null,null,{"$f":"'OVERSTORY CALC'!C23","v":""},{"$f":"'OVERSTORY CALC'!E23","v":""},{"$f":"'OVERSTORY CALC'!F23","v":""},{"$f":"'OVERSTORY CALC'!L23","v":""},{"$f":"'OVERSTORY CALC'!E46","v":""},{"$f":"'OVERSTORY CALC'!H46","v":""},null,null,{"$f":"'REGENERATION CALC'!C23","v":""},{"$f":"'REGENERATION CALC'!E23","v":""},{"$f":"'REGENERATION CALC'!F23","v":""},{"$f":"'REGENERATION CALC'!N23","v":""},{"$f":"'REGENERATION CALC'!E46","v":""},{"$f":"'REGENERATION CALC'!H46","v":""}]
[null,null,{"$f":"'OVERSTORY CALC'!C24","v":"Overall"},{"$f":"'OVERSTORY CALC'!E24","v":""},{"$f":"'OVERSTORY CALC'!F24","v":""},{"$f":"'OVERSTORY CALC'!L24","v":""},{"$nulls":4},{"$f":"'REGENERATION CALC'!C24","v":"Overall"},{"$f":"'REGENERATION CALC'!E24","v":""},{"$f":"'REGENERATION CALC'!F24","v":""},{"$f":"'REGENERATION CALC'!N24","v":""}]
[]
[{"$nulls":4},"Low Variability",{"v":1.2,"d":"120%"}]
[{"$nulls":4},"Moderate Variability","120% to 240%"]
[{"$nulls":4},"High Variability",{"v":2.4,"d":"240%"}]
[null,"1 CV = Coefficient of Variation",{"$nulls":15},"Tree Plantings"]
[null,"2 TPA = Trees per Acre",{"$nulls":15},"Stocking % of Planting: ",null,null,{"$f":"IF('Data Entry'!V3<>0,U31/'Data Entry'!V3,\"\")","v":""}]
[null,null,"= Well Distributed",{"$nulls":14},"Average Stocking: ",null,null,{"$f":"IF('Data Entry'!V3<>0,'REGENERATION CALC'!E24,\"\")","v":""}]
[null,null,"= Moderately Distributed",{"$nulls":14},"Coeff. of Variation: ",null,null,{"$f":"IF('Data Entry'!V3<>0,'REGENERATION CALC'!N24,\"\")","v":""}]
[null,null,"= Poorly Distributed",{"$nulls":14},"Min TPA per Plot: ",null,null,{"$f":"IF('Data Entry'!V3<>0,MIN('REGENERATION CALC'!O25:BL25),\"\")","v":""}]
[{"$nulls":17},"Max TPA per Plot: ",null,null,{"$f":"IF('Data Entry'!V3<>0,MAX('REGENERATION CALC'!O25:BL25),\"\")","v":""}]

{"sheet":"Quick Summaries","index":10,"n_rows":21,"n_cols":26,"rows_kept":21,"hidden":true,"merged":[[1,1,1,2],[1,8,3,10],[2,1,2,2],[3,1,3,2],[5,1,20,1],[5,10,20,10],[5,21,10,21]]}
[]
[null,"Number of Plots:",{"$nulls":6},"Must be enterred in order\nfor summary to function."]
[null,"Prism Factor:"]
[null,"Regen Plot Radius:"]
[]
[null,"Overstory","Species","Total Tally\n(all plots)",null,null,"Avg BA",null,"% of BA",null,"Regeneration","Species","Total Tally\n(all plots)",{"$nulls":4},"Per Acre",null,"% of Stems",null,"Other Limiting\nFactors","Factor","Total Tally\n(all plots)",null,"% of plots"]
[{"$nulls":4},{"$f":"$D$2","v":0},{"$f":"$D$3","v":0},{"$f":"IF(D7<>\"\",(D7/E7)*F7,\"\")","v":""},{"$f":"$G$21","v":{"v":0,"d":"0.0"}},{"$f":"IF(D7<>\"\",G7/H7,\"\")","v":""},{"$nulls":4},{"$f":"$D$2","v":0},{"$f":"$D$4","v":{"v":0,"d":"0.0"}},{"$f":"PI()","v":3.141592653589793},{"$f":"((O7^2)*P7)/43560","v":0},{"$f":"IF(M7<>\"\",(M7/Q7)/N7,\"\")","v":""},{"$f":"$R$21","v":0},{"$f":"IF(M7<>\"\",R7/S7,\"\")","v":""},null,null,"Invasive Species",null,{"$f":"$D$2","v":0},{"$f":"IF(X7<>\"\",X7/Y7,\"\")","v":""}]
[{"$nulls":4},0,0,{"$f":"IF(D8<>\"\",(D8/E8)*F8,\"\")","v":""},{"v":0,"d":"0.0"},{"$f":"IF(D8<>\"\",G8/H8,\"\")","v":""},{"$nulls":4},0,{"v":0,"d":"0.0"},{"$f":"PI()","v":3.141592653589793},{"$f":"((O8^2)*P8)/43560","v":0},{"$f":"IF(M8<>\"\",(M8/Q8)/N8,\"\")","v":""},{"$f":"$R$21","v":0},{"$f":"IF(M8<>\"\",R8/S8,\"\")","v":""},null,null,"Deer Browse",null,{"$f":"$D$2","v":0},{"$f":"IF(X8<>\"\",X8/Y8,\"\")","v":""}]
[{"$nulls":4},0,0,"",{"v":0,"d":"0.0"},"",{"$nulls":4},0,{"v":0,"d":"0.0"},{"$f":"PI()","v":3.141592653589793},0,"",0,"",null,null,"Pest/Pathogen",null,{"$f":"$D$2","v":0},""]
[{"$nulls":4},0,0,"",{"v":0,"d":"0.0"},"",{"$nulls":4},0,{"v":0,"d":"0.0"},{"$f":"PI()","v":3.141592653589793},0,"",0,"",null,null,"Mechanical Dmg",null,{"$f":"$D$2","v":0},""]
[{"$nulls":4},0,0,"",{"v":0,"d":"0.0"},"",{"$nulls":4},0,{"v":0,"d":"0.0"},{"$f":"PI()","v":3.141592653589793},0,"",0,"",null,null,"Other Issues",null,{"$f":"$D$2","v":0},""]
[{"$nulls":4},0,0,"",{"v":0,"d":"0.0"},"",{"$nulls":4},0,{"v":0,"d":"0.0"},{"$f":"PI()","v":3.141592653589793},0,"",0,""]
[{"$nulls":4},0,0,"",{"v":0,"d":"0.0"},"",{"$nulls":4},0,{"v":0,"d":"0.0"},{"$f":"PI()","v":3.141592653589793},0,"",0,""]
[{"$nulls":4},0,0,"",{"v":0,"d":"0.0"},"",{"$nulls":4},0,{"v":0,"d":"0.0"},{"$f":"PI()","v":3.141592653589793},0,"",0,""]
[{"$nulls":4},0,0,"",{"v":0,"d":"0.0"},"",{"$nulls":4},0,{"v":0,"d":"0.0"},{"$f":"PI()","v":3.141592653589793},0,"",0,""]
[{"$nulls":4},0,0,"",{"v":0,"d":"0.0"},"",{"$nulls":4},0,{"v":0,"d":"0.0"},{"$f":"PI()","v":3.141592653589793},0,"",0,""]
[{"$nulls":4},0,0,"",{"v":0,"d":"0.0"},"",{"$nulls":4},0,{"v":0,"d":"0.0"},{"$f":"PI()","v":3.141592653589793},0,"",0,""]
[{"$nulls":4},0,0,"",{"v":0,"d":"0.0"},"",{"$nulls":4},0,{"v":0,"d":"0.0"},{"$f":"PI()","v":3.141592653589793},0,"",0,""]
[{"$nulls":4},0,0,"",{"v":0,"d":"0.0"},"",{"$nulls":4},0,{"v":0,"d":"0.0"},{"$f":"PI()","v":3.141592653589793},0,"",0,""]
[{"$nulls":4},0,0,"",{"v":0,"d":"0.0"},"",{"$nulls":4},0,{"v":0,"d":"0.0"},{"$f":"PI()","v":3.141592653589793},0,"",0,""]
[{"$nulls":3},"Total",null,"Total",{"$f":"SUM(G7:G20)","v":{"v":0,"d":"0.0"}},{"$nulls":5},"Total",null,"Total",null,null,{"$f":"SUM(R7:R20)","v":0}]

{"sheet":"Species Lists","index":11,"n_rows":79,"n_cols":39,"rows_kept":79,"merged":[[1,1,1,9],[1,29,6,29],[1,30,6,30],[1,31,6,31],[1,32,6,32],[1,33,6,33],[1,34,6,34],[1,35,6,35],[1,36,6,36],[1,37,6,37],[1,38,6,38],[2,1,2,9],[3,1,3,9],[4,1,4,9],[5,1,5,9],[7,1,7,4],[7,10,7,12],[7,13,7,14],[7,15,7,16],[7,17,7,18],[7,19,7,21],[7,23,7,25],[8,1,8,2],[8,10,8,12],[8,13,8,14],[8,15,8,16],[8,17,8,18],[8,19,8,21],[8,23,8,25],[9,1,9,2],[9,10,9,12],[9,13,9,14],[9,23,9,25],[11,1,11,4],[11,6,11,13],[11,15,11,26],[12,6,12,13],[12,15,12,26],[13,1,14,1],[13,2,14,2],[13,3,14,3],[13,4,14,4],[13,6,13,7],[13,8,13,9],[13,10,13,11],[13,12,13,13],[13,15,13,17],[13,18,13,20],[13,21,13,23],[13,24,13,26],[14,6,14,7],[14,8,14,9],[14,10,14,11],[14,12,14,13]]}
[]
[null,"Rank the species found in this stand as optimal, acceptable, minimal or unacceptable for achieving the  landowner objective on this specific site.  Modify the default list as necessary and add any additional species tallied on the plots but not already on the default list.  Use the following definitions to help with placing species into the appropriate categories.",{"$nulls":27},"Species List- Forest Health","Species List- Oak Restoration","Species List- Timber Income","Species in sample","Check: Sampled species in Forest Health Obj.  1=yes, 0=no","Not in FOREST HEALTH Species List","Check: Sampled species in Oak Restoration Obj.  1=yes, 0=no","Not in OAK RESTORATION Species List","Check: Sampled species in Timber Income Obj.  1=yes, 0=no","Not in TIMBER INCOME Species List"]
[null,"• Optimal – species are not known to have significant pest or disease issues, can provide high timber value and wildlife benefits, and have longer lifespans."]
[null,"• Acceptable – species are well-suited to the site but may have lower timber value, provide less wildlife benefit, have shorter lifespans, or might suffer from pests or disease."]
[null,"• Minimal – species are native but provide little or no timber value, little or no wildlife benefit, have shorter lifespans, or are highly likely to suffer from pests or disease."]
[null,"• Unacceptable – non-native invasive species."]
[{"$nulls":32},"Species in sample"]
[null,"STILL NEED  TO CLASSIFY",{"$nulls":8},"Tract # / Stand ID:",null,null,{"$f":"IF('Data Entry'!D1<>0, 'Data Entry'!D1, \"\")","v":""},null,"Date:",null,{"$f":"IF('Data Entry'!J1<>0, 'Data Entry'!J1,\"\")","v":""},null,"Prism Factor:",null,null,{"$f":"IF('Data Entry'!P1 <> 0, 'Data Entry'!P1, \"\")","v":""},"Fixed Plot Radius:",null,null,{"$f":"IF('Data Entry'!V1 <> 0, 'Data Entry'!V1, \"\")","v":""},null,null,{"$f":"B16","v":"NRO"},{"$f":"#REF!","v":{"$error":"#REF!"}},{"$f":"#REF!","v":{"$error":"#REF!"}},{"$f":"'Data Entry'!C7","v":0},{"$f":"N(ISNUMBER(_xlfn.IFNA(MATCH(AG8,$AD$8:$AD$79,0),AG8)))","v":1},{"$f":"IF(AH8=0,AG8,\"\")","v":""},{"$f":"N(ISNUMBER(_xlfn.IFNA(MATCH(AG8,$AE$8:$AE$33,0),AG8)))","v":1},{"$f":"IF(AJ8=0,AG8,\"\")","v":""},{"$f":"N(ISNUMBER(_xlfn.IFNA(MATCH(AG8,$AF$8:$AF$33,0),AG8)))","v":1},{"$f":"IF(AL8=0,AG8,\"\")","v":""}]
[null,"OVERSTORY:",null,{"$f":"IF(AH8=0, AG8,IF(AH9=0, AG9, IF(AH10=0, AG10, IF(AH11=0, AG11, IF(AH12=0, AG12, IF(AH13=0,AG13, IF(AH14=0, AG14, IF(AH15=0, AG15, IF(AH16=0, AG16, IF(AH17=0, AG17, IF(AH18=0, AG18, IF(AH19=0, AG19, IF(AH20=0, AG20, IF(AH21=0, AG21, IF(AH22=0, AG22, IF(AH23=0, AG23, IF(AH24=0, AG24, \"\")))))))))))))))))","v":""},{"$nulls":6},"SI Species:",null,null,{"$f":"IF('Data Entry'!D2<>0, 'Data Entry'!D2, \"\")","v":""},null,"Stand Age:",null,{"$f":"IF('Data Entry'!J2<>0, 'Data Entry'!J2, \"\")","v":""},null,"Site Index (base age 50):",null,null,{"$f":"IF('Data Entry'!P2 <> 0, 'Data Entry'!P2, \"\")","v":""},"Number of Plots:",null,null,{"$f":"IF('Data Entry'!V2 <> 0, 'Data Entry'!V2, \"\")","v":""},null,null,"SRO",{"$f":"#REF!","v":{"$error":"#REF!"}},{"$f":"#REF!","v":{"$error":"#REF!"}},{"$f":"'Data Entry'!C8","v":0},{"$f":"N(ISNUMBER(_xlfn.IFNA(MATCH(AG9,$AD$8:$AD$79,0),AG9)))","v":1},{"$f":"IF(AH9=0,AG9,\"\")","v":""},1,{"$f":"IF(AJ9=0,AG9,\"\")","v":""},1,{"$f":"IF(AL9=0,AG9,\"\")","v":""}]
[null,"REGENERATION:",null,{"$f":"IF(AH25=0, AG25,IF(AH26=0, AG26, IF(AH27=0, AG27, IF(AH28=0, AG28, IF(AH29=0, AG29, IF(AH30=0,AG30, IF(AH31=0, AG31, IF(AH32=0, AG32, IF(AH33=0, AG33, IF(AH34=0,AG34, IF(AH35= 0,AG35, IF(AH36= 0,AG36, IF(AH37= 0,AG37, IF(AH38= 0,AG38, IF(AH39= 0,AG39, IF(AH40= 0,AG40, IF(AH41= 0,AG41, \"\")))))))))))))))))","v":""},{"$nulls":6},"Estimated DBH:",null,null,{"$f":"IF('Data Entry'!D3<>0, 'Data Entry'!D3, \"\")","v":""},{"$nulls":9},"Planting Density:",null,null,{"$f":"IF('Data Entry'!V3 <> 0, 'Data Entry'!V3, \"\")","v":""},null,null,"WHO",{"$f":"#REF!","v":{"$error":"#REF!"}},{"$f":"#REF!","v":{"$error":"#REF!"}},{"$f":"'Data Entry'!C9","v":0},1,"",1,"",1,""]
[{"$nulls":29},"YEP",{"$f":"#REF!","v":{"$error":"#REF!"}},{"$f":"#REF!","v":{"$error":"#REF!"}},{"$f":"'Data Entry'!C10","v":0},1,"",1,"",1,""]
[null,"Default Species List",{"$nulls":4},"Default Species List",{"$nulls":8},"Default Species List",{"$nulls":13},"HIC",{"$f":"#REF!","v":{"$error":"#REF!"}},{"$f":"#REF!","v":{"$error":"#REF!"}},{"$f":"'Data Entry'!C11","v":0},1,"",1,"",1,""]
[{"$nulls":6},"OVERSTORY BASAL AREA PERCENTAGE",{"$nulls":8},"REGENERATION TREES PER ACRE",{"$nulls":13},"BLO",{"$f":"#REF!","v":{"$error":"#REF!"}},{"$f":"#REF!","v":{"$error":"#REF!"}},{"$f":"'Data Entry'!C12","v":0},1,"",1,"",1,""]
[null,"Optimal","Acceptable","Minimal","Unacceptable",null,"Optimal",null,"Acceptable",null,"Minimal",null,"Unacceptable",null,null,"Optimal",null,null,"Acceptable",null,null,"Minimal",null,null,"Unacceptable",{"$nulls":4},"LOB",{"$f":"#REF!","v":{"$error":"#REF!"}},{"$f":"#REF!","v":{"$error":"#REF!"}},{"$f":"'Data Entry'!C13","v":0},1,"",1,"",1,""]
[{"$nulls":6},{"$f":"SUM(H16:H32)","v":{"v":0,"d":"0%"}},null,{"$f":"SUM(J16:J32)","v":{"v":0,"d":"0%"}},null,{"$f":"SUM(L16:L32)","v":{"v":0,"d":"0%"}},null,{"$f":"SUM(N16:N32)","v":{"v":0,"d":"0%"}},{"$nulls":3},{"$f":"SUM(Q16:Q32)","v":0},{"$f":"SUM(R16:R32)","v":{"v":0,"d":"0%"}},null,{"$f":"SUM(T16:T32)","v":0},{"$f":"SUM(U16:U33)","v":{"v":0,"d":"0%"}},null,{"$f":"SUM(W16:W32)","v":0},{"$f":"SUM(X16:X33)","v":{"v":0,"d":"0%"}},null,{"$f":"SUM(Z16:Z32)","v":0},{"$f":"SUM(AA16:AA33)","v":{"v":0,"d":"0%"}},null,null,"SHP",{"$f":"#REF!","v":{"$error":"#REF!"}},{"$f":"#REF!","v":{"$error":"#REF!"}},{"$f":"'Data Entry'!C14","v":0},1,"",1,"",1,""]
[null,"NRO","SCO","VAP","TOH",null,{"$f":"_xlfn.IFNA(VLOOKUP(B16,'OVERSTORY CALC'!$C$7:$F$23,1,FALSE), \"\")","v":""},{"$f":"_xlfn.IFNA(VLOOKUP(B16,'OVERSTORY CALC'!$C$7:$F$23,4,FALSE),\"\")","v":""},{"$f":"_xlfn.IFNA(VLOOKUP(C16,'OVERSTORY CALC'!$C$7:$F$23,1,FALSE),\"\")","v":""},{"$f":"_xlfn.IFNA(VLOOKUP(C16,'OVERSTORY CALC'!$C$7:$F$23,4,FALSE),\"\")","v":""},{"$f":"_xlfn.IFNA(VLOOKUP(D16,'OVERSTORY CALC'!$C$7:$F$23,1,FALSE),\"\")","v":""},{"$f":"_xlfn.IFNA(VLOOKUP(D16,'OVERSTORY CALC'!$C$7:$F$23,4,FALSE),\"\")","v":""},{"$f":"_xlfn.IFNA(VLOOKUP(E16,'OVERSTORY CALC'!$C$7:$F$23,1,FALSE),\"\")","v":""},{"$f":"_xlfn.IFNA(VLOOKUP(E16,'OVERSTORY CALC'!$C$7:$F$23,4,FALSE),\"\")","v":""},null,{"$f":"_xlfn.IFNA(VLOOKUP(B16,'REGENERATION CALC'!$C$7:$F$23,1,FALSE), \"\")","v":""},{"$f":"_xlfn.IFNA(VLOOKUP(B16,'REGENERATION CALC'!$C$7:$F$23,3,FALSE),\"\")","v":""},{"$f":"_xlfn.IFNA(VLOOKUP(B16,'REGENERATION CALC'!$C$7:$F$23,4,FALSE),\"\")","v":""},{"$f":"_xlfn.IFNA(VLOOKUP(C16,'REGENERATION CALC'!$C$7:$F$23,1,FALSE), \"\")","v":""},{"$f":"_xlfn.IFNA(VLOOKUP(C16,'REGENERATION CALC'!$C$7:$F$23,3,FALSE),\"\")","v":""},{"$f":"_xlfn.IFNA(VLOOKUP(C16,'REGENERATION CALC'!$C$7:$F$23,4,FALSE),\"\")","v":""},{"$f":"_xlfn.IFNA(VLOOKUP(D16,'REGENERATION CALC'!$C$7:$F$23,1,FALSE), \"\")","v":""},{"$f":"_xlfn.IFNA(VLOOKUP(D16,'REGENERATION CALC'!$C$7:$F$23,3,FALSE),\"\")","v":""},{"$f":"_xlfn.IFNA(VLOOKUP(D16,'REGENERATION CALC'!$C$7:$F$23,4,FALSE),\"\")","v":""},{"$f":"_xlfn.IFNA(VLOOKUP(E16,'REGENERATION CALC'!$C$7:$F$23,1,FALSE), \"\")","v":""},{"$f":"_xlfn.IFNA(VLOOKUP(E16,'REGENERATION CALC'!$C$7:$F$23,3,FALSE),\"\")","v":""},{"$f":"_xlfn.IFNA(VLOOKUP(E16,'REGENERATION CALC'!$C$7:$F$23,4,FALSE),\"\")","v":""},null,null,0,{"$f":"#REF!","v":{"$error":"#REF!"}},{"$f":"#REF!","v":{"$error":"#REF!"}},{"$f":"'Data Entry'!C15","v":0},1,"",1,"",1,""]
[null,"SRO","BLC","ASH","PAU",null,{"$f":"_xlfn.IFNA(VLOOKUP(B17,'OVERSTORY CALC'!$C$7:$F$23,1,FALSE), \"\")","v":""},{"$f":"_xlfn.IFNA(VLOOKUP(B17,'OVERSTORY CALC'!$C$7:$F$23,4,FALSE),\"\")","v":""},{"$f":"_xlfn.IFNA(VLOOKUP(C17,'OVERSTORY CALC'!$C$7:$F$23,1,FALSE),\"\")","v":""},{"$f":"_xlfn.IFNA(VLOOKUP(C17,'OVERSTORY CALC'!$C$7:$F$23,4,FALSE),\"\")","v":""},{"$f":"_xlfn.IFNA(VLOOKUP(D17,'OVERSTORY CALC'!$C$7:$F$23,1,FALSE),\"\")","v":""},{"$f":"_xlfn.IFNA(VLOOKUP(D17,'OVERSTORY CALC'!$C$7:$F$23,4,FALSE),\"\")","v":""},{"$f":"_xlfn.IFNA(VLOOKUP(E17,'OVERSTORY CALC'!$C$7:$F$23,1,FALSE),\"\")","v":""},{"$f":"_xlfn.IFNA(VLOOKUP(E17,'OVERSTORY CALC'!$C$7:$F$23,4,FALSE),\"\")","v":""},null,{"$f":"_xlfn.IFNA(VLOOKUP(B17,'REGENERATION CALC'!$C$7:$F$23,1,FALSE), \"\")","v":""},{"$f":"_xlfn.IFNA(VLOOKUP(B17,'REGENERATION CALC'!$C$7:$F$23,3,FALSE),\"\")","v":""},{"$f":"_xlfn.IFNA(VLOOKUP(B17,'REGENERATION CALC'!$C$7:$F$23,4,FALSE),\"\")","v":""},{"$f":"_xlfn.IFNA(VLOOKUP(C17,'REGENERATION CALC'!$C$7:$F$23,1,FALSE), \"\")","v":""},{"$f":"_xlfn.IFNA(VLOOKUP(C17,'REGENERATION CALC'!$C$7:$F$23,3,FALSE),\"\")","v":""},{"$f":"_xlfn.IFNA(VLOOKUP(C17,'REGENERATION CALC'!$C$7:$F$23,4,FALSE),\"\")","v":""},{"$f":"_xlfn.IFNA(VLOOKUP(D17,'REGENERATION CALC'!$C$7:$F$23,1,FALSE), \"\")","v":""},{"$f":"_xlfn.IFNA(VLOOKUP(D17,'REGENERATION CALC'!$C$7:$F$23,3,FALSE),\"\")","v":""},{"$f":"_xlfn.IFNA(VLOOKUP(D17,'REGENERATION CALC'!$C$7:$F$23,4,FALSE),\"\")","v":""},{"$f":"_xlfn.IFNA(VLOOKUP(E17,'REGENERATION CALC'!$C$7:$F$23,1,FALSE), \"\")","v":""},{"$f":"_xlfn.IFNA(VLOOKUP(E17,'REGENERATION CALC'!$C$7:$F$23,3,FALSE),\"\")","v":""},{"$f":"_xlfn.IFNA(VLOOKUP(E17,'REGENERATION CALC'!$C$7:$F$23,4,FALSE),\"\")","v":""},null,null,0,{"$f":"#REF!","v":{"$error":"#REF!"}},{"$f":"#REF!","v":{"$error":"#REF!"}},{"$f":"'Data Entry'!C16","v":0},1,"",1,"",1,""]
[null,"WHO","SOU","REM","CAP",null,{"$f":"_xlfn.IFNA(VLOOKUP(B18,'OVERSTORY CALC'!$C$7:$F$23,1,FALSE), \"\")","v":""},{"$f":"_xlfn.IFNA(VLOOKUP(B18,'OVERSTORY CALC'!$C$7:$F$23,4,FALSE),\"\")","v":""},{"$f":"_xlfn.IFNA(VLOOKUP(C18,'OVERSTORY CALC'!$C$7:$F$23,1,FALSE),\"\")","v":""},{"$f":"_xlfn.IFNA(VLOOKUP(C18,'OVERSTORY CALC'!$C$7:$F$23,4,FALSE),\"\")","v":""},{"$f":"_xlfn.IFNA(VLOOKUP(D18,'OVERSTORY CALC'!$C$7:$F$23,1,FALSE),\"\")","v":""},{"$f":"_xlfn.IFNA(VLOOKUP(D18,'OVERSTORY CALC'!$C$7:$F$23,4,FALSE),\"\")","v":""},{"$f":"_xlfn.IFNA(VLOOKUP(E18,'OVERSTORY CALC'!$C$7:$F$23,1,FALSE),\"\")","v":""},{"$f":"_xlfn.IFNA(VLOOKUP(E18,'OVERSTORY CALC'!$C$7:$F$23,4,FALSE),\"\")","v":""},null,{"$f":"_xlfn.IFNA(VLOOKUP(B18,'REGENERATION CALC'!$C$7:$F$23,1,FALSE), \"\")","v":""},{"$f":"_xlfn.IFNA(VLOOKUP(B18,'REGENERATION CALC'!$C$7:$F$23,3,FALSE),\"\")","v":""},{"$f":"_xlfn.IFNA(VLOOKUP(B18,'REGENERATION CALC'!$C$7:$F$23,4,FALSE),\"\")","v":""},{"$f":"_xlfn.IFNA(VLOOKUP(C18,'REGENERATION CALC'!$C$7:$F$23,1,FALSE), \"\")","v":""},{"$f":"_xlfn.IFNA(VLOOKUP(C18,'REGENERATION CALC'!$C$7:$F$23,3,FALSE),\"\")","v":""},{"$f":"_xlfn.IFNA(VLOOKUP(C18,'REGENERATION CALC'!$C$7:$F$23,4,FALSE),\"\")","v":""},{"$f":"_xlfn.IFNA(VLOOKUP(D18,'REGENERATION CALC'!$C$7:$F$23,1,FALSE), \"\")","v":""},{"$f":"_xlfn.IFNA(VLOOKUP(D18,'REGENERATION CALC'!$C$7:$F$23,3,FALSE),\"\")","v":""},{"$f":"_xlfn.IFNA(VLOOKUP(D18,'REGENERATION CALC'!$C$7:$F$23,4,FALSE),\"\")","v":""},{"$f":"_xlfn.IFNA(VLOOKUP(E18,'REGENERATION CALC'!$C$7:$F$23,1,FALSE), \"\")","v":""},{"$f":"_xlfn.IFNA(VLOOKUP(E18,'REGENERATION CALC'!$C$7:$F$23,3,FALSE),\"\")","v":""},{"$f":"_xlfn.IFNA(VLOOKUP(E18,'REGENERATION CALC'!$C$7:$F$23,4,FALSE),\"\")","v":""},null,null,0,{"$f":"#REF!","v":{"$error":"#REF!"}},{"$f":"#REF!","v":{"$error":"#REF!"}},{"$f":"'Data Entry'!C17","v":0},1,"",1,"",1,""]
[null,"YEP","BLB","SWG","MIM",null,{"$f":"_xlfn.IFNA(VLOOKUP(B19,'OVERSTORY CALC'!$C$7:$F$23,1,FALSE), \"\")","v":""},{"$f":"_xlfn.IFNA(VLOOKUP(B19,'OVERSTORY CALC'!$C$7:$F$23,4,FALSE),\"\")","v":""},{"$f":"_xlfn.IFNA(VLOOKUP(C19,'OVERSTORY CALC'!$C$7:$F$23,1,FALSE),\"\")","v":""},{"$f":"_xlfn.IFNA(VLOOKUP(C19,'OVERSTORY CALC'!$C$7:$F$23,4,FALSE),\"\")","v":""},{"$f":"_xlfn.IFNA(VLOOKUP(D19,'OVERSTORY CALC'!$C$7:$F$23,1,FALSE),\"\")","v":""},{"$f":"_xlfn.IFNA(VLOOKUP(D19,'OVERSTORY CALC'!$C$7:$F$23,4,FALSE),\"\")","v":""},{"$f":"_xlfn.IFNA(VLOOKUP(E19,'OVERSTORY CALC'!$C$7:$F$23,1,FALSE),\"\")","v":""},{"$f":"_xlfn.IFNA(VLOOKUP(E19,'OVERSTORY CALC'!$C$7:$F$23,4,FALSE),\"\")","v":""},null,{"$f":"_xlfn.IFNA(VLOOKUP(B19,'REGENERATION CALC'!$C$7:$F$23,1,FALSE), \"\")","v":""},{"$f":"_xlfn.IFNA(VLOOKUP(B19,'REGENERATION CALC'!$C$7:$F$23,3,FALSE),\"\")","v":""},{"$f":"_xlfn.IFNA(VLOOKUP(B19,'REGENERATION CALC'!$C$7:$F$23,4,FALSE),\"\")","v":""},{"$f":"_xlfn.IFNA(VLOOKUP(C19,'REGENERATION CALC'!$C$7:$F$23,1,FALSE), \"\")","v":""},{"$f":"_xlfn.IFNA(VLOOKUP(C19,'REGENERATION CALC'!$C$7:$F$23,3,FALSE),\"\")","v":""},{"$f":"_xlfn.IFNA(VLOOKUP(C19,'REGENERATION CALC'!$C$7:$F$23,4,FALSE),\"\")","v":""},{"$f":"_xlfn.IFNA(VLOOKUP(D19,'REGENERATION CALC'!$C$7:$F$23,1,FALSE), \"\")","v":""},{"$f":"_xlfn.IFNA(VLOOKUP(D19,'REGENERATION CALC'!$C$7:$F$23,3,FALSE),\"\")","v":""},{"$f":"_xlfn.IFNA(VLOOKUP(D19,'REGENERATION CALC'!$C$7:$F$23,4,FALSE),\"\")","v":""},{"$f":"_xlfn.IFNA(VLOOKUP(E19,'REGENERATION CALC'!$C$7:$F$23,1,FALSE), \"\")","v":""},{"$f":"_xlfn.IFNA(VLOOKUP(E19,'REGENERATION CALC'!$C$7:$F$23,3,FALSE),\"\")","v":""},{"$f":"_xlfn.IFNA(VLOOKUP(E19,'REGENERATION CALC'!$C$7:$F$23,4,FALSE),\"\")","v":""},null,null,0,{"$f":"#REF!","v":{"$error":"#REF!"}},{"$f":"#REF!","v":{"$error":"#REF!"}},{"$f":"'Data Entry'!C18","v":0},1,"",1,"",1,""]
[null,"HIC","BEE","SAS",null,null,{"$f":"_xlfn.IFNA(VLOOKUP(B20,'OVERSTORY CALC'!$C$7:$F$23,1,FALSE), \"\")","v":""},{"$f":"_xlfn.IFNA(VLOOKUP(B20,'OVERSTORY CALC'!$C$7:$F$23,4,FALSE),\"\")","v":""},{"$f":"_xlfn.IFNA(VLOOKUP(C20,'OVERSTORY CALC'!$C$7:$F$23,1,FALSE),\"\")","v":""},{"$f":"_xlfn.IFNA(VLOOKUP(C20,'OVERSTORY CALC'!$C$7:$F$23,4,FALSE),\"\")","v":""},{"$f":"_xlfn.IFNA(VLOOKUP(D20,'OVERSTORY CALC'!$C$7:$F$23,1,FALSE),\"\")","v":""},{"$f":"_xlfn.IFNA(VLOOKUP(D20,'OVERSTORY CALC'!$C$7:$F$23,4,FALSE),\"\")","v":""},{"$f":"_xlfn.IFNA(VLOOKUP(E20,'OVERSTORY CALC'!$C$7:$F$23,1,FALSE),\"\")","v":""},{"$f":"_xlfn.IFNA(VLOOKUP(E20,'OVERSTORY CALC'!$C$7:$F$23,4,FALSE),\"\")","v":""},null,{"$f":"_xlfn.IFNA(VLOOKUP(B20,'REGENERATION CALC'!$C$7:$F$23,1,FALSE), \"\")","v":""},{"$f":"_xlfn.IFNA(VLOOKUP(B20,'REGENERATION CALC'!$C$7:$F$23,3,FALSE),\"\")","v":""},{"$f":"_xlfn.IFNA(VLOOKUP(B20,'REGENERATION CALC'!$C$7:$F$23,4,FALSE),\"\")","v":""},{"$f":"_xlfn.IFNA(VLOOKUP(C20,'REGENERATION CALC'!$C$7:$F$23,1,FALSE), \"\")","v":""},{"$f":"_xlfn.IFNA(VLOOKUP(C20,'REGENERATION CALC'!$C$7:$F$23,3,FALSE),\"\")","v":""},{"$f":"_xlfn.IFNA(VLOOKUP(C20,'REGENERATION CALC'!$C$7:$F$23,4,FALSE),\"\")","v":""},{"$f":"_xlfn.IFNA(VLOOKUP(D20,'REGENERATION CALC'!$C$7:$F$23,1,FALSE), \"\")","v":""},{"$f":"_xlfn.IFNA(VLOOKUP(D20,'REGENERATION CALC'!$C$7:$F$23,3,FALSE),\"\")","v":""},{"$f":"_xlfn.IFNA(VLOOKUP(D20,'REGENERATION CALC'!$C$7:$F$23,4,FALSE),\"\")","v":""},{"$f":"_xlfn.IFNA(VLOOKUP(E20,'REGENERATION CALC'!$C$7:$F$23,1,FALSE), \"\")","v":""},{"$f":"_xlfn.IFNA(VLOOKUP(E20,'REGENERATION CALC'!$C$7:$F$23,3,FALSE),\"\")","v":""},{"$f":"_xlfn.IFNA(VLOOKUP(E20,'REGENERATION CALC'!$C$7:$F$23,4,FALSE),\"\")","v":""},null,null,0,{"$f":"#REF!","v":{"$error":"#REF!"}},{"$f":"#REF!","v":{"$error":"#REF!"}},{"$f":"'Data Entry'!C19","v":0},1,"",1,"",1,""]
[null,"BLO","BLG",{"$nulls":3},{"$f":"_xlfn.IFNA(VLOOKUP(B21,'OVERSTORY CALC'!$C$7:$F$23,1,FALSE), \"\")","v":""},{"$f":"_xlfn.IFNA(VLOOKUP(B21,'OVERSTORY CALC'!$C$7:$F$23,4,FALSE),\"\")","v":""},{"$f":"_xlfn.IFNA(VLOOKUP(C21,'OVERSTORY CALC'!$C$7:$F$23,1,FALSE),\"\")","v":""},{"$f":"_xlfn.IFNA(VLOOKUP(C21,'OVERSTORY CALC'!$C$7:$F$23,4,FALSE),\"\")","v":""},{"$f":"_xlfn.IFNA(VLOOKUP(D21,'OVERSTORY CALC'!$C$7:$F$23,1,FALSE),\"\")","v":""},{"$f":"_xlfn.IFNA(VLOOKUP(D21,'OVERSTORY CALC'!$C$7:$F$23,4,FALSE),\"\")","v":""},{"$f":"_xlfn.IFNA(VLOOKUP(E21,'OVERSTORY CALC'!$C$7:$F$23,1,FALSE),\"\")","v":""},{"$f":"_xlfn.IFNA(VLOOKUP(E21,'OVERSTORY CALC'!$C$7:$F$23,4,FALSE),\"\")","v":""},null,{"$f":"_xlfn.IFNA(VLOOKUP(B21,'REGENERATION CALC'!$C$7:$F$23,1,FALSE), \"\")","v":""},{"$f":"_xlfn.IFNA(VLOOKUP(B21,'REGENERATION CALC'!$C$7:$F$23,3,FALSE),\"\")","v":""},{"$f":"_xlfn.IFNA(VLOOKUP(B21,'REGENERATION CALC'!$C$7:$F$23,4,FALSE),\"\")","v":""},{"$f":"_xlfn.IFNA(VLOOKUP(C21,'REGENERATION CALC'!$C$7:$F$23,1,FALSE), \"\")","v":""},{"$f":"_xlfn.IFNA(VLOOKUP(C21,'REGENERATION CALC'!$C$7:$F$23,3,FALSE),\"\")","v":""},{"$f":"_xlfn.IFNA(VLOOKUP(C21,'REGENERATION CALC'!$C$7:$F$23,4,FALSE),\"\")","v":""},{"$f":"_xlfn.IFNA(VLOOKUP(D21,'REGENERATION CALC'!$C$7:$F$23,1,FALSE), \"\")","v":""},{"$f":"_xlfn.IFNA(VLOOKUP(D21,'REGENERATION CALC'!$C$7:$F$23,3,FALSE),\"\")","v":""},{"$f":"_xlfn.IFNA(VLOOKUP(D21,'REGENERATION CALC'!$C$7:$F$23,4,FALSE),\"\")","v":""},{"$f":"_xlfn.IFNA(VLOOKUP(E21,'REGENERATION CALC'!$C$7:$F$23,1,FALSE), \"\")","v":""},{"$f":"_xlfn.IFNA(VLOOKUP(E21,'REGENERATION CALC'!$C$7:$F$23,3,FALSE),\"\")","v":""},{"$f":"_xlfn.IFNA(VLOOKUP(E21,'REGENERATION CALC'!$C$7:$F$23,4,FALSE),\"\")","v":""},null,null,0,{"$f":"#REF!","v":{"$error":"#REF!"}},{"$f":"#REF!","v":{"$error":"#REF!"}},{"$f":"'Data Entry'!C20","v":0},1,"",1,"",1,""]
[null,"LOB",{"$nulls":4},{"$f":"_xlfn.IFNA(VLOOKUP(B22,'OVERSTORY CALC'!$C$7:$F$23,1,FALSE), \"\")","v":""},{"$f":"_xlfn.IFNA(VLOOKUP(B22,'OVERSTORY CALC'!$C$7:$F$23,4,FALSE),\"\")","v":""},{"$f":"_xlfn.IFNA(VLOOKUP(C22,'OVERSTORY CALC'!$C$7:$F$23,1,FALSE),\"\")","v":""},{"$f":"_xlfn.IFNA(VLOOKUP(C22,'OVERSTORY CALC'!$C$7:$F$23,4,FALSE),\"\")","v":""},{"$f":"_xlfn.IFNA(VLOOKUP(D22,'OVERSTORY CALC'!$C$7:$F$23,1,FALSE),\"\")","v":""},{"$f":"_xlfn.IFNA(VLOOKUP(D22,'OVERSTORY CALC'!$C$7:$F$23,4,FALSE),\"\")","v":""},{"$f":"_xlfn.IFNA(VLOOKUP(E22,'OVERSTORY CALC'!$C$7:$F$23,1,FALSE),\"\")","v":""},{"$f":"_xlfn.IFNA(VLOOKUP(E22,'OVERSTORY CALC'!$C$7:$F$23,4,FALSE),\"\")","v":""},null,{"$f":"_xlfn.IFNA(VLOOKUP(B22,'REGENERATION CALC'!$C$7:$F$23,1,FALSE), \"\")","v":""},{"$f":"_xlfn.IFNA(VLOOKUP(B22,'REGENERATION CALC'!$C$7:$F$23,3,FALSE),\"\")","v":""},{"$f":"_xlfn.IFNA(VLOOKUP(B22,'REGENERATION CALC'!$C$7:$F$23,4,FALSE),\"\")","v":""},{"$f":"_xlfn.IFNA(VLOOKUP(C22,'REGENERATION CALC'!$C$7:$F$23,1,FALSE), \"\")","v":""},{"$f":"_xlfn.IFNA(VLOOKUP(C22,'REGENERATION CALC'!$C$7:$F$23,3,FALSE),\"\")","v":""},{"$f":"_xlfn.IFNA(VLOOKUP(C22,'REGENERATION CALC'!$C$7:$F$23,4,FALSE),\"\")","v":""},{"$f":"_xlfn.IFNA(VLOOKUP(D22,'REGENERATION CALC'!$C$7:$F$23,1,FALSE), \"\")","v":""},{"$f":"_xlfn.IFNA(VLOOKUP(D22,'REGENERATION CALC'!$C$7:$F$23,3,FALSE),\"\")","v":""},{"$f":"_xlfn.IFNA(VLOOKUP(D22,'REGENERATION CALC'!$C$7:$F$23,4,FALSE),\"\")","v":""},{"$f":"_xlfn.IFNA(VLOOKUP(E22,'REGENERATION CALC'!$C$7:$F$23,1,FALSE), \"\")","v":""},{"$f":"_xlfn.IFNA(VLOOKUP(E22,'REGENERATION CALC'!$C$7:$F$23,3,FALSE),\"\")","v":""},{"$f":"_xlfn.IFNA(VLOOKUP(E22,'REGENERATION CALC'!$C$7:$F$23,4,FALSE),\"\")","v":""},null,null,0,{"$f":"#REF!","v":{"$error":"#REF!"}},{"$f":"#REF!","v":{"$error":"#REF!"}},{"$f":"'Data Entry'!C21","v":0},1,"",1,"",1,""]
[null,"SHP",{"$nulls":4},{"$f":"_xlfn.IFNA(VLOOKUP(B23,'OVERSTORY CALC'!$C$7:$F$23,1,FALSE), \"\")","v":""},{"$f":"_xlfn.IFNA(VLOOKUP(B23,'OVERSTORY CALC'!$C$7:$F$23,4,FALSE),\"\")","v":""},{"$f":"_xlfn.IFNA(VLOOKUP(C23,'OVERSTORY CALC'!$C$7:$F$23,1,FALSE),\"\")","v":""},{"$f":"_xlfn.IFNA(VLOOKUP(C23,'OVERSTORY CALC'!$C$7:$F$23,4,FALSE),\"\")","v":""},{"$f":"_xlfn.IFNA(VLOOKUP(D23,'OVERSTORY CALC'!$C$7:$F$23,1,FALSE),\"\")","v":""},{"$f":"_xlfn.IFNA(VLOOKUP(D23,'OVERSTORY CALC'!$C$7:$F$23,4,FALSE),\"\")","v":""},{"$f":"_xlfn.IFNA(VLOOKUP(E23,'OVERSTORY CALC'!$C$7:$F$23,1,FALSE),\"\")","v":""},{"$f":"_xlfn.IFNA(VLOOKUP(E23,'OVERSTORY CALC'!$C$7:$F$23,4,FALSE),\"\")","v":""},null,{"$f":"_xlfn.IFNA(VLOOKUP(B23,'REGENERATION CALC'!$C$7:$F$23,1,FALSE), \"\")","v":""},{"$f":"_xlfn.IFNA(VLOOKUP(B23,'REGENERATION CALC'!$C$7:$F$23,3,FALSE),\"\")","v":""},{"$f":"_xlfn.IFNA(VLOOKUP(B23,'REGENERATION CALC'!$C$7:$F$23,4,FALSE),\"\")","v":""},{"$f":"_xlfn.IFNA(VLOOKUP(C23,'REGENERATION CALC'!$C$7:$F$23,1,FALSE), \"\")","v":""},{"$f":"_xlfn.IFNA(VLOOKUP(C23,'REGENERATION CALC'!$C$7:$F$23,3,FALSE),\"\")","v":""},{"$f":"_xlfn.IFNA(VLOOKUP(C23,'REGENERATION CALC'!$C$7:$F$23,4,FALSE),\"\")","v":""},{"$f":"_xlfn.IFNA(VLOOKUP(D23,'REGENERATION CALC'!$C$7:$F$23,1,FALSE), \"\")","v":""},{"$f":"_xlfn.IFNA(VLOOKUP(D23,'REGENERATION CALC'!$C$7:$F$23,3,FALSE),\"\")","v":""},{"$f":"_xlfn.IFNA(VLOOKUP(D23,'REGENERATION CALC'!$C$7:$F$23,4,FALSE),\"\")","v":""},{"$f":"_xlfn.IFNA(VLOOKUP(E23,'REGENERATION CALC'!$C$7:$F$23,1,FALSE), \"\")","v":""},{"$f":"_xlfn.IFNA(VLOOKUP(E23,'REGENERATION CALC'!$C$7:$F$23,3,FALSE),\"\")","v":""},{"$f":"_xlfn.IFNA(VLOOKUP(E23,'REGENERATION CALC'!$C$7:$F$23,4,FALSE),\"\")","v":""},null,null,0,{"$f":"#REF!","v":{"$error":"#REF!"}},{"$f":"#REF!","v":{"$error":"#REF!"}},{"$f":"'Data Entry'!C22","v":0},1,"",1,"",1,""]
[{"$nulls":6},{"$f":"_xlfn.IFNA(VLOOKUP(B24,'OVERSTORY CALC'!$C$7:$F$23,1,FALSE), \"\")","v":""},{"$f":"_xlfn.IFNA(VLOOKUP(B24,'OVERSTORY CALC'!$C$7:$F$23,4,FALSE),\"\")","v":""},{"$f":"_xlfn.IFNA(VLOOKUP(C24,'OVERSTORY CALC'!$C$7:$F$23,1,FALSE),\"\")","v":""},{"$f":"_xlfn.IFNA(VLOOKUP(C24,'OVERSTORY CALC'!$C$7:$F$23,4,FALSE),\"\")","v":""},{"$f":"_xlfn.IFNA(VLOOKUP(D24,'OVERSTORY CALC'!$C$7:$F$23,1,FALSE),\"\")","v":""},{"$f":"_xlfn.IFNA(VLOOKUP(D24,'OVERSTORY CALC'!$C$7:$F$23,4,FALSE),\"\")","v":""},{"$f":"_xlfn.IFNA(VLOOKUP(E24,'OVERSTORY CALC'!$C$7:$F$23,1,FALSE),\"\")","v":""},{"$f":"_xlfn.IFNA(VLOOKUP(E24,'OVERSTORY CALC'!$C$7:$F$23,4,FALSE),\"\")","v":""},null,{"$f":"_xlfn.IFNA(VLOOKUP(B24,'REGENERATION CALC'!$C$7:$F$23,1,FALSE), \"\")","v":""},{"$f":"_xlfn.IFNA(VLOOKUP(B24,'REGENERATION CALC'!$C$7:$F$23,3,FALSE),\"\")","v":""},{"$f":"_xlfn.IFNA(VLOOKUP(B24,'REGENERATION CALC'!$C$7:$F$23,4,FALSE),\"\")","v":""},{"$f":"_xlfn.IFNA(VLOOKUP(C24,'REGENERATION CALC'!$C$7:$F$23,1,FALSE), \"\")","v":""},{"$f":"_xlfn.IFNA(VLOOKUP(C24,'REGENERATION CALC'!$C$7:$F$23,3,FALSE),\"\")","v":""},{"$f":"_xlfn.IFNA(VLOOKUP(C24,'REGENERATION CALC'!$C$7:$F$23,4,FALSE),\"\")","v":""},{"$f":"_xlfn.IFNA(VLOOKUP(D24,'REGENERATION CALC'!$C$7:$F$23,1,FALSE), \"\")","v":""},{"$f":"_xlfn.IFNA(VLOOKUP(D24,'REGENERATION CALC'!$C$7:$F$23,3,FALSE),\"\")","v":""},{"$f":"_xlfn.IFNA(VLOOKUP(D24,'REGENERATION CALC'!$C$7:$F$23,4,FALSE),\"\")","v":""},{"$f":"_xlfn.IFNA(VLOOKUP(E24,'REGENERATION CALC'!$C$7:$F$23,1,FALSE), \"\")","v":""},{"$f":"_xlfn.IFNA(VLOOKUP(E24,'REGENERATION CALC'!$C$7:$F$23,3,FALSE),\"\")","v":""},{"$f":"_xlfn.IFNA(VLOOKUP(E24,'REGENERATION CALC'!$C$7:$F$23,4,FALSE),\"\")","v":""},null,null,0,{"$f":"#REF!","v":{"$error":"#REF!"}},{"$f":"#REF!","v":{"$error":"#REF!"}},{"$f":"'Data Entry'!C23","v":0},1,"",1,"",1,""]
[{"$nulls":6},{"$f":"_xlfn.IFNA(VLOOKUP(B25,'OVERSTORY CALC'!$C$7:$F$23,1,FALSE), \"\")","v":""},{"$f":"_xlfn.IFNA(VLOOKUP(B25,'OVERSTORY CALC'!$C$7:$F$23,4,FALSE),\"\")","v":""},{"$f":"_xlfn.IFNA(VLOOKUP(C25,'OVERSTORY CALC'!$C$7:$F$23,1,FALSE),\"\")","v":""},{"$f":"_xlfn.IFNA(VLOOKUP(C25,'OVERSTORY CALC'!$C$7:$F$23,4,FALSE),\"\")","v":""},{"$f":"_xlfn.IFNA(VLOOKUP(D25,'OVERSTORY CALC'!$C$7:$F$23,1,FALSE),\"\")","v":""},{"$f":"_xlfn.IFNA(VLOOKUP(D25,'OVERSTORY CALC'!$C$7:$F$23,4,FALSE),\"\")","v":""},{"$f":"_xlfn.IFNA(VLOOKUP(E25,'OVERSTORY CALC'!$C$7:$F$23,1,FALSE),\"\")","v":""},{"$f":"_xlfn.IFNA(VLOOKUP(E25,'OVERSTORY CALC'!$C$7:$F$23,4,FALSE),\"\")","v":""},null,{"$f":"_xlfn.IFNA(VLOOKUP(B25,'REGENERATION CALC'!$C$7:$F$23,1,FALSE), \"\")","v":""},{"$f":"_xlfn.IFNA(VLOOKUP(B25,'REGENERATION CALC'!$C$7:$F$23,3,FALSE),\"\")","v":""},{"$f":"_xlfn.IFNA(VLOOKUP(B25,'REGENERATION CALC'!$C$7:$F$23,4,FALSE),\"\")","v":""},{"$f":"_xlfn.IFNA(VLOOKUP(C25,'REGENERATION CALC'!$C$7:$F$23,1,FALSE), \"\")","v":""},{"$f":"_xlfn.IFNA(VLOOKUP(C25,'REGENERATION CALC'!$C$7:$F$23,3,FALSE),\"\")","v":""},{"$f":"_xlfn.IFNA(VLOOKUP(C25,'REGENERATION CALC'!$C$7:$F$23,4,FALSE),\"\")","v":""},{"$f":"_xlfn.IFNA(VLOOKUP(D25,'REGENERATION CALC'!$C$7:$F$23,1,FALSE), \"\")","v":""},{"$f":"_xlfn.IFNA(VLOOKUP(D25,'REGENERATION CALC'!$C$7:$F$23,3,FALSE),\"\")","v":""},{"$f":"_xlfn.IFNA(VLOOKUP(D25,'REGENERATION CALC'!$C$7:$F$23,4,FALSE),\"\")","v":""},{"$f":"_xlfn.IFNA(VLOOKUP(E25,'REGENERATION CALC'!$C$7:$F$23,1,FALSE), \"\")","v":""},{"$f":"_xlfn.IFNA(VLOOKUP(E25,'REGENERATION CALC'!$C$7:$F$23,3,FALSE),\"\")","v":""},{"$f":"_xlfn.IFNA(VLOOKUP(E25,'REGENERATION CALC'!$C$7:$F$23,4,FALSE),\"\")","v":""},null,null,0,{"$f":"#REF!","v":{"$error":"#REF!"}},{"$f":"#REF!","v":{"$error":"#REF!"}},{"$f":"'Data Entry'!C26","v":0},1,"",1,"",1,""]
[{"$nulls":6},{"$f":"_xlfn.IFNA(VLOOKUP(B26,'OVERSTORY CALC'!$C$7:$F$23,1,FALSE), \"\")","v":""},{"$f":"_xlfn.IFNA(VLOOKUP(B26,'OVERSTORY CALC'!$C$7:$F$23,4,FALSE),\"\")","v":""},{"$f":"_xlfn.IFNA(VLOOKUP(C26,'OVERSTORY CALC'!$C$7:$F$23,1,FALSE),\"\")","v":""},{"$f":"_xlfn.IFNA(VLOOKUP(C26,'OVERSTORY CALC'!$C$7:$F$23,4,FALSE),\"\")","v":""},{"$f":"_xlfn.IFNA(VLOOKUP(D26,'OVERSTORY CALC'!$C$7:$F$23,1,FALSE),\"\")","v":""},{"$f":"_xlfn.IFNA(VLOOKUP(D26,'OVERSTORY CALC'!$C$7:$F$23,4,FALSE),\"\")","v":""},{"$f":"_xlfn.IFNA(VLOOKUP(E26,'OVERSTORY CALC'!$C$7:$F$23,1,FALSE),\"\")","v":""},{"$f":"_xlfn.IFNA(VLOOKUP(E26,'OVERSTORY CALC'!$C$7:$F$23,4,FALSE),\"\")","v":""},null,{"$f":"_xlfn.IFNA(VLOOKUP(B26,'REGENERATION CALC'!$C$7:$F$23,1,FALSE), \"\")","v":""},{"$f":"_xlfn.IFNA(VLOOKUP(B26,'REGENERATION CALC'!$C$7:$F$23,3,FALSE),\"\")","v":""},{"$f":"_xlfn.IFNA(VLOOKUP(B26,'REGENERATION CALC'!$C$7:$F$23,4,FALSE),\"\")","v":""},{"$f":"_xlfn.IFNA(VLOOKUP(C26,'REGENERATION CALC'!$C$7:$F$23,1,FALSE), \"\")","v":""},{"$f":"_xlfn.IFNA(VLOOKUP(C26,'REGENERATION CALC'!$C$7:$F$23,3,FALSE),\"\")","v":""},{"$f":"_xlfn.IFNA(VLOOKUP(C26,'REGENERATION CALC'!$C$7:$F$23,4,FALSE),\"\")","v":""},{"$f":"_xlfn.IFNA(VLOOKUP(D26,'REGENERATION CALC'!$C$7:$F$23,1,FALSE), \"\")","v":""},{"$f":"_xlfn.IFNA(VLOOKUP(D26,'REGENERATION CALC'!$C$7:$F$23,3,FALSE),\"\")","v":""},{"$f":"_xlfn.IFNA(VLOOKUP(D26,'REGENERATION CALC'!$C$7:$F$23,4,FALSE),\"\")","v":""},{"$f":"_xlfn.IFNA(VLOOKUP(E26,'REGENERATION CALC'!$C$7:$F$23,1,FALSE), \"\")","v":""},{"$f":"_xlfn.IFNA(VLOOKUP(E26,'REGENERATION CALC'!$C$7:$F$23,3,FALSE),\"\")","v":""},{"$f":"_xlfn.IFNA(VLOOKUP(E26,'REGENERATION CALC'!$C$7:$F$23,4,FALSE),\"\")","v":""},null,null,{"$f":"C16","v":"SCO"},{"$f":"#REF!","v":{"$error":"#REF!"}},{"$f":"#REF!","v":{"$error":"#REF!"}},{"$f":"'Data Entry'!C27","v":0},1,"",1,"",1,""]
[{"$nulls":6},{"$f":"_xlfn.IFNA(VLOOKUP(B27,'OVERSTORY CALC'!$C$7:$F$23,1,FALSE), \"\")","v":""},{"$f":"_xlfn.IFNA(VLOOKUP(B27,'OVERSTORY CALC'!$C$7:$F$23,4,FALSE),\"\")","v":""},{"$f":"_xlfn.IFNA(VLOOKUP(C27,'OVERSTORY CALC'!$C$7:$F$23,1,FALSE),\"\")","v":""},{"$f":"_xlfn.IFNA(VLOOKUP(C27,'OVERSTORY CALC'!$C$7:$F$23,4,FALSE),\"\")","v":""},{"$f":"_xlfn.IFNA(VLOOKUP(D27,'OVERSTORY CALC'!$C$7:$F$23,1,FALSE),\"\")","v":""},{"$f":"_xlfn.IFNA(VLOOKUP(D27,'OVERSTORY CALC'!$C$7:$F$23,4,FALSE),\"\")","v":""},{"$f":"_xlfn.IFNA(VLOOKUP(E27,'OVERSTORY CALC'!$C$7:$F$23,1,FALSE),\"\")","v":""},{"$f":"_xlfn.IFNA(VLOOKUP(E27,'OVERSTORY CALC'!$C$7:$F$23,4,FALSE),\"\")","v":""},null,{"$f":"_xlfn.IFNA(VLOOKUP(B27,'REGENERATION CALC'!$C$7:$F$23,1,FALSE), \"\")","v":""},{"$f":"_xlfn.IFNA(VLOOKUP(B27,'REGENERATION CALC'!$C$7:$F$23,3,FALSE),\"\")","v":""},{"$f":"_xlfn.IFNA(VLOOKUP(B27,'REGENERATION CALC'!$C$7:$F$23,4,FALSE),\"\")","v":""},{"$f":"_xlfn.IFNA(VLOOKUP(C27,'REGENERATION CALC'!$C$7:$F$23,1,FALSE), \"\")","v":""},{"$f":"_xlfn.IFNA(VLOOKUP(C27,'REGENERATION CALC'!$C$7:$F$23,3,FALSE),\"\")","v":""},{"$f":"_xlfn.IFNA(VLOOKUP(C27,'REGENERATION CALC'!$C$7:$F$23,4,FALSE),\"\")","v":""},{"$f":"_xlfn.IFNA(VLOOKUP(D27,'REGENERATION CALC'!$C$7:$F$23,1,FALSE), \"\")","v":""},{"$f":"_xlfn.IFNA(VLOOKUP(D27,'REGENERATION CALC'!$C$7:$F$23,3,FALSE),\"\")","v":""},{"$f":"_xlfn.IFNA(VLOOKUP(D27,'REGENERATION CALC'!$C$7:$F$23,4,FALSE),\"\")","v":""},{"$f":"_xlfn.IFNA(VLOOKUP(E27,'REGENERATION CALC'!$C$7:$F$23,1,FALSE), \"\")","v":""},{"$f":"_xlfn.IFNA(VLOOKUP(E27,'REGENERATION CALC'!$C$7:$F$23,3,FALSE),\"\")","v":""},{"$f":"_xlfn.IFNA(VLOOKUP(E27,'REGENERATION CALC'!$C$7:$F$23,4,FALSE),\"\")","v":""},null,null,"BLC",{"$f":"#REF!","v":{"$error":"#REF!"}},{"$f":"#REF!","v":{"$error":"#REF!"}},{"$f":"'Data Entry'!C28","v":0},1,"",1,"",1,""]
[{"$nulls":6},{"$f":"_xlfn.IFNA(VLOOKUP(B28,'OVERSTORY CALC'!$C$7:$F$23,1,FALSE), \"\")","v":""},{"$f":"_xlfn.IFNA(VLOOKUP(B28,'OVERSTORY CALC'!$C$7:$F$23,4,FALSE),\"\")","v":""},{"$f":"_xlfn.IFNA(VLOOKUP(C28,'OVERSTORY CALC'!$C$7:$F$23,1,FALSE),\"\")","v":""},{"$f":"_xlfn.IFNA(VLOOKUP(C28,'OVERSTORY CALC'!$C$7:$F$23,4,FALSE),\"\")","v":""},{"$f":"_xlfn.IFNA(VLOOKUP(D28,'OVERSTORY CALC'!$C$7:$F$23,1,FALSE),\"\")","v":""},{"$f":"_xlfn.IFNA(VLOOKUP(D28,'OVERSTORY CALC'!$C$7:$F$23,4,FALSE),\"\")","v":""},{"$f":"_xlfn.IFNA(VLOOKUP(E28,'OVERSTORY CALC'!$C$7:$F$23,1,FALSE),\"\")","v":""},{"$f":"_xlfn.IFNA(VLOOKUP(E28,'OVERSTORY CALC'!$C$7:$F$23,4,FALSE),\"\")","v":""},null,{"$f":"_xlfn.IFNA(VLOOKUP(B28,'REGENERATION CALC'!$C$7:$F$23,1,FALSE), \"\")","v":""},{"$f":"_xlfn.IFNA(VLOOKUP(B28,'REGENERATION CALC'!$C$7:$F$23,3,FALSE),\"\")","v":""},{"$f":"_xlfn.IFNA(VLOOKUP(B28,'REGENERATION CALC'!$C$7:$F$23,4,FALSE),\"\")","v":""},{"$f":"_xlfn.IFNA(VLOOKUP(C28,'REGENERATION CALC'!$C$7:$F$23,1,FALSE), \"\")","v":""},{"$f":"_xlfn.IFNA(VLOOKUP(C28,'REGENERATION CALC'!$C$7:$F$23,3,FALSE),\"\")","v":""},{"$f":"_xlfn.IFNA(VLOOKUP(C28,'REGENERATION CALC'!$C$7:$F$23,4,FALSE),\"\")","v":""},{"$f":"_xlfn.IFNA(VLOOKUP(D28,'REGENERATION CALC'!$C$7:$F$23,1,FALSE), \"\")","v":""},{"$f":"_xlfn.IFNA(VLOOKUP(D28,'REGENERATION CALC'!$C$7:$F$23,3,FALSE),\"\")","v":""},{"$f":"_xlfn.IFNA(VLOOKUP(D28,'REGENERATION CALC'!$C$7:$F$23,4,FALSE),\"\")","v":""},{"$f":"_xlfn.IFNA(VLOOKUP(E28,'REGENERATION CALC'!$C$7:$F$23,1,FALSE), \"\")","v":""},{"$f":"_xlfn.IFNA(VLOOKUP(E28,'REGENERATION CALC'!$C$7:$F$23,3,FALSE),\"\")","v":""},{"$f":"_xlfn.IFNA(VLOOKUP(E28,'REGENERATION CALC'!$C$7:$F$23,4,FALSE),\"\")","v":""},null,null,{"$f":"C18","v":"SOU"},{"$f":"#REF!","v":{"$error":"#REF!"}},{"$f":"#REF!","v":{"$error":"#REF!"}},{"$f":"'Data Entry'!C29","v":0},1,"",1,"",1,""]
[{"$nulls":6},{"$f":"_xlfn.IFNA(VLOOKUP(B29,'OVERSTORY CALC'!$C$7:$F$23,1,FALSE), \"\")","v":""},{"$f":"_xlfn.IFNA(VLOOKUP(B29,'OVERSTORY CALC'!$C$7:$F$23,4,FALSE),\"\")","v":""},{"$f":"_xlfn.IFNA(VLOOKUP(C29,'OVERSTORY CALC'!$C$7:$F$23,1,FALSE),\"\")","v":""},{"$f":"_xlfn.IFNA(VLOOKUP(C29,'OVERSTORY CALC'!$C$7:$F$23,4,FALSE),\"\")","v":""},{"$f":"_xlfn.IFNA(VLOOKUP(D29,'OVERSTORY CALC'!$C$7:$F$23,1,FALSE),\"\")","v":""},{"$f":"_xlfn.IFNA(VLOOKUP(D29,'OVERSTORY CALC'!$C$7:$F$23,4,FALSE),\"\")","v":""},{"$f":"_xlfn.IFNA(VLOOKUP(E29,'OVERSTORY CALC'!$C$7:$F$23,1,FALSE),\"\")","v":""},{"$f":"_xlfn.IFNA(VLOOKUP(E29,'OVERSTORY CALC'!$C$7:$F$23,4,FALSE),\"\")","v":""},null,{"$f":"_xlfn.IFNA(VLOOKUP(B29,'REGENERATION CALC'!$C$7:$F$23,1,FALSE), \"\")","v":""},{"$f":"_xlfn.IFNA(VLOOKUP(B29,'REGENERATION CALC'!$C$7:$F$23,3,FALSE),\"\")","v":""},{"$f":"_xlfn.IFNA(VLOOKUP(B29,'REGENERATION CALC'!$C$7:$F$23,4,FALSE),\"\")","v":""},{"$f":"_xlfn.IFNA(VLOOKUP(C29,'REGENERATION CALC'!$C$7:$F$23,1,FALSE), \"\")","v":""},{"$f":"_xlfn.IFNA(VLOOKUP(C29,'REGENERATION CALC'!$C$7:$F$23,3,FALSE),\"\")","v":""},{"$f":"_xlfn.IFNA(VLOOKUP(C29,'REGENERATION CALC'!$C$7:$F$23,4,FALSE),\"\")","v":""},{"$f":"_xlfn.IFNA(VLOOKUP(D29,'REGENERATION CALC'!$C$7:$F$23,1,FALSE), \"\")","v":""},{"$f":"_xlfn.IFNA(VLOOKUP(D29,'REGENERATION CALC'!$C$7:$F$23,3,FALSE),\"\")","v":""},{"$f":"_xlfn.IFNA(VLOOKUP(D29,'REGENERATION CALC'!$C$7:$F$23,4,FALSE),\"\")","v":""},{"$f":"_xlfn.IFNA(VLOOKUP(E29,'REGENERATION CALC'!$C$7:$F$23,1,FALSE), \"\")","v":""},{"$f":"_xlfn.IFNA(VLOOKUP(E29,'REGENERATION CALC'!$C$7:$F$23,3,FALSE),\"\")","v":""},{"$f":"_xlfn.IFNA(VLOOKUP(E29,'REGENERATION CALC'!$C$7:$F$23,4,FALSE),\"\")","v":""},null,null,{"$f":"C19","v":"BLB"},{"$f":"#REF!","v":{"$error":"#REF!"}},{"$f":"#REF!","v":{"$error":"#REF!"}},{"$f":"'Data Entry'!C30","v":0},1,"",1,"",1,""]
[{"$nulls":6},{"$f":"_xlfn.IFNA(VLOOKUP(B30,'OVERSTORY CALC'!$C$7:$F$23,1,FALSE), \"\")","v":""},{"$f":"_xlfn.IFNA(VLOOKUP(B30,'OVERSTORY CALC'!$C$7:$F$23,4,FALSE),\"\")","v":""},{"$f":"_xlfn.IFNA(VLOOKUP(C30,'OVERSTORY CALC'!$C$7:$F$23,1,FALSE),\"\")","v":""},{"$f":"_xlfn.IFNA(VLOOKUP(C30,'OVERSTORY CALC'!$C$7:$F$23,4,FALSE),\"\")","v":""},{"$f":"_xlfn.IFNA(VLOOKUP(D30,'OVERSTORY CALC'!$C$7:$F$23,1,FALSE),\"\")","v":""},{"$f":"_xlfn.IFNA(VLOOKUP(D30,'OVERSTORY CALC'!$C$7:$F$23,4,FALSE),\"\")","v":""},{"$f":"_xlfn.IFNA(VLOOKUP(E30,'OVERSTORY CALC'!$C$7:$F$23,1,FALSE),\"\")","v":""},{"$f":"_xlfn.IFNA(VLOOKUP(E30,'OVERSTORY CALC'!$C$7:$F$23,4,FALSE),\"\")","v":""},null,{"$f":"_xlfn.IFNA(VLOOKUP(B30,'REGENERATION CALC'!$C$7:$F$23,1,FALSE), \"\")","v":""},{"$f":"_xlfn.IFNA(VLOOKUP(B30,'REGENERATION CALC'!$C$7:$F$23,3,FALSE),\"\")","v":""},{"$f":"_xlfn.IFNA(VLOOKUP(B30,'REGENERATION CALC'!$C$7:$F$23,4,FALSE),\"\")","v":""},{"$f":"_xlfn.IFNA(VLOOKUP(C30,'REGENERATION CALC'!$C$7:$F$23,1,FALSE), \"\")","v":""},{"$f":"_xlfn.IFNA(VLOOKUP(C30,'REGENERATION CALC'!$C$7:$F$23,3,FALSE),\"\")","v":""},{"$f":"_xlfn.IFNA(VLOOKUP(C30,'REGENERATION CALC'!$C$7:$F$23,4,FALSE),\"\")","v":""},{"$f":"_xlfn.IFNA(VLOOKUP(D30,'REGENERATION CALC'!$C$7:$F$23,1,FALSE), \"\")","v":""},{"$f":"_xlfn.IFNA(VLOOKUP(D30,'REGENERATION CALC'!$C$7:$F$23,3,FALSE),\"\")","v":""},{"$f":"_xlfn.IFNA(VLOOKUP(D30,'REGENERATION CALC'!$C$7:$F$23,4,FALSE),\"\")","v":""},{"$f":"_xlfn.IFNA(VLOOKUP(E30,'REGENERATION CALC'!$C$7:$F$23,1,FALSE), \"\")","v":""},{"$f":"_xlfn.IFNA(VLOOKUP(E30,'REGENERATION CALC'!$C$7:$F$23,3,FALSE),\"\")","v":""},{"$f":"_xlfn.IFNA(VLOOKUP(E30,'REGENERATION CALC'!$C$7:$F$23,4,FALSE),\"\")","v":""},null,null,{"$f":"C20","v":"BEE"},{"$f":"#REF!","v":{"$error":"#REF!"}},{"$f":"#REF!","v":{"$error":"#REF!"}},{"$f":"'Data Entry'!C31","v":0},1,"",1,"",1,""]
[{"$nulls":6},{"$f":"_xlfn.IFNA(VLOOKUP(B31,'OVERSTORY CALC'!$C$7:$F$23,1,FALSE), \"\")","v":""},{"$f":"_xlfn.IFNA(VLOOKUP(B31,'OVERSTORY CALC'!$C$7:$F$23,4,FALSE),\"\")","v":""},{"$f":"_xlfn.IFNA(VLOOKUP(C31,'OVERSTORY CALC'!$C$7:$F$23,1,FALSE),\"\")","v":""},{"$f":"_xlfn.IFNA(VLOOKUP(C31,'OVERSTORY CALC'!$C$7:$F$23,4,FALSE),\"\")","v":""},{"$f":"_xlfn.IFNA(VLOOKUP(D31,'OVERSTORY CALC'!$C$7:$F$23,1,FALSE),\"\")","v":""},{"$f":"_xlfn.IFNA(VLOOKUP(D31,'OVERSTORY CALC'!$C$7:$F$23,4,FALSE),\"\")","v":""},{"$f":"_xlfn.IFNA(VLOOKUP(E31,'OVERSTORY CALC'!$C$7:$F$23,1,FALSE),\"\")","v":""},{"$f":"_xlfn.IFNA(VLOOKUP(E31,'OVERSTORY CALC'!$C$7:$F$23,4,FALSE),\"\")","v":""},null,{"$f":"_xlfn.IFNA(VLOOKUP(B31,'REGENERATION CALC'!$C$7:$F$23,1,FALSE), \"\")","v":""},{"$f":"_xlfn.IFNA(VLOOKUP(B31,'REGENERATION CALC'!$C$7:$F$23,3,FALSE),\"\")","v":""},{"$f":"_xlfn.IFNA(VLOOKUP(B31,'REGENERATION CALC'!$C$7:$F$23,4,FALSE),\"\")","v":""},{"$f":"_xlfn.IFNA(VLOOKUP(C31,'REGENERATION CALC'!$C$7:$F$23,1,FALSE), \"\")","v":""},{"$f":"_xlfn.IFNA(VLOOKUP(C31,'REGENERATION CALC'!$C$7:$F$23,3,FALSE),\"\")","v":""},{"$f":"_xlfn.IFNA(VLOOKUP(C31,'REGENERATION CALC'!$C$7:$F$23,4,FALSE),\"\")","v":""},{"$f":"_xlfn.IFNA(VLOOKUP(D31,'REGENERATION CALC'!$C$7:$F$23,1,FALSE), \"\")","v":""},{"$f":"_xlfn.IFNA(VLOOKUP(D31,'REGENERATION CALC'!$C$7:$F$23,3,FALSE),\"\")","v":""},{"$f":"_xlfn.IFNA(VLOOKUP(D31,'REGENERATION CALC'!$C$7:$F$23,4,FALSE),\"\")","v":""},{"$f":"_xlfn.IFNA(VLOOKUP(E31,'REGENERATION CALC'!$C$7:$F$23,1,FALSE), \"\")","v":""},{"$f":"_xlfn.IFNA(VLOOKUP(E31,'REGENERATION CALC'!$C$7:$F$23,3,FALSE),\"\")","v":""},{"$f":"_xlfn.IFNA(VLOOKUP(E31,'REGENERATION CALC'!$C$7:$F$23,4,FALSE),\"\")","v":""},null,null,{"$f":"C21","v":"BLG"},{"$f":"#REF!","v":{"$error":"#REF!"}},{"$f":"#REF!","v":{"$error":"#REF!"}},{"$f":"'Data Entry'!C32","v":0},1,"",1,"",1,""]
[{"$nulls":6},{"$f":"_xlfn.IFNA(VLOOKUP(B32,'OVERSTORY CALC'!$C$7:$F$23,1,FALSE), \"\")","v":""},{"$f":"_xlfn.IFNA(VLOOKUP(B32,'OVERSTORY CALC'!$C$7:$F$23,4,FALSE),\"\")","v":""},{"$f":"_xlfn.IFNA(VLOOKUP(C32,'OVERSTORY CALC'!$C$7:$F$23,1,FALSE),\"\")","v":""},{"$f":"_xlfn.IFNA(VLOOKUP(C32,'OVERSTORY CALC'!$C$7:$F$23,4,FALSE),\"\")","v":""},{"$f":"_xlfn.IFNA(VLOOKUP(D32,'OVERSTORY CALC'!$C$7:$F$23,1,FALSE),\"\")","v":""},{"$f":"_xlfn.IFNA(VLOOKUP(D32,'OVERSTORY CALC'!$C$7:$F$23,4,FALSE),\"\")","v":""},{"$f":"_xlfn.IFNA(VLOOKUP(E32,'OVERSTORY CALC'!$C$7:$F$23,1,FALSE),\"\")","v":""},{"$f":"_xlfn.IFNA(VLOOKUP(E32,'OVERSTORY CALC'!$C$7:$F$23,4,FALSE),\"\")","v":""},null,{"$f":"_xlfn.IFNA(VLOOKUP(B32,'REGENERATION CALC'!$C$7:$F$23,1,FALSE), \"\")","v":""},{"$f":"_xlfn.IFNA(VLOOKUP(B32,'REGENERATION CALC'!$C$7:$F$23,3,FALSE),\"\")","v":""},{"$f":"_xlfn.IFNA(VLOOKUP(B32,'REGENERATION CALC'!$C$7:$F$23,4,FALSE),\"\")","v":""},{"$f":"_xlfn.IFNA(VLOOKUP(C32,'REGENERATION CALC'!$C$7:$F$23,1,FALSE), \"\")","v":""},{"$f":"_xlfn.IFNA(VLOOKUP(C32,'REGENERATION CALC'!$C$7:$F$23,3,FALSE),\"\")","v":""},{"$f":"_xlfn.IFNA(VLOOKUP(C32,'REGENERATION CALC'!$C$7:$F$23,4,FALSE),\"\")","v":""},{"$f":"_xlfn.IFNA(VLOOKUP(D32,'REGENERATION CALC'!$C$7:$F$23,1,FALSE), \"\")","v":""},{"$f":"_xlfn.IFNA(VLOOKUP(D32,'REGENERATION CALC'!$C$7:$F$23,3,FALSE),\"\")","v":""},{"$f":"_xlfn.IFNA(VLOOKUP(D32,'REGENERATION CALC'!$C$7:$F$23,4,FALSE),\"\")","v":""},{"$f":"_xlfn.IFNA(VLOOKUP(E32,'REGENERATION CALC'!$C$7:$F$23,1,FALSE), \"\")","v":""},{"$f":"_xlfn.IFNA(VLOOKUP(E32,'REGENERATION CALC'!$C$7:$F$23,3,FALSE),\"\")","v":""},{"$f":"_xlfn.IFNA(VLOOKUP(E32,'REGENERATION CALC'!$C$7:$F$23,4,FALSE),\"\")","v":""},null,null,{"$f":"C22","v":0},{"$f":"#REF!","v":{"$error":"#REF!"}},{"$f":"#REF!","v":{"$error":"#REF!"}},{"$f":"'Data Entry'!C33","v":0},1,"",1,"",1,""]
[{"$nulls":6},{"$f":"_xlfn.IFNA(VLOOKUP(B33,'OVERSTORY CALC'!$C$7:$F$23,1,FALSE), \"\")","v":""},{"$f":"_xlfn.IFNA(VLOOKUP(B33,'OVERSTORY CALC'!$C$7:$F$23,4,FALSE),\"\")","v":""},{"$f":"_xlfn.IFNA(VLOOKUP(C33,'OVERSTORY CALC'!$C$7:$F$23,1,FALSE),\"\")","v":""},{"$f":"_xlfn.IFNA(VLOOKUP(C33,'OVERSTORY CALC'!$C$7:$F$23,4,FALSE),\"\")","v":""},{"$f":"_xlfn.IFNA(VLOOKUP(D33,'OVERSTORY CALC'!$C$7:$F$23,1,FALSE),\"\")","v":""},{"$f":"_xlfn.IFNA(VLOOKUP(D33,'OVERSTORY CALC'!$C$7:$F$23,4,FALSE),\"\")","v":""},{"$f":"_xlfn.IFNA(VLOOKUP(E33,'OVERSTORY CALC'!$C$7:$F$23,1,FALSE),\"\")","v":""},{"$f":"_xlfn.IFNA(VLOOKUP(E33,'OVERSTORY CALC'!$C$7:$F$23,4,FALSE),\"\")","v":""},null,{"$f":"_xlfn.IFNA(VLOOKUP(B33,'REGENERATION CALC'!$C$7:$F$23,1,FALSE), \"\")","v":""},{"$f":"_xlfn.IFNA(VLOOKUP(B33,'REGENERATION CALC'!$C$7:$F$23,3,FALSE),\"\")","v":""},{"$f":"_xlfn.IFNA(VLOOKUP(B33,'REGENERATION CALC'!$C$7:$F$23,4,FALSE),\"\")","v":""},{"$f":"_xlfn.IFNA(VLOOKUP(C33,'REGENERATION CALC'!$C$7:$F$23,1,FALSE), \"\")","v":""},{"$f":"_xlfn.IFNA(VLOOKUP(C33,'REGENERATION CALC'!$C$7:$F$23,3,FALSE),\"\")","v":""},{"$f":"_xlfn.IFNA(VLOOKUP(C33,'REGENERATION CALC'!$C$7:$F$23,4,FALSE),\"\")","v":""},{"$f":"_xlfn.IFNA(VLOOKUP(D33,'REGENERATION CALC'!$C$7:$F$23,1,FALSE), \"\")","v":""},{"$f":"_xlfn.IFNA(VLOOKUP(D33,'REGENERATION CALC'!$C$7:$F$23,3,FALSE),\"\")","v":""},{"$f":"_xlfn.IFNA(VLOOKUP(D33,'REGENERATION CALC'!$C$7:$F$23,4,FALSE),\"\")","v":""},{"$f":"_xlfn.IFNA(VLOOKUP(E33,'REGENERATION CALC'!$C$7:$F$23,1,FALSE), \"\")","v":""},{"$f":"_xlfn.IFNA(VLOOKUP(E33,'REGENERATION CALC'!$C$7:$F$23,3,FALSE),\"\")","v":""},{"$f":"_xlfn.IFNA(VLOOKUP(E33,'REGENERATION CALC'!$C$7:$F$23,4,FALSE),\"\")","v":""},null,null,0,{"$f":"#REF!","v":{"$error":"#REF!"}},{"$f":"#REF!","v":{"$error":"#REF!"}},{"$f":"'Data Entry'!C34","v":0},1,"",1,"",1,""]
[{"$nulls":29},0,null,null,{"$f":"'Data Entry'!C35","v":0},1,""]
[{"$nulls":29},0,null,null,{"$f":"'Data Entry'!C36","v":0},1,""]
[{"$nulls":29},0,null,null,{"$f":"'Data Entry'!C37","v":0},1,""]
[{"$nulls":29},0,null,null,{"$f":"'Data Entry'!C38","v":0},1,""]
[{"$nulls":29},0,null,null,{"$f":"'Data Entry'!C39","v":0},1,""]
[{"$nulls":29},0,null,null,{"$f":"'Data Entry'!C40","v":0},1,""]
[{"$nulls":29},0,null,null,{"$f":"'Data Entry'!C41","v":0},1,""]
[{"$nulls":29},0,null,null,{"$f":"'Data Entry'!C42","v":0},1,""]
[{"$nulls":29},0]
[{"$nulls":29},0]
[{"$nulls":29},{"$f":"D16","v":"VAP"}]
[{"$nulls":29},{"$f":"D17","v":"ASH"}]
[{"$nulls":29},{"$f":"D18","v":"REM"}]
[{"$nulls":29},"SWG"]
[{"$nulls":29},"SAS"]
[{"$nulls":29},0]
[{"$nulls":29},0]
[{"$nulls":29},0]
[{"$nulls":29},0]
[{"$nulls":29},0]
[{"$nulls":29},0]
[{"$nulls":29},0]
[{"$nulls":29},0]
[{"$nulls":29},0]
[{"$nulls":29},0]
[{"$nulls":29},0]
[{"$nulls":29},0]
[{"$nulls":29},0]
[{"$nulls":29},{"$f":"E16","v":"TOH"}]
[{"$nulls":29},{"$f":"E17","v":"PAU"}]
[{"$nulls":29},"CAP"]
[{"$nulls":29},"MIM"]
[{"$nulls":29},0]
[{"$nulls":29},0]
[{"$nulls":29},0]
[{"$nulls":29},0]
[{"$nulls":29},0]
[{"$nulls":29},0]
[{"$nulls":29},0]
[{"$nulls":29},0]
[{"$nulls":29},0]
[{"$nulls":29},0]
[{"$nulls":29},0]
[{"$nulls":29},0]
[{"$nulls":29},0]
[{"$nulls":29},0]

{"sheet":"Species Codes OLD","index":12,"n_rows":30,"n_cols":14,"rows_kept":30,"hidden":true,"merged":[[11,12,11,13],[12,12,12,13]]}
[{"$nulls":6},"Common Tree and Shrub Abbreviation List"]
[]
["TREE","CODE",null,"TREE","CODE",null,"TREE","CODE",null,"TREE","CODE",null,"INVASIVE TREES","Code"]
["Alder, general                      ","ALD",null,"Cypress, bald                              ","CYP",null,"Maple, red","REM",null,"Persimmon                             ","PER",null,"Bradford pear ","BRP"]
["Apple, common ","APP",null,"Dogwood, Red Osier","ROD",null,"Maple, silver","SIM",null,"Pine, loblolly","LOB",null,"Tree-of-Heaven  ","TOH"]
["Apple, crab","CRA",null,"Dogwood, Silky","SIS",null,"Maple, striped","STM",null,"Pine, longleaf","LLP",null,"Trifoliate orange ","TRO"]
["Ash, general        ","ASH",null,"Dogwood, flowering","DOG",null,"Maple, sugar","SUM",null,"Pine, pitch","PIP",null,"Paulownia","PAU"]
["Ash, green","GRA",null,"Elderberry","ELD",null,"Magnolia, Frasier","FRM",null,"Pine, pond","POP",null,"Mimosa","MIM"]
["Ash, white","WHA",null,"Elm - General","ELM",null,"Mulberry","MUL",null,"Pine, Scotch","SCP",null,"Callery Pear","CAP"]
["Aspen","ASP",null,"Elm, American","AME",null,"Ninebark","NIN",null,"Pine, shortleaf","SHP"]
["Basswood","BAS",null,"Elm, slippery","SLE",null,"Oak, black","BLO",null,"Pine, table-mountain","TMP"]
["Bay, sweet","BAY",null,"Elm, winged","WIE",null,"Oak, cherrybark","CBO",null,"Pine, Virginia","VAP",null,"OTHER INVASIVES TO NOTE"]
["Beech                               ","BEE",null,"Fir, balsam","BAF",null,"Oak, chestnut","CHO",null,"Pine, white","WHP",null,"TALLY AS NEEDED"]
["Birch, black","BLB",null,"Fir, Fraser","FRF",null,"Oak, chinkapin","CPO",null,"Plum, American","AMP",null,"Autumn-olive","AUO"]
["Birch, river                             ","RIB",null,"Hemlock","HEM",null,"Oak, live","LIO",null,"Redbud","RED",null,"Multiflora Rose ","MFR"]
["Birch, yellow","YEB",null,"Hackberry","HAC",null,"Oak, laurel","LAO",null,"Serviceberry","SVC",null,"Chinese Privet","CHP"]
["Blackgum                           ","BLG",null,"Hawthorn","HAW",null,"Oak, northern red            ","NRO",null,"Sourwood","SOU",null,"Kudzu","KUD"]
["Blackgum, swamp","SWB",null,"Hazlenut","HAZ",null,"Oak, overcup                    ","OCO",null,"Sassafras","SAS",null,"Asiatic Bittersweet","ASB"]
["Boxelder","BOX",null,"Hickory  -  General                          ","HIC",null,"Oak, pin                         ","PIO",null,"Spicebush","SPB",null,"Porcelain-berry","POB"]
["Buckeye, yellow","BUC",null,"Hickory, bitternut","BIH",null,"Oak, post                          ","POO",null,"Spruce, red","RES",null,"Japanese Honeysuckle","JAH"]
["Butternut                                ","BUT",null,"Hickory, mockernut","MOH",null,"Oak, sawtooth ","STO",null,"Spruce, Norway","NOS",null,"Mile-a-Minute","MAM"]
["Buttonbush","BUB",null,"Hickery, pignut","PIH",null,"Oak, scarlet                ","SCO",null,"Sweetgum","SWG",null,"Garlic Mustard","GAM"]
["Cedar, E. Red","ERC",null,"Hickory, shagbark","SHH",null,"Oak, southern red         ","SRO",null,"Sumac","MAC",null,"Japanese Stiltgrass","JSG"]
["Cedar, N. white","NWC",null,"Hickory, water","WAH",null,"Oak, swamp chestnut ","SWC",null,"Sycamore","SYC",null,"Wavyleaf Grass","WLG"]
["Cedar, Atlantic white","AWC",null,"Holly, American","AMH",null,"Oak, swamp white           ","SWW",null,"Viburnum","VIB"]
["Cherry, black","BLC",null,"Hophornbeam (Ironwood)","HOP",null,"Oak,  water                       ","WAO",null,"Walnut, black                           ","BLW"]
["Chestnut, American","AMC",null,"Hornbeam (Musclewood)","MUS",null,"Oak, white                        ","WHO",null,"Willow, black","WIL"]
["Chestnut, Chinese","CHC",null,"Inkberry","INK",null,"Oak, willow            ","WIO",null,"Witch-hazel","WIH"]
["Cottonwood                            ","COT",null,"Locust, black                         ","BLL",null,"Osage-orange ","OSO",null,"Yellow poplar             ","YEP"]
["Cucumbertree","CUC",null,"Locust, honey","HOL",null,"Pawpaw","PAW"]

{"sheet":"Sp code with shrub box","index":13,"n_rows":33,"n_cols":14,"rows_kept":33,"hidden":true,"merged":[[12,9,12,10],[12,12,12,13],[13,9,13,10],[13,12,13,13]]}
[{"$nulls":6},"COMMON TREE AND SHRUB ABBREVIATION LIST"]
[]
["TREE","CODE",null,"TREE","CODE",null,"TREE","CODE",null,"TREE","CODE",null,"INVASIVE TREES","Code"]
["Apple, common ","APP",null,"Fir, balsam","BAF",null,"Oak, overcup                    ","OCO",null,"Spruce, Norway","NOS",null,"Bradford pear ","BRP"]
["Apple, crab","CRA",null,"Fir, Fraser","FRF",null,"Oak, pin                         ","PIO",null,"Sweetgum","SWG",null,"Tree-of-Heaven  ","TOH"]
["Ash, general        ","ASH",null,"Hemlock","HEM",null,"Oak, post                          ","POO",null,"Sycamore","SYC",null,"Trifoliate orange ","TRO"]
["Ash, green","GRA",null,"Hackberry","HAC",null,"Oak, sawtooth ","STO",null,"Walnut, black                           ","BLW",null,"Paulownia","PAU"]
["Ash, white","WHA",null,"Hawthorn","HAW",null,"Oak, scarlet                ","SCO",null,"Willow, black","WIL",null,"Mimosa","MIM"]
["Aspen","ASP",null,"Hickory  -  General                          ","HIC",null,"Oak, southern red         ","SRO",null,"Yellow Poplar             ","YEP",null,"Callery Pear","CAP"]
["Baldcypress","BAL",null,"Hickory, bitternut","BIH",null,"Oak, swamp chestnut ","SWC",{"$nulls":4},"Mulberry, White","WHM"]
["Basswood","BAS",null,"Hickory, mockernut","MOH",null,"Oak, swamp white           ","SWW"]
["Beech                               ","BEE",null,"Hickory, pignut","PIH",null,"Oak,  water                       ","WAO"]
["Birch, black","BLB",null,"Hickory, shagbark","SHH",null,"Oak, white                        ","WHO",null,"TALLY OR NOTE",null,null,"TALLY OR NOTE"]
["Birch, river                             ","RIB",null,"Hickory, water","WAH",null,"Oak, willow            ","WIO",null,"AS NEEDED",null,null,"OR TALLY AS NEEDED"]
["Birch, yellow","YEB",null,"Holly, American","AMH",null,"Oak, general","OAK",null,"SHRUB","CODE",null,"OTHER INVASIVES","CODE"]
["Blackgum                           ","BLG",null,"Hophornbeam (Ironwood)","HOP",null,"Osage-orange ","OSO",null,"Alder, general                      ","ALD",null,"Autumn-olive","AUO"]
["Blackgum, swamp","SWB",null,"Hornbeam (Musclewood)","MUS",null,"Pawpaw","PAW",null,"Buttonbush","BUB",null,"Multiflora Rose ","MFR"]
["Boxelder","BOX",null,"Locust, black                         ","BLL",null,"Pecan","PEC",null,"Dogwood, Red Osier","ROD",null,"Chinese Privet","CHP"]
["Buckeye, yellow","BUC",null,"Locust, honey","HOL",null,"Persimmon                             ","PER",null,"Dogwood, Silky","SID",null,"Kudzu","KUD"]
["Butternut                                ","BUT",null,"Maple, red","REM",null,"Pine, loblolly","LOB",null,"Elderberry","ELD",null,"Asiatic Bittersweet","ASB"]
["Cedar, E. Red","ERC",null,"Maple, silver","SIM",null,"Pine, longleaf","LLP",null,"Hazlenut","HAZ",null,"Porcelain-berry","POB"]
["Cedar, N. white","NWC",null,"Maple, striped","STM",null,"Pine, pitch","PIP",null,"Inkberry","INK",null,"Japanese Honeysuckle","JAH"]
["Cedar, Atlantic white","AWC",null,"Maple, sugar","SUM",null,"Pine, pond","POP",null,"Ninebark","NIN",null,"Mile-a-Minute","MAM"]
["Cherry, Black","BLC",null,"Magnolia, Frasier","FRM",null,"Pine, Scotch","SCP",null,"Plum, American","AMP",null,"Garlic Mustard","GAM"]
["Chestnut, American","AMC",null,"Magnolia, Sweetbay","SBM",null,"Pine, shortleaf","SHP",null,"Spicebush","SPB",null,"Japanese Stiltgrass","JSG"]
["Chestnut, Chinese","CHC",null,"Mulberry, Red","RMU",null,"Pine, table-mountain","TMP",null,"Sumac","MAC",null,"Wavyleaf Grass","WLG"]
["Cottonwood                            ","COT",null,"Oak, black","BLO",null,"Pine, Virginia","VAP",null,"Viburnum","VIB"]
["Cucumbertree","CUC",null,"Oak, cherrybark","CBO",null,"Pine, white","WHP",null,"Witch-hazel","WIH"]
["Dogwood, flowering","DOG",null,"Oak, chestnut","CHO",null,"Redbud","RED",null,"Holly, Winterberry","WBH"]
["Elm - General","ELM",null,"Oak, chinkapin","CPO",null,"Serviceberry","SVC",null,"Sweet Pepperbush","SWP"]
["Elm, American","AME",null,"Oak, live","LIO",null,"Sourwood","SOU",null,"Wax Myrtle","WAX"]
["Elm, slippery","SLE",null,"Oak, laurel","LAO",null,"Sassafras","SAS"]
["Elm, winged","WIE",null,"Oak, northern red            ","NRO",null,"Spruce, red","RES"]

{"sheet":"Species Codes","index":14,"n_rows":31,"n_cols":10,"rows_kept":31,"merged":[[11,8,11,9],[12,8,12,9]]}
[{"$nulls":4},"COMMON TREE AND SHRUB ABBREVIATION LIST"]
[]
["TREE","CODE","TREE","CODE","TREE","CODE","TREE","CODE","INVASIVE TREES","Code"]
["Alder, general                      ","ALD","Dogwood, Silky","SID","Maple, Red","REM","Pine, Loblolly","LOB","Bradford Pear ","BRP"]
["American plum","AMP","Dogwood, Flowering","FLD","Maple, Silver","SIM","Pine, Longleaf","LLP","Tree-of-Heaven  ","TOH"]
["Apple, common ","APP","Eastern Redcedar","ERC","Maple, Striped","STM","Pine, Pitch","PIP","Trifoliate Orange ","TRO"]
["Apple, crabapple","CRA","Elderberry","ELD","Maple, Sugar","SUM","Pine, Pond","POP","Paulownia","PAU"]
["Ash, general        ","ASH","Elm - General","ELM","Ninebark","NIN","Pine, Scotch","SCP","Mimosa","MIM"]
["Ash, green","GRA","Elm, American","AME","Eastern Redcedar","NWC","Pine, Shortleaf","SHP","Callery Ppear","CAP"]
["Ash, white","WHA","Elm, Slippery","SLE","Oak, general","OAK","Pine, Table-mountain","TMP","White Mulberry","WHM"]
["Aspen","ASP","Elm, Winged","WIE","Oak, Black","BLO","Pine, Virginia","VAP"]
["Atlantic white-cedar","AWC","Fir, Balsam","BAF","Oak, Cherrybark","CBO","Pine, White","WHP","OTHER INVASIVES TO NOTE"]
["Basswood","BAS","Fir, Fraser","FRF","Oak, Chestnut","CHO","Redbud","RED","OR TALLY AS NEEDED"]
["Black Cherry","BLC","Frasier Magnolia","FRM","Oak, Chinkapin","CPO","Red Mulberry","RMU","Autumn-olive","AUO"]
["Black Walnut","BLW","Hemlock","HEM","Oak, Live","LIO","Serviceberry","SVC","Multiflora Rose ","MFR"]
["Beech                               ","BEE","Hackberry","HAC","Oak, Laurel","LAO","Sourwood","SOU","Chinese Privet","CHP"]
["Birch, Black","BLB","Hawthorn","HAW","Oak, Northern Red            ","NRO","Sassafras","SAS","Kudzu","KUD"]
["Birch, River                             ","RIB","Hazlenut","HAZ","Oak, Overcup                    ","OCO","Spicebush","SPB","Asiatic Bittersweet","ASB"]
["Birch, Yellow","YEB","Hickory  -  General                          ","HIC","Oak, Pin                         ","PIO","Spruce, Red","RES","Porcelain-berry","POB"]
["Blackgum                           ","BLG","Hickory, Bitternut","BIH","Oak, Post                          ","POO","Spruce, Norway","NOS","Japanese Honeysuckle","JAH"]
["Blackgum, Swamp","SWB","Hickory, Mockernut","MOH","Oak, Sawtooth ","STO","Sweetgum","SWG","Mile-a-Minute","MAM"]
["Boxelder","BOX","Hickory, Pignut","PIH","Oak, Scarlet                ","SCO","Sumac","MAC","Garlic Mustard","GAM"]
["Butternut                                ","BUT","Hickory, Shagbark","SHH","Oak, Southern Red         ","SRO","Sweetbay","BAY","Japanese Stiltgrass","JSG"]
["Buttonbush","BUB","Hickory, Water","WAH","Oak, Swamp Chestnut ","SWC","Sweet Pepperbush","SWP","Wavyleaf Grass","WLG"]
["Chestnut, American","AMC","Holly, American","AMH","Oak, Swamp White           ","SWW","Sycamore","SYC"]
["Chestnut, Chinese","CHC","Holly, Winterberry","WBH","Oak, Water                       ","WAO","Viburnum","VIB"]
["Cottonwood                            ","COT","Hophornbeam (Ironwood)","HOP","Oak, White                        ","WHO","Wax Myrtle","WAX"]
["Cucumbertree","CUC","Hornbeam (Musclewood)","MUS","Oak, Willow            ","WIO","Black Willow","WIL"]
["Baldcypress","BAL","Inkberry","INK","Osage-orange ","OSO","Witch-hazel","WIH"]
["Dogwood, Red Osier","ROD","Locust, Black                         ","BLL","Pawpaw","PAW","Yellow Buckeye","BUC"]
[null,null,"Locust, Honey","HOL","Persimmon                             ","PER","Yellow-poplar             ","YEP"]

{"sheet":"Stocking Charts","index":15,"n_rows":55,"n_cols":2,"rows_kept":55,"hidden":true,"merged":[[0,0,0,17],[1,0,1,17],[51,1,51,15],[52,1,52,15],[53,1,53,16],[54,1,54,15]]}
["STOCKING, GROWTH, AND YIELD OF OAK STANDS\nby SAMUEL F. GINGRICH, Principal Mensurationist, Northeastern Forest Experiment Station, Forest Service, USDA, Columbus, Ohio."]
["https://www.nrs.fs.fed.us/pubs/other/oak_sym/oak_symposium_proceedings_065.pdf"]
{"$rows_empty":50}
[null,"A Stocking Guide for Allegheny Hardwoods and Its Use in Controlled Intermediate Cuttings"]
[null,"Benjamin Roach, Research Forester with Northeastern Forest Experiment Station, Forest Service, USDA, Warren, Pennsylvania"]
[null,"https://www.fs.usda.gov/treesearch/pubs/14498"]

{"sheet":"Password","index":16,"n_rows":2,"n_cols":2,"rows_kept":2,"hidden":true,"merged":[[1,1,1,7]]}
[]
[null,"The password to unlock any sheet in this workbook is \"Creighton\""]

{"sheet":"#PlotsNeeded","index":17,"n_rows":420,"n_cols":20,"rows_kept":420,"hidden":true}
[null,"Stand Acres","# Plots",null,null,1,{"$f":"C2","v":3},null,null,"Stand Acres","# Plots",null,"Stand Acres","# Plots",null,"Stand Acres","# Plots",null,1,5]
[null,1,3,null,null,2,{"$f":"C3","v":3},null,null,1,5,null,"61-65",21,null,"221-230",41,null,2,5]
[null,2,3,null,null,3,3,null,null,2,5,null,"66-70",22,null,"231-240",42,null,3,5]
[null,3,3,null,null,4,3,null,null,3,5,null,"71-75",23,null,"242-250",43,null,4,5]
[null,4,3,null,null,5,3,null,null,4,5,null,"76-80",24,null,"251-260",44,null,5,5]
[null,5,3,null,null,6,3,null,null,5,5,null,"81-85",25,null,"261-270",45,null,6,6]
[null,6,3,null,null,7,3,null,null,6,6,null,"86-90",26,null,"271-280",46,null,7,7]
[null,7,3,null,null,8,3,null,null,7,7,null,"91-95",27,null,"281-290",47,null,8,8]
[null,8,3,null,null,9,3,null,null,8,8,null,"96-100",28,null,"291-300",48,null,9,9]
[null,9,3,null,null,10,3,null,null,9,9,null,"101-110",29,null,"301-310",49,null,10,10]
[null,10,3,null,null,11,{"$f":"C$12","v":6},null,null,10,10,null,"111-120",30,null,"311-320",50,null,11,11]
[null,"11-29",6,null,null,12,{"$f":"C$12","v":6},null,null,"11-15",11,null,"121-130",31,null,"321-330",51,null,12,11]
[null,"31-50",9,null,null,13,6,null,null,"16-20",12,null,"131-140",32,null,"331-340",52,null,13,11]
[null,"51-70",12,null,null,14,6,null,null,"21-25",13,null,"141-150",33,null,"341-350",53,null,14,11]
[null,"71-75",15,null,null,15,6,null,null,"26-30",14,null,"151-160",34,null,"351-360",54,null,15,11]
[null,"91+",18,null,null,16,6,null,null,"31-35",15,null,"161-170",35,null,"361-370",55,null,16,12]
[{"$nulls":5},17,6,null,null,"36-40",16,null,"171-180",36,null,"371-380",56,null,17,12]
[{"$nulls":5},18,6,null,null,"41-45",17,null,"181-190",37,null,"381-390",57,null,18,12]
[{"$nulls":5},19,6,null,null,"46-50",18,null,"191-200",38,null,"391-400",58,null,19,12]
[{"$nulls":5},20,6,null,null,"51-55",19,null,"201-210",39,null,"401-410",59,null,20,12]
[{"$nulls":5},21,6,null,null,"56-60",20,null,"211-220",40,null,"411-420",60,null,21,13]
[{"$nulls":5},22,6,{"$nulls":11},22,13]
[{"$nulls":5},23,6,{"$nulls":11},23,13]
[{"$nulls":5},24,6,{"$nulls":11},24,13]
[{"$nulls":5},25,6,{"$nulls":11},25,13]
[{"$nulls":5},26,6,{"$nulls":11},26,14]
[{"$nulls":5},27,6,{"$nulls":11},27,14]
[{"$nulls":5},28,6,{"$nulls":11},28,14]
[{"$nulls":5},29,6,{"$nulls":11},29,14]
[{"$nulls":5},30,6,{"$nulls":11},30,14]
[{"$nulls":5},31,{"$f":"C$13","v":9},{"$nulls":11},31,15]
[{"$nulls":5},32,{"$f":"C$13","v":9},{"$nulls":11},32,15]
[{"$nulls":5},33,9,{"$nulls":11},33,15]
[{"$nulls":5},34,9,{"$nulls":11},34,15]
[{"$nulls":5},35,9,{"$nulls":11},35,15]
[{"$nulls":5},36,9,{"$nulls":11},36,16]
[{"$nulls":5},37,9,{"$nulls":11},37,16]
[{"$nulls":5},38,9,{"$nulls":11},38,16]
[{"$nulls":5},39,9,{"$nulls":11},39,16]
[{"$nulls":5},40,9,{"$nulls":11},40,16]
[{"$nulls":5},41,9,{"$nulls":11},41,17]
[{"$nulls":5},42,9,{"$nulls":11},42,17]
[{"$nulls":5},43,9,{"$nulls":11},43,17]
[{"$nulls":5},44,9,{"$nulls":11},44,17]
[{"$nulls":5},45,9,{"$nulls":11},45,17]
[{"$nulls":5},46,9,{"$nulls":11},46,18]
[{"$nulls":5},47,9,{"$nulls":11},47,18]
[{"$nulls":5},48,9,{"$nulls":11},48,18]
[{"$nulls":5},49,9,{"$nulls":11},49,18]
[{"$nulls":5},50,9,{"$nulls":11},50,18]
[{"$nulls":5},51,{"$f":"C$14","v":12},{"$nulls":11},51,19]
[{"$nulls":5},52,{"$f":"C$14","v":12},{"$nulls":11},52,19]
[{"$nulls":5},53,12,{"$nulls":11},53,19]
[{"$nulls":5},54,12,{"$nulls":11},54,19]
[{"$nulls":5},55,12,{"$nulls":11},55,19]
[{"$nulls":5},56,12,{"$nulls":11},56,20]
[{"$nulls":5},57,12,{"$nulls":11},57,20]
[{"$nulls":5},58,12,{"$nulls":11},58,20]
[{"$nulls":5},59,12,{"$nulls":11},59,20]
[{"$nulls":5},60,12,{"$nulls":11},60,20]
[{"$nulls":5},61,12,{"$nulls":11},61,21]
[{"$nulls":5},62,12,{"$nulls":11},62,21]
[{"$nulls":5},63,12,{"$nulls":11},63,21]
[{"$nulls":5},64,12,{"$nulls":11},64,21]
[{"$nulls":5},65,12,{"$nulls":11},65,21]
[{"$nulls":5},66,12,{"$nulls":11},66,22]
[{"$nulls":5},67,12,{"$nulls":11},67,22]
[{"$nulls":5},68,12,{"$nulls":11},68,22]
[{"$nulls":5},69,12,{"$nulls":11},69,22]
[{"$nulls":5},70,12,{"$nulls":11},70,22]
[{"$nulls":5},71,{"$f":"C$15","v":15},{"$nulls":11},71,23]
[{"$nulls":5},72,15,{"$nulls":11},72,23]
[{"$nulls":5},73,15,{"$nulls":11},73,23]
[{"$nulls":5},74,15,{"$nulls":11},74,23]
[{"$nulls":5},75,15,{"$nulls":11},75,23]
[{"$nulls":5},76,15,{"$nulls":11},76,24]
[{"$nulls":5},77,15,{"$nulls":11},77,24]
[{"$nulls":5},78,15,{"$nulls":11},78,24]
[{"$nulls":5},79,15,{"$nulls":11},79,24]
[{"$nulls":5},80,15,{"$nulls":11},80,24]
[{"$nulls":5},81,15,{"$nulls":11},81,25]
[{"$nulls":5},82,15,{"$nulls":11},82,25]
[{"$nulls":5},83,15,{"$nulls":11},83,25]
[{"$nulls":5},84,15,{"$nulls":11},84,25]
[{"$nulls":5},85,15,{"$nulls":11},85,25]
[{"$nulls":5},86,15,{"$nulls":11},86,26]
[{"$nulls":5},87,15,{"$nulls":11},87,26]
[{"$nulls":5},88,15,{"$nulls":11},88,26]
[{"$nulls":5},89,15,{"$nulls":11},89,26]
[{"$nulls":5},90,15,{"$nulls":11},90,26]
[{"$nulls":5},91,{"$f":"C$16","v":18},{"$nulls":11},91,27]
[{"$nulls":5},92,18,{"$nulls":11},92,27]
[{"$nulls":5},93,18,{"$nulls":11},93,27]
[{"$nulls":5},94,18,{"$nulls":11},94,27]
[{"$nulls":5},95,18,{"$nulls":11},95,27]
[{"$nulls":5},96,18,{"$nulls":11},96,28]
[{"$nulls":5},97,18,{"$nulls":11},97,28]
[{"$nulls":5},98,18,{"$nulls":11},98,28]
[{"$nulls":5},99,18,{"$nulls":11},99,28]
[{"$nulls":5},100,18,{"$nulls":11},100,28]
[{"$nulls":5},101,18,{"$nulls":11},101,29]
[{"$nulls":5},102,18,{"$nulls":11},102,29]
[{"$nulls":5},103,18,{"$nulls":11},103,29]
[{"$nulls":5},104,18,{"$nulls":11},104,29]
[{"$nulls":5},105,18,{"$nulls":11},105,29]
[{"$nulls":5},106,18,{"$nulls":11},106,29]
[{"$nulls":5},107,18,{"$nulls":11},107,29]
[{"$nulls":5},108,18,{"$nulls":11},108,29]
[{"$nulls":5},109,18,{"$nulls":11},109,29]
[{"$nulls":5},110,18,{"$nulls":11},110,29]
[{"$nulls":5},111,18,{"$nulls":11},111,30]
[{"$nulls":5},112,18,{"$nulls":11},112,30]
[{"$nulls":5},113,18,{"$nulls":11},113,30]
[{"$nulls":5},114,18,{"$nulls":11},114,30]
[{"$nulls":5},115,18,{"$nulls":11},115,30]
[{"$nulls":5},116,18,{"$nulls":11},116,30]
[{"$nulls":5},117,18,{"$nulls":11},117,30]
[{"$nulls":5},118,18,{"$nulls":11},118,30]
[{"$nulls":5},119,18,{"$nulls":11},119,30]
[{"$nulls":5},120,18,{"$nulls":11},120,30]
[{"$nulls":5},121,18,{"$nulls":11},121,31]
[{"$nulls":5},122,18,{"$nulls":11},122,31]
[{"$nulls":5},123,18,{"$nulls":11},123,31]
[{"$nulls":5},124,18,{"$nulls":11},124,31]
[{"$nulls":5},125,18,{"$nulls":11},125,31]
[{"$nulls":5},126,18,{"$nulls":11},126,31]
[{"$nulls":5},127,18,{"$nulls":11},127,31]
[{"$nulls":5},128,18,{"$nulls":11},128,31]
[{"$nulls":5},129,18,{"$nulls":11},129,31]
[{"$nulls":5},130,18,{"$nulls":11},130,31]
[{"$nulls":5},131,18,{"$nulls":11},131,32]
[{"$nulls":5},132,18,{"$nulls":11},132,32]
[{"$nulls":5},133,18,{"$nulls":11},133,32]
[{"$nulls":5},134,18,{"$nulls":11},134,32]
[{"$nulls":5},135,18,{"$nulls":11},135,32]
[{"$nulls":5},136,18,{"$nulls":11},136,32]
[{"$nulls":5},137,18,{"$nulls":11},137,32]
[{"$nulls":5},138,18,{"$nulls":11},138,32]
[{"$nulls":5},139,18,{"$nulls":11},139,32]
[{"$nulls":5},140,18,{"$nulls":11},140,32]
[{"$nulls":5},141,18,{"$nulls":11},141,33]
[{"$nulls":5},142,18,{"$nulls":11},142,33]
[{"$nulls":5},143,18,{"$nulls":11},143,33]
[{"$nulls":5},144,18,{"$nulls":11},144,33]
[{"$nulls":5},145,18,{"$nulls":11},145,33]
[{"$nulls":5},146,18,{"$nulls":11},146,33]
[{"$nulls":5},147,18,{"$nulls":11},147,33]
[{"$nulls":5},148,18,{"$nulls":11},148,33]
[{"$nulls":5},149,18,{"$nulls":11},149,33]
[{"$nulls":5},150,18,{"$nulls":11},150,33]
[{"$nulls":5},151,18,{"$nulls":11},151,34]
[{"$nulls":5},152,18,{"$nulls":11},152,34]
[{"$nulls":5},153,18,{"$nulls":11},153,34]
[{"$nulls":5},154,18,{"$nulls":11},154,34]
[{"$nulls":5},155,{"$f":"C$16","v":18},{"$nulls":11},155,34]
[{"$nulls":5},156,18,{"$nulls":11},156,34]
[{"$nulls":5},157,18,{"$nulls":11},157,34]
[{"$nulls":5},158,18,{"$nulls":11},158,34]
[{"$nulls":5},159,18,{"$nulls":11},159,34]
[{"$nulls":5},160,18,{"$nulls":11},160,34]
[{"$nulls":5},161,18,{"$nulls":11},161,35]
[{"$nulls":5},162,18,{"$nulls":11},162,35]
[{"$nulls":5},163,18,{"$nulls":11},163,35]
[{"$nulls":5},164,18,{"$nulls":11},164,35]
[{"$nulls":5},165,18,{"$nulls":11},165,35]
[{"$nulls":5},166,18,{"$nulls":11},166,35]
[{"$nulls":5},167,18,{"$nulls":11},167,35]
[{"$nulls":5},168,18,{"$nulls":11},168,35]
[{"$nulls":5},169,18,{"$nulls":11},169,35]
[{"$nulls":5},170,18,{"$nulls":11},170,35]
[{"$nulls":5},171,18,{"$nulls":11},171,36]
[{"$nulls":5},172,18,{"$nulls":11},172,36]
[{"$nulls":5},173,18,{"$nulls":11},173,36]
[{"$nulls":5},174,18,{"$nulls":11},174,36]
[{"$nulls":5},175,18,{"$nulls":11},175,36]
[{"$nulls":5},176,18,{"$nulls":11},176,36]
[{"$nulls":5},177,18,{"$nulls":11},177,36]
[{"$nulls":5},178,18,{"$nulls":11},178,36]
[{"$nulls":5},179,18,{"$nulls":11},179,36]
[{"$nulls":5},180,18,{"$nulls":11},180,36]
[{"$nulls":5},181,18,{"$nulls":11},181,37]
[{"$nulls":5},182,18,{"$nulls":11},182,37]
[{"$nulls":5},183,18,{"$nulls":11},183,37]
[{"$nulls":5},184,18,{"$nulls":11},184,37]
[{"$nulls":5},185,18,{"$nulls":11},185,37]
[{"$nulls":5},186,18,{"$nulls":11},186,37]
[{"$nulls":5},187,18,{"$nulls":11},187,37]
[{"$nulls":5},188,18,{"$nulls":11},188,37]
[{"$nulls":5},189,18,{"$nulls":11},189,37]
[{"$nulls":5},190,18,{"$nulls":11},190,37]
[{"$nulls":5},191,18,{"$nulls":11},191,38]
[{"$nulls":5},192,18,{"$nulls":11},192,38]
[{"$nulls":5},193,18,{"$nulls":11},193,38]
[{"$nulls":5},194,18,{"$nulls":11},194,38]
[{"$nulls":5},195,18,{"$nulls":11},195,38]
[{"$nulls":5},196,18,{"$nulls":11},196,38]
[{"$nulls":5},197,18,{"$nulls":11},197,38]
[{"$nulls":5},198,18,{"$nulls":11},198,38]
[{"$nulls":5},199,18,{"$nulls":11},199,38]
[{"$nulls":5},200,18,{"$nulls":11},200,38]
[{"$nulls":5},201,18,{"$nulls":11},201,39]
[{"$nulls":5},202,18,{"$nulls":11},202,39]
[{"$nulls":5},203,18,{"$nulls":11},203,39]
[{"$nulls":5},204,18,{"$nulls":11},204,39]
[{"$nulls":5},205,18,{"$nulls":11},205,39]
[{"$nulls":5},206,18,{"$nulls":11},206,39]
[{"$nulls":5},207,18,{"$nulls":11},207,39]
[{"$nulls":5},208,18,{"$nulls":11},208,39]
[{"$nulls":5},209,18,{"$nulls":11},209,39]
[{"$nulls":5},210,18,{"$nulls":11},210,39]
[{"$nulls":5},211,18,{"$nulls":11},211,40]
[{"$nulls":5},212,18,{"$nulls":11},212,40]
[{"$nulls":5},213,18,{"$nulls":11},213,40]
[{"$nulls":5},214,18,{"$nulls":11},214,40]
[{"$nulls":5},215,18,{"$nulls":11},215,40]
[{"$nulls":5},216,18,{"$nulls":11},216,40]
[{"$nulls":5},217,18,{"$nulls":11},217,40]
[{"$nulls":5},218,18,{"$nulls":11},218,40]
[{"$nulls":5},219,{"$f":"C$16","v":18},{"$nulls":11},219,40]
[{"$nulls":5},220,18,{"$nulls":11},220,40]
[{"$nulls":5},221,18,{"$nulls":11},221,41]
[{"$nulls":5},222,18,{"$nulls":11},222,41]
[{"$nulls":5},223,18,{"$nulls":11},223,41]
[{"$nulls":5},224,18,{"$nulls":11},224,41]
[{"$nulls":5},225,18,{"$nulls":11},225,41]
[{"$nulls":5},226,18,{"$nulls":11},226,41]
[{"$nulls":5},227,18,{"$nulls":11},227,41]
[{"$nulls":5},228,18,{"$nulls":11},228,41]
[{"$nulls":5},229,18,{"$nulls":11},229,41]
[{"$nulls":5},230,18,{"$nulls":11},230,41]
[{"$nulls":5},231,18,{"$nulls":11},231,42]
[{"$nulls":5},232,18,{"$nulls":11},232,42]
[{"$nulls":5},233,18,{"$nulls":11},233,42]
[{"$nulls":5},234,18,{"$nulls":11},234,42]
[{"$nulls":5},235,18,{"$nulls":11},235,42]
[{"$nulls":5},236,18,{"$nulls":11},236,42]
[{"$nulls":5},237,18,{"$nulls":11},237,42]
[{"$nulls":5},238,18,{"$nulls":11},238,42]
[{"$nulls":5},239,18,{"$nulls":11},239,42]
[{"$nulls":5},240,18,{"$nulls":11},240,42]
[{"$nulls":5},241,18,{"$nulls":11},241,43]
[{"$nulls":5},242,18,{"$nulls":11},242,43]
[{"$nulls":5},243,18,{"$nulls":11},243,43]
[{"$nulls":5},244,18,{"$nulls":11},244,43]
[{"$nulls":5},245,18,{"$nulls":11},245,43]
[{"$nulls":5},246,18,{"$nulls":11},246,43]
[{"$nulls":5},247,18,{"$nulls":11},247,43]
[{"$nulls":5},248,18,{"$nulls":11},248,43]
[{"$nulls":5},249,18,{"$nulls":11},249,43]
[{"$nulls":5},250,18,{"$nulls":11},250,43]
[{"$nulls":5},251,18,{"$nulls":11},251,44]
[{"$nulls":5},252,18,{"$nulls":11},252,44]
[{"$nulls":5},253,18,{"$nulls":11},253,44]
[{"$nulls":5},254,18,{"$nulls":11},254,44]
[{"$nulls":5},255,18,{"$nulls":11},255,44]
[{"$nulls":5},256,18,{"$nulls":11},256,44]
[{"$nulls":5},257,18,{"$nulls":11},257,44]
[{"$nulls":5},258,18,{"$nulls":11},258,44]
[{"$nulls":5},259,18,{"$nulls":11},259,44]
[{"$nulls":5},260,18,{"$nulls":11},260,44]
[{"$nulls":5},261,18,{"$nulls":11},261,45]
[{"$nulls":5},262,18,{"$nulls":11},262,45]
[{"$nulls":5},263,18,{"$nulls":11},263,45]
[{"$nulls":5},264,18,{"$nulls":11},264,45]
[{"$nulls":5},265,18,{"$nulls":11},265,45]
[{"$nulls":5},266,18,{"$nulls":11},266,45]
[{"$nulls":5},267,18,{"$nulls":11},267,45]
[{"$nulls":5},268,18,{"$nulls":11},268,45]
[{"$nulls":5},269,18,{"$nulls":11},269,45]
[{"$nulls":5},270,18,{"$nulls":11},270,45]
[{"$nulls":5},271,18,{"$nulls":11},271,46]
[{"$nulls":5},272,18,{"$nulls":11},272,46]
[{"$nulls":5},273,18,{"$nulls":11},273,46]
[{"$nulls":5},274,18,{"$nulls":11},274,46]
[{"$nulls":5},275,18,{"$nulls":11},275,46]
[{"$nulls":5},276,18,{"$nulls":11},276,46]
[{"$nulls":5},277,18,{"$nulls":11},277,46]
[{"$nulls":5},278,18,{"$nulls":11},278,46]
[{"$nulls":5},279,18,{"$nulls":11},279,46]
[{"$nulls":5},280,18,{"$nulls":11},280,46]
[{"$nulls":5},281,18,{"$nulls":11},281,47]
[{"$nulls":5},282,18,{"$nulls":11},282,47]
[{"$nulls":5},283,{"$f":"C$16","v":18},{"$nulls":11},283,47]
[{"$nulls":5},284,18,{"$nulls":11},284,47]
[{"$nulls":5},285,18,{"$nulls":11},285,47]
[{"$nulls":5},286,18,{"$nulls":11},286,47]
[{"$nulls":5},287,18,{"$nulls":11},287,47]
[{"$nulls":5},288,18,{"$nulls":11},288,47]
[{"$nulls":5},289,18,{"$nulls":11},289,47]
[{"$nulls":5},290,18,{"$nulls":11},290,47]
[{"$nulls":5},291,18,{"$nulls":11},291,48]
[{"$nulls":5},292,18,{"$nulls":11},292,48]
[{"$nulls":5},293,18,{"$nulls":11},293,48]
[{"$nulls":5},294,18,{"$nulls":11},294,48]
[{"$nulls":5},295,18,{"$nulls":11},295,48]
[{"$nulls":5},296,18,{"$nulls":11},296,48]
[{"$nulls":5},297,18,{"$nulls":11},297,48]
[{"$nulls":5},298,18,{"$nulls":11},298,48]
[{"$nulls":5},299,18,{"$nulls":11},299,48]
[{"$nulls":5},300,18,{"$nulls":11},300,48]
[{"$nulls":5},301,18,{"$nulls":11},301,49]
[{"$nulls":5},302,18,{"$nulls":11},302,49]
[{"$nulls":5},303,18,{"$nulls":11},303,49]
[{"$nulls":5},304,18,{"$nulls":11},304,49]
[{"$nulls":5},305,18,{"$nulls":11},305,49]
[{"$nulls":5},306,18,{"$nulls":11},306,49]
[{"$nulls":5},307,18,{"$nulls":11},307,49]
[{"$nulls":5},308,18,{"$nulls":11},308,49]
[{"$nulls":5},309,18,{"$nulls":11},309,49]
[{"$nulls":5},310,18,{"$nulls":11},310,49]
[{"$nulls":5},311,18,{"$nulls":11},311,50]
[{"$nulls":5},312,18,{"$nulls":11},312,50]
[{"$nulls":5},313,18,{"$nulls":11},313,50]
[{"$nulls":5},314,18,{"$nulls":11},314,50]
[{"$nulls":5},315,18,{"$nulls":11},315,50]
[{"$nulls":5},316,18,{"$nulls":11},316,50]
[{"$nulls":5},317,18,{"$nulls":11},317,50]
[{"$nulls":5},318,18,{"$nulls":11},318,50]
[{"$nulls":5},319,18,{"$nulls":11},319,50]
[{"$nulls":5},320,18,{"$nulls":11},320,50]
[{"$nulls":5},321,18,{"$nulls":11},321,51]
[{"$nulls":5},322,18,{"$nulls":11},322,51]
[{"$nulls":5},323,18,{"$nulls":11},323,51]
[{"$nulls":5},324,18,{"$nulls":11},324,51]
[{"$nulls":5},325,18,{"$nulls":11},325,51]
[{"$nulls":5},326,18,{"$nulls":11},326,51]
[{"$nulls":5},327,18,{"$nulls":11},327,51]
[{"$nulls":5},328,18,{"$nulls":11},328,51]
[{"$nulls":5},329,18,{"$nulls":11},329,51]
[{"$nulls":5},330,18,{"$nulls":11},330,51]
[{"$nulls":5},331,18,{"$nulls":11},331,52]
[{"$nulls":5},332,18,{"$nulls":11},332,52]
[{"$nulls":5},333,18,{"$nulls":11},333,52]
[{"$nulls":5},334,18,{"$nulls":11},334,52]
[{"$nulls":5},335,18,{"$nulls":11},335,52]
[{"$nulls":5},336,18,{"$nulls":11},336,52]
[{"$nulls":5},337,18,{"$nulls":11},337,52]
[{"$nulls":5},338,18,{"$nulls":11},338,52]
[{"$nulls":5},339,18,{"$nulls":11},339,52]
[{"$nulls":5},340,18,{"$nulls":11},340,52]
[{"$nulls":5},341,18,{"$nulls":11},341,53]
[{"$nulls":5},342,18,{"$nulls":11},342,53]
[{"$nulls":5},343,18,{"$nulls":11},343,53]
[{"$nulls":5},344,18,{"$nulls":11},344,53]
[{"$nulls":5},345,18,{"$nulls":11},345,53]
[{"$nulls":5},346,18,{"$nulls":11},346,53]
[{"$nulls":5},347,{"$f":"C$16","v":18},{"$nulls":11},347,53]
[{"$nulls":5},348,18,{"$nulls":11},348,53]
[{"$nulls":5},349,18,{"$nulls":11},349,53]
[{"$nulls":5},350,18,{"$nulls":11},350,53]
[{"$nulls":5},351,18,{"$nulls":11},351,54]
[{"$nulls":5},352,18,{"$nulls":11},352,54]
[{"$nulls":5},353,18,{"$nulls":11},353,54]
[{"$nulls":5},354,18,{"$nulls":11},354,54]
[{"$nulls":5},355,18,{"$nulls":11},355,54]
[{"$nulls":5},356,18,{"$nulls":11},356,54]
[{"$nulls":5},357,18,{"$nulls":11},357,54]
[{"$nulls":5},358,18,{"$nulls":11},358,54]
[{"$nulls":5},359,18,{"$nulls":11},359,54]
[{"$nulls":5},360,18,{"$nulls":11},360,54]
[{"$nulls":5},361,18,{"$nulls":11},361,55]
[{"$nulls":5},362,18,{"$nulls":11},362,55]
[{"$nulls":5},363,18,{"$nulls":11},363,55]
[{"$nulls":5},364,18,{"$nulls":11},364,55]
[{"$nulls":5},365,18,{"$nulls":11},365,55]
[{"$nulls":5},366,18,{"$nulls":11},366,55]
[{"$nulls":5},367,18,{"$nulls":11},367,55]
[{"$nulls":5},368,18,{"$nulls":11},368,55]
[{"$nulls":5},369,18,{"$nulls":11},369,55]
[{"$nulls":5},370,18,{"$nulls":11},370,55]
[{"$nulls":5},371,18,{"$nulls":11},371,56]
[{"$nulls":5},372,18,{"$nulls":11},372,56]
[{"$nulls":5},373,18,{"$nulls":11},373,56]
[{"$nulls":5},374,18,{"$nulls":11},374,56]
[{"$nulls":5},375,18,{"$nulls":11},375,56]
[{"$nulls":5},376,18,{"$nulls":11},376,56]
[{"$nulls":5},377,18,{"$nulls":11},377,56]
[{"$nulls":5},378,18,{"$nulls":11},378,56]
[{"$nulls":5},379,18,{"$nulls":11},379,56]
[{"$nulls":5},380,18,{"$nulls":11},380,56]
[{"$nulls":5},381,18,{"$nulls":11},381,57]
[{"$nulls":5},382,18,{"$nulls":11},382,57]
[{"$nulls":5},383,18,{"$nulls":11},383,57]
[{"$nulls":5},384,18,{"$nulls":11},384,57]
[{"$nulls":5},385,18,{"$nulls":11},385,57]
[{"$nulls":5},386,18,{"$nulls":11},386,57]
[{"$nulls":5},387,18,{"$nulls":11},387,57]
[{"$nulls":5},388,18,{"$nulls":11},388,57]
[{"$nulls":5},389,18,{"$nulls":11},389,57]
[{"$nulls":5},390,18,{"$nulls":11},390,57]
[{"$nulls":5},391,18,{"$nulls":11},391,58]
[{"$nulls":5},392,18,{"$nulls":11},392,58]
[{"$nulls":5},393,18,{"$nulls":11},393,58]
[{"$nulls":5},394,18,{"$nulls":11},394,58]
[{"$nulls":5},395,18,{"$nulls":11},395,58]
[{"$nulls":5},396,18,{"$nulls":11},396,58]
[{"$nulls":5},397,18,{"$nulls":11},397,58]
[{"$nulls":5},398,18,{"$nulls":11},398,58]
[{"$nulls":5},399,18,{"$nulls":11},399,58]
[{"$nulls":5},400,18,{"$nulls":11},400,58]
[{"$nulls":5},401,18,{"$nulls":11},401,59]
[{"$nulls":5},402,18,{"$nulls":11},402,59]
[{"$nulls":5},403,18,{"$nulls":11},403,59]
[{"$nulls":5},404,18,{"$nulls":11},404,59]
[{"$nulls":5},405,18,{"$nulls":11},405,59]
[{"$nulls":5},406,18,{"$nulls":11},406,59]
[{"$nulls":5},407,18,{"$nulls":11},407,59]
[{"$nulls":5},408,18,{"$nulls":11},408,59]
[{"$nulls":5},409,18,{"$nulls":11},409,59]
[{"$nulls":5},410,18,{"$nulls":11},410,59]
[{"$nulls":5},411,{"$f":"C$16","v":18},{"$nulls":11},411,60]
[{"$nulls":5},412,18,{"$nulls":11},412,60]
[{"$nulls":5},413,18,{"$nulls":11},413,60]
[{"$nulls":5},414,18,{"$nulls":11},414,60]
[{"$nulls":5},415,18,{"$nulls":11},415,60]
[{"$nulls":5},416,18,{"$nulls":11},416,60]
[{"$nulls":5},417,18,{"$nulls":11},417,60]
[{"$nulls":5},418,18,{"$nulls":11},418,60]
[{"$nulls":5},419,18,{"$nulls":11},419,60]
[{"$nulls":5},420,18,{"$nulls":11},420,60]

{"sheet":"Weights","index":18,"n_rows":20,"n_cols":9,"rows_kept":20,"hidden":true,"merged":[[0,2,0,7],[1,4,1,7],[7,2,7,7],[8,4,8,7],[14,2,14,7],[15,4,15,7]]}
[null,null,"Forest Health with Long-Term Timber Income"]
[{"$nulls":4},"Criterion"]
[null,null,"Development Stage",null,"Species Composition","Regeneration","Stand Density","Other Limitations"]
[null,null,"Stand Initiation",null,0.3,0.1,0.25,0.35,{"$f":"IF(SUM(E4:H4)<>0,SUM(E4:H4),\"\")","v":1}]
[null,null,"Stem Exclusion",null,0.4,0.1,0.25,0.25,{"$f":"IF(SUM(E5:H5)<>0,SUM(E5:H5),\"\")","v":1}]
[null,null,"Understory Re-initiation",null,0.25,0.25,0.25,0.25,1]
[]
[null,null,"Oak Restoration with Timber Income"]
[{"$nulls":4},"Criterion"]
[null,null,"Development Stage",null,"Species Composition","Regeneration","Stand Density","Other Limitations"]
[null,null,"Stand Initiation",null,0.3,0.1,0.3,0.3,{"$f":"IF(SUM(E11:H11)<>0,SUM(E11:H11),\"\")","v":1}]
[null,null,"Stem Exclusion",null,0.4,0.1,0.3,0.2,{"$f":"IF(SUM(E12:H12)<>0,SUM(E12:H12),\"\")","v":1}]
[null,null,"Understory Re-initiation",null,0.2,0.3,0.25,0.25,1]
[]
[null,null,"Sustainable Timber Income"]
[{"$nulls":4},"Criterion"]
[null,null,"Development Stage",null,"Species Composition","Regeneration","Stand Density","Other Limitations"]
[null,null,"Stand Initiation",null,0.3,0.1,0.3,0.3,{"$f":"IF(SUM(E18:H18)<>0,SUM(E18:H18),\"\")","v":1}]
[null,null,"Stem Exclusion",null,0.3,0.1,0.4,0.2,{"$f":"IF(SUM(E19:H19)<>0,SUM(E19:H19),\"\")","v":1}]
[null,null,"Understory Re-initiation",null,0.2,0.25,0.35,0.2,1]